BEGIN:VCALENDAR
VERSION:2.0
PRODID:-//Fakulta zdravotníctva a sociálnej práce sv. Ladislava, Nové Zámky - ECPv6.15.17//NONSGML v1.0//EN
CALSCALE:GREGORIAN
METHOD:PUBLISH
X-WR-CALNAME:Fakulta zdravotníctva a sociálnej práce sv. Ladislava, Nové Zámky
X-ORIGINAL-URL:https://fsvladislava.sk
X-WR-CALDESC:Udalosti pre Fakulta zdravotníctva a sociálnej práce sv. Ladislava, Nové Zámky
REFRESH-INTERVAL;VALUE=DURATION:PT1H
X-Robots-Tag:noindex
X-PUBLISHED-TTL:PT1H
BEGIN:VTIMEZONE
TZID:Europe/Bratislava
BEGIN:DAYLIGHT
TZOFFSETFROM:+0100
TZOFFSETTO:+0200
TZNAME:CEST
DTSTART:20240331T010000
END:DAYLIGHT
BEGIN:STANDARD
TZOFFSETFROM:+0200
TZOFFSETTO:+0100
TZNAME:CET
DTSTART:20241027T010000
END:STANDARD
BEGIN:DAYLIGHT
TZOFFSETFROM:+0100
TZOFFSETTO:+0200
TZNAME:CEST
DTSTART:20250330T010000
END:DAYLIGHT
BEGIN:STANDARD
TZOFFSETFROM:+0200
TZOFFSETTO:+0100
TZNAME:CET
DTSTART:20251026T010000
END:STANDARD
BEGIN:DAYLIGHT
TZOFFSETFROM:+0100
TZOFFSETTO:+0200
TZNAME:CEST
DTSTART:20260329T010000
END:DAYLIGHT
BEGIN:STANDARD
TZOFFSETFROM:+0200
TZOFFSETTO:+0100
TZNAME:CET
DTSTART:20261025T010000
END:STANDARD
END:VTIMEZONE
BEGIN:VEVENT
DTSTART;TZID=Europe/Bratislava:20250815T123000
DTEND;TZID=Europe/Bratislava:20250815T150000
DTSTAMP:20260426T035942
CREATED:20250806T093035Z
LAST-MODIFIED:20250806T122209Z
UID:47632-1755261000-1755270000@fsvladislava.sk
SUMMARY:UZS 3.r. Bc. - Kontrola záznamníkov odb. praxe\, zápis do indexov - Zasadačka
DESCRIPTION:UZS 3.r. Bc.  – Kontrola záznamníkov odb. praxe\, zápis do indexov – Mgr. Bc. R. Száz – Zasadačka
URL:https://fsvladislava.sk/rozvrh/uzs-3-r-bc-kontrola-zaznamnikov-odb-praxe-zapis-do-indexov-zasadacka/
LOCATION:FNsP NZ – Zasadačka
CATEGORIES:Fakulta,Odbor Urgentná zdravotná starostlivosť,UZS – 3. ročník Bc.
END:VEVENT
END:VCALENDAR