BEGIN:VCALENDAR
VERSION:2.0
PRODID:-//Fakulta zdravotníctva a sociálnej práce sv. Ladislava, Nové Zámky - ECPv6.15.17//NONSGML v1.0//EN
CALSCALE:GREGORIAN
METHOD:PUBLISH
X-WR-CALNAME:Fakulta zdravotníctva a sociálnej práce sv. Ladislava, Nové Zámky
X-ORIGINAL-URL:https://fsvladislava.sk
X-WR-CALDESC:Udalosti pre Fakulta zdravotníctva a sociálnej práce sv. Ladislava, Nové Zámky
REFRESH-INTERVAL;VALUE=DURATION:PT1H
X-Robots-Tag:noindex
X-PUBLISHED-TTL:PT1H
BEGIN:VTIMEZONE
TZID:Europe/Bratislava
BEGIN:DAYLIGHT
TZOFFSETFROM:+0100
TZOFFSETTO:+0200
TZNAME:CEST
DTSTART:20240331T010000
END:DAYLIGHT
BEGIN:STANDARD
TZOFFSETFROM:+0200
TZOFFSETTO:+0100
TZNAME:CET
DTSTART:20241027T010000
END:STANDARD
BEGIN:DAYLIGHT
TZOFFSETFROM:+0100
TZOFFSETTO:+0200
TZNAME:CEST
DTSTART:20250330T010000
END:DAYLIGHT
BEGIN:STANDARD
TZOFFSETFROM:+0200
TZOFFSETTO:+0100
TZNAME:CET
DTSTART:20251026T010000
END:STANDARD
BEGIN:DAYLIGHT
TZOFFSETFROM:+0100
TZOFFSETTO:+0200
TZNAME:CEST
DTSTART:20260329T010000
END:DAYLIGHT
BEGIN:STANDARD
TZOFFSETFROM:+0200
TZOFFSETTO:+0100
TZNAME:CET
DTSTART:20261025T010000
END:STANDARD
END:VTIMEZONE
BEGIN:VEVENT
DTSTART;TZID=Europe/Bratislava:20250916T073000
DTEND;TZID=Europe/Bratislava:20250916T073000
DTSTAMP:20260426T022903
CREATED:20250827T084450Z
LAST-MODIFIED:20250901T080828Z
UID:47703-1758007800-1758007800@fsvladislava.sk
SUMMARY:FNsP NZ - Školenie BOZP a PO - Zasadačka
DESCRIPTION:FNsP NZ – Školenie BOZP a PO – Zasadačka
URL:https://fsvladislava.sk/rozvrh/fnsp-nz-skolenie-bozp-a-po-zasadacka-10/
LOCATION:FNsP NZ – Zasadačka
CATEGORIES:FNsP NZ
END:VEVENT
BEGIN:VEVENT
DTSTART;TZID=Europe/Bratislava:20250916T083000
DTEND;TZID=Europe/Bratislava:20250916T100000
DTSTAMP:20260426T022903
CREATED:20240725T061042Z
LAST-MODIFIED:20240725T061042Z
UID:44865-1758011400-1758016800@fsvladislava.sk
SUMMARY:FNsP NZ - Operatívna porada vedúcich zamestnancov - Zasadačka
DESCRIPTION:FNsP NZ – Operatívna porada vedúcich zamestnancov – Zasadačka
URL:https://fsvladislava.sk/rozvrh/fnsp-nz-operativna-porada-veducich-zamestnancov-zasadacka-32/
LOCATION:FNsP NZ – Zasadačka
CATEGORIES:FNsP NZ
END:VEVENT
BEGIN:VEVENT
DTSTART;TZID=Europe/Bratislava:20250916T130000
DTEND;TZID=Europe/Bratislava:20250916T150000
DTSTAMP:20260426T022903
CREATED:20250910T110810Z
LAST-MODIFIED:20250910T110810Z
UID:47939-1758027600-1758034800@fsvladislava.sk
SUMMARY:FNsP NZ - Porada primárov - Zasadačka
DESCRIPTION:FNsP NZ – Porada primárov – Zasadačka
URL:https://fsvladislava.sk/rozvrh/fnsp-nz-porada-primarov-zasadacka/
LOCATION:FNsP NZ – Zasadačka
CATEGORIES:FNsP NZ
END:VEVENT
END:VCALENDAR