BEGIN:VCALENDAR
VERSION:2.0
PRODID:-//Fakulta zdravotníctva a sociálnej práce sv. Ladislava, Nové Zámky - ECPv6.15.17//NONSGML v1.0//EN
CALSCALE:GREGORIAN
METHOD:PUBLISH
X-ORIGINAL-URL:https://fsvladislava.sk
X-WR-CALDESC:Udalosti pre Fakulta zdravotníctva a sociálnej práce sv. Ladislava, Nové Zámky
REFRESH-INTERVAL;VALUE=DURATION:PT1H
X-Robots-Tag:noindex
X-PUBLISHED-TTL:PT1H
BEGIN:VTIMEZONE
TZID:Europe/Bratislava
BEGIN:DAYLIGHT
TZOFFSETFROM:+0100
TZOFFSETTO:+0200
TZNAME:CEST
DTSTART:20240331T010000
END:DAYLIGHT
BEGIN:STANDARD
TZOFFSETFROM:+0200
TZOFFSETTO:+0100
TZNAME:CET
DTSTART:20241027T010000
END:STANDARD
BEGIN:DAYLIGHT
TZOFFSETFROM:+0100
TZOFFSETTO:+0200
TZNAME:CEST
DTSTART:20250330T010000
END:DAYLIGHT
BEGIN:STANDARD
TZOFFSETFROM:+0200
TZOFFSETTO:+0100
TZNAME:CET
DTSTART:20251026T010000
END:STANDARD
BEGIN:DAYLIGHT
TZOFFSETFROM:+0100
TZOFFSETTO:+0200
TZNAME:CEST
DTSTART:20260329T010000
END:DAYLIGHT
BEGIN:STANDARD
TZOFFSETFROM:+0200
TZOFFSETTO:+0100
TZNAME:CET
DTSTART:20261025T010000
END:STANDARD
END:VTIMEZONE
BEGIN:VEVENT
DTSTART;TZID=Europe/Bratislava:20250918T070000
DTEND;TZID=Europe/Bratislava:20250918T150000
DTSTAMP:20260426T022914
CREATED:20250918T051153Z
LAST-MODIFIED:20250918T051153Z
UID:48180-1758178800-1758207600@fsvladislava.sk
SUMMARY:Fakulta sv. Ladislava - Pracovná porada - Zasadačka
DESCRIPTION:Fakulta sv. Ladislava – Pracovná porada – Zasadačka
URL:https://fsvladislava.sk/rozvrh/fakulta-sv-ladislava-pracovna-porada-zasadacka/
LOCATION:FNsP NZ – Zasadačka
CATEGORIES:Fakulta
END:VEVENT
BEGIN:VEVENT
DTSTART;TZID=Europe/Bratislava:20250918T093000
DTEND;TZID=Europe/Bratislava:20250918T150000
DTSTAMP:20260426T022914
CREATED:20250918T051113Z
LAST-MODIFIED:20250918T051212Z
UID:48178-1758187800-1758207600@fsvladislava.sk
SUMMARY:Fakulta sv. Ladislava - Pracovná porada - Kinosála
DESCRIPTION:Fakulta sv. Ladislava – Pracovná porada – Kinosála
URL:https://fsvladislava.sk/rozvrh/fakulta-sv-ladislava-pracovna-porada-kinosala/
LOCATION:FNsP NZ  – Kinosála
CATEGORIES:Fakulta
END:VEVENT
END:VCALENDAR