BEGIN:VCALENDAR
VERSION:2.0
PRODID:-//Fakulta zdravotníctva a sociálnej práce sv. Ladislava, Nové Zámky - ECPv6.15.17//NONSGML v1.0//EN
CALSCALE:GREGORIAN
METHOD:PUBLISH
X-ORIGINAL-URL:https://fsvladislava.sk
X-WR-CALDESC:Udalosti pre Fakulta zdravotníctva a sociálnej práce sv. Ladislava, Nové Zámky
REFRESH-INTERVAL;VALUE=DURATION:PT1H
X-Robots-Tag:noindex
X-PUBLISHED-TTL:PT1H
BEGIN:VTIMEZONE
TZID:Europe/Bratislava
BEGIN:DAYLIGHT
TZOFFSETFROM:+0100
TZOFFSETTO:+0200
TZNAME:CEST
DTSTART:20240331T010000
END:DAYLIGHT
BEGIN:STANDARD
TZOFFSETFROM:+0200
TZOFFSETTO:+0100
TZNAME:CET
DTSTART:20241027T010000
END:STANDARD
BEGIN:DAYLIGHT
TZOFFSETFROM:+0100
TZOFFSETTO:+0200
TZNAME:CEST
DTSTART:20250330T010000
END:DAYLIGHT
BEGIN:STANDARD
TZOFFSETFROM:+0200
TZOFFSETTO:+0100
TZNAME:CET
DTSTART:20251026T010000
END:STANDARD
BEGIN:DAYLIGHT
TZOFFSETFROM:+0100
TZOFFSETTO:+0200
TZNAME:CEST
DTSTART:20260329T010000
END:DAYLIGHT
BEGIN:STANDARD
TZOFFSETFROM:+0200
TZOFFSETTO:+0100
TZNAME:CET
DTSTART:20261025T010000
END:STANDARD
END:VTIMEZONE
BEGIN:VEVENT
DTSTART;TZID=Europe/Bratislava:20250927T080000
DTEND;TZID=Europe/Bratislava:20250927T080000
DTSTAMP:20260426T022913
CREATED:20240612T080756Z
LAST-MODIFIED:20250916T104202Z
UID:44658-1758960000-1758960000@fsvladislava.sk
SUMMARY:SP 1.r. Mgr. - Etika v SP - Zasadačka
DESCRIPTION:SP 1.r. Mgr. – Etika v SP – Dr. Moravík – Zasadačka
URL:https://fsvladislava.sk/rozvrh/sp-1-r-mgr-sk-etika-v-sp-zasadacka/
LOCATION:FNsP NZ – Zasadačka
CATEGORIES:Odbor Sociálna práca,SP - 1. ročník Mgr.
END:VEVENT
BEGIN:VEVENT
DTSTART;TZID=Europe/Bratislava:20250927T090000
DTEND;TZID=Europe/Bratislava:20250927T160000
DTSTAMP:20260426T022913
CREATED:20250701T190600Z
LAST-MODIFIED:20250718T061659Z
UID:47548-1758963600-1758988800@fsvladislava.sk
SUMMARY:OŠE 1.r. Bc. - OSE ZA/NZ - Kinosála
DESCRIPTION:OŠE 1.r. Bc. – OSE ZA/NZ – Kinosála
URL:https://fsvladislava.sk/rozvrh/ose-1-r-bc-ose-za-nz-kinosala/
LOCATION:FNsP NZ  – Kinosála
CATEGORIES:Odbor Ošetrovateľstvo,OŠE - 1. ročník Bc.
END:VEVENT
BEGIN:VEVENT
DTSTART;TZID=Europe/Bratislava:20250927T090000
DTEND;TZID=Europe/Bratislava:20250927T160000
DTSTAMP:20260426T022913
CREATED:20250701T190640Z
LAST-MODIFIED:20250718T061704Z
UID:47550-1758963600-1758988800@fsvladislava.sk
SUMMARY:OŠE 1.r. Mgr. - OSE ZA/NZ - Kinosála
DESCRIPTION:OŠE 1.r. Mgr. – OSE ZA/NZ – Kinosála
URL:https://fsvladislava.sk/rozvrh/ose-1-r-mgr-ose-za-nz-kinosala/
LOCATION:FNsP NZ  – Kinosála
CATEGORIES:Odbor Ošetrovateľstvo,OŠE - 1. ročník Mgr.
END:VEVENT
END:VCALENDAR