BEGIN:VCALENDAR
VERSION:2.0
PRODID:-//Fakulta zdravotníctva a sociálnej práce sv. Ladislava, Nové Zámky - ECPv6.15.17//NONSGML v1.0//EN
CALSCALE:GREGORIAN
METHOD:PUBLISH
X-ORIGINAL-URL:https://fsvladislava.sk
X-WR-CALDESC:Udalosti pre Fakulta zdravotníctva a sociálnej práce sv. Ladislava, Nové Zámky
REFRESH-INTERVAL;VALUE=DURATION:PT1H
X-Robots-Tag:noindex
X-PUBLISHED-TTL:PT1H
BEGIN:VTIMEZONE
TZID:Europe/Bratislava
BEGIN:DAYLIGHT
TZOFFSETFROM:+0100
TZOFFSETTO:+0200
TZNAME:CEST
DTSTART:20240331T010000
END:DAYLIGHT
BEGIN:STANDARD
TZOFFSETFROM:+0200
TZOFFSETTO:+0100
TZNAME:CET
DTSTART:20241027T010000
END:STANDARD
BEGIN:DAYLIGHT
TZOFFSETFROM:+0100
TZOFFSETTO:+0200
TZNAME:CEST
DTSTART:20250330T010000
END:DAYLIGHT
BEGIN:STANDARD
TZOFFSETFROM:+0200
TZOFFSETTO:+0100
TZNAME:CET
DTSTART:20251026T010000
END:STANDARD
BEGIN:DAYLIGHT
TZOFFSETFROM:+0100
TZOFFSETTO:+0200
TZNAME:CEST
DTSTART:20260329T010000
END:DAYLIGHT
BEGIN:STANDARD
TZOFFSETFROM:+0200
TZOFFSETTO:+0100
TZNAME:CET
DTSTART:20261025T010000
END:STANDARD
END:VTIMEZONE
BEGIN:VEVENT
DTSTART;TZID=Europe/Bratislava:20251002T070000
DTEND;TZID=Europe/Bratislava:20251002T180000
DTSTAMP:20260426T005346
CREATED:20250717T070139Z
LAST-MODIFIED:20250728T082205Z
UID:47595-1759388400-1759428000@fsvladislava.sk
SUMMARY:FNsP NZ - Konferencia - Zasadačka
DESCRIPTION:FNsP NZ – Konferencia – Zasadačka
URL:https://fsvladislava.sk/rozvrh/fnsp-nz-riaditelstvo-fnsp-nove-zamky-zasadacka/
LOCATION:FNsP NZ – Zasadačka
CATEGORIES:FNsP NZ
END:VEVENT
BEGIN:VEVENT
DTSTART;TZID=Europe/Bratislava:20251002T080000
DTEND;TZID=Europe/Bratislava:20251002T143000
DTSTAMP:20260426T005346
CREATED:20250909T115604Z
LAST-MODIFIED:20250909T115604Z
UID:47880-1759392000-1759415400@fsvladislava.sk
SUMMARY:OŠE 2.r. Mgr. - Manažment ošetrovateľstva I.  - Kinosála
DESCRIPTION:OŠE 2.r. Mgr. – Manažment ošetrovateľstva I. – Dr. Kollárová – Kinosála
URL:https://fsvladislava.sk/rozvrh/ose-2-r-mgr-manazment-osetrovatelstva-i-kinosala-3/
LOCATION:FNsP NZ  – Kinosála
CATEGORIES:Odbor Ošetrovateľstvo,OŠE - 2. ročník Mgr.
END:VEVENT
BEGIN:VEVENT
DTSTART;TZID=Europe/Bratislava:20251002T090000
DTEND;TZID=Europe/Bratislava:20251002T153000
DTSTAMP:20260426T005346
CREATED:20250910T052517Z
LAST-MODIFIED:20250910T052517Z
UID:47891-1759395600-1759419000@fsvladislava.sk
SUMMARY:PA 1.r. Bc. - Determinanty zdravia a výchova k zdraviu I. - Seminárna miestnosť
DESCRIPTION:PA 1.r. Bc. – Determinanty zdravia a výchova k zdraviu I. – prof. Matulníková – Seminárna miestnosť
URL:https://fsvladislava.sk/rozvrh/pa-1-r-bc-determinanty-zdravia-a-vychova-k-zdraviu-i-seminarna-miestnost/
LOCATION:FNsP NZ  – Seminárna miestnosť
CATEGORIES:Odbor Pôrodná asistencia,PA - 1. ročník Bc.
END:VEVENT
END:VCALENDAR