BEGIN:VCALENDAR
VERSION:2.0
PRODID:-//Fakulta zdravotníctva a sociálnej práce sv. Ladislava, Nové Zámky - ECPv6.15.17//NONSGML v1.0//EN
CALSCALE:GREGORIAN
METHOD:PUBLISH
X-ORIGINAL-URL:https://fsvladislava.sk
X-WR-CALDESC:Udalosti pre Fakulta zdravotníctva a sociálnej práce sv. Ladislava, Nové Zámky
REFRESH-INTERVAL;VALUE=DURATION:PT1H
X-Robots-Tag:noindex
X-PUBLISHED-TTL:PT1H
BEGIN:VTIMEZONE
TZID:Europe/Bratislava
BEGIN:DAYLIGHT
TZOFFSETFROM:+0100
TZOFFSETTO:+0200
TZNAME:CEST
DTSTART:20240331T010000
END:DAYLIGHT
BEGIN:STANDARD
TZOFFSETFROM:+0200
TZOFFSETTO:+0100
TZNAME:CET
DTSTART:20241027T010000
END:STANDARD
BEGIN:DAYLIGHT
TZOFFSETFROM:+0100
TZOFFSETTO:+0200
TZNAME:CEST
DTSTART:20250330T010000
END:DAYLIGHT
BEGIN:STANDARD
TZOFFSETFROM:+0200
TZOFFSETTO:+0100
TZNAME:CET
DTSTART:20251026T010000
END:STANDARD
BEGIN:DAYLIGHT
TZOFFSETFROM:+0100
TZOFFSETTO:+0200
TZNAME:CEST
DTSTART:20260329T010000
END:DAYLIGHT
BEGIN:STANDARD
TZOFFSETFROM:+0200
TZOFFSETTO:+0100
TZNAME:CET
DTSTART:20261025T010000
END:STANDARD
END:VTIMEZONE
BEGIN:VEVENT
DTSTART;TZID=Europe/Bratislava:20251008T073000
DTEND;TZID=Europe/Bratislava:20251008T090000
DTSTAMP:20260426T005345
CREATED:20250912T102932Z
LAST-MODIFIED:20250912T102932Z
UID:48026-1759908600-1759914000@fsvladislava.sk
SUMMARY:OŠE 2.r.\, 1.r.  Bc.\, PA 3.r. - FZaSP BOZP a HER školenie   - Kinosála
DESCRIPTION:OŠE 2.r.\, 1.r.  Bc.\, PA 3.r.  – FZaSP BOZP a HER školenie – Kinosála
URL:https://fsvladislava.sk/rozvrh/ose-2-r-1-r-bc-pa-3-r-fzasp-bozp-a-her-skolenie-kinosala/
LOCATION:FNsP NZ  – Kinosála
CATEGORIES:Odbor Ošetrovateľstvo,Odbor Pôrodná asistencia,OŠE - 1. ročník Bc.,OŠE - 2. ročník Bc.,PA - 3. ročník Bc.
END:VEVENT
BEGIN:VEVENT
DTSTART;TZID=Europe/Bratislava:20251008T080000
DTEND;TZID=Europe/Bratislava:20251008T090000
DTSTAMP:20260426T005345
CREATED:20241204T115747Z
LAST-MODIFIED:20241204T115747Z
UID:46273-1759910400-1759914000@fsvladislava.sk
SUMMARY:FNsP NZ - Školenie HER - Zasadačka
DESCRIPTION:FNsP NZ – Školenie HER – Zasadačka
URL:https://fsvladislava.sk/rozvrh/fnsp-nz-skolenie-her-zasadacka-25/
LOCATION:FNsP NZ – Zasadačka
CATEGORIES:FNsP NZ
END:VEVENT
BEGIN:VEVENT
DTSTART;TZID=Europe/Bratislava:20251008T090000
DTEND;TZID=Europe/Bratislava:20251008T153000
DTSTAMP:20260426T005345
CREATED:20250822T042443Z
LAST-MODIFIED:20250822T042443Z
UID:47674-1759914000-1759937400@fsvladislava.sk
SUMMARY:PA 3.r. Bc. - Prim. star. v kultúrnom kontexte o ženu\, dieťa a rodinu I. - Zasadačka
DESCRIPTION:PA 3.r. Bc. – Prim. star. v kultúrnom kontexte o ženu\, dieťa a rodinu I. – Mgr. Dorazilová PhD. – Zasadačka
URL:https://fsvladislava.sk/rozvrh/pa-3-r-bc-prim-star-v-kulturnom-kontexte-o-zenu-dieta-a-rodinu-i-zasadacka-2/
LOCATION:FNsP NZ – Zasadačka
CATEGORIES:Odbor Pôrodná asistencia,PA - 3. ročník Bc.
END:VEVENT
BEGIN:VEVENT
DTSTART;TZID=Europe/Bratislava:20251008T090000
DTEND;TZID=Europe/Bratislava:20251008T163000
DTSTAMP:20260426T005345
CREATED:20250901T062300Z
LAST-MODIFIED:20250912T103022Z
UID:47724-1759914000-1759941000@fsvladislava.sk
SUMMARY:OŠE 3.r. Bc. - Pedagogika v ošetrovateľstve  - Kinosála
DESCRIPTION:OŠE 3.r. Bc.  – Pedagogika v ošetrovateľstve  – Kinosála
URL:https://fsvladislava.sk/rozvrh/ose-3-r-bc-prednaska-kinosala-9/
LOCATION:FNsP NZ  – Kinosála
CATEGORIES:Odbor Ošetrovateľstvo,OŠE - 3. ročník Bc.
END:VEVENT
BEGIN:VEVENT
DTSTART;TZID=Europe/Bratislava:20251008T090000
DTEND;TZID=Europe/Bratislava:20251008T163000
DTSTAMP:20260426T005345
CREATED:20250912T102709Z
LAST-MODIFIED:20250912T102709Z
UID:48024-1759914000-1759941000@fsvladislava.sk
SUMMARY:OŠE 3.r. Bc. - Pedagogika v ošetrovateľstve  - Kinosála
DESCRIPTION:OŠE 3.r. Bc.  – Pedagogika v ošetrovateľstve  – Kinosála
URL:https://fsvladislava.sk/rozvrh/ose-3-r-bc-pedagogika-v-osetrovatelstve-kinosala-2/
LOCATION:FNsP NZ  – Kinosála
CATEGORIES:Odbor Ošetrovateľstvo,OŠE - 3. ročník Bc.
END:VEVENT
END:VCALENDAR