BEGIN:VCALENDAR
VERSION:2.0
PRODID:-//Fakulta zdravotníctva a sociálnej práce sv. Ladislava, Nové Zámky - ECPv6.15.17//NONSGML v1.0//EN
CALSCALE:GREGORIAN
METHOD:PUBLISH
X-ORIGINAL-URL:https://fsvladislava.sk
X-WR-CALDESC:Udalosti pre Fakulta zdravotníctva a sociálnej práce sv. Ladislava, Nové Zámky
REFRESH-INTERVAL;VALUE=DURATION:PT1H
X-Robots-Tag:noindex
X-PUBLISHED-TTL:PT1H
BEGIN:VTIMEZONE
TZID:Europe/Bratislava
BEGIN:DAYLIGHT
TZOFFSETFROM:+0100
TZOFFSETTO:+0200
TZNAME:CEST
DTSTART:20240331T010000
END:DAYLIGHT
BEGIN:STANDARD
TZOFFSETFROM:+0200
TZOFFSETTO:+0100
TZNAME:CET
DTSTART:20241027T010000
END:STANDARD
BEGIN:DAYLIGHT
TZOFFSETFROM:+0100
TZOFFSETTO:+0200
TZNAME:CEST
DTSTART:20250330T010000
END:DAYLIGHT
BEGIN:STANDARD
TZOFFSETFROM:+0200
TZOFFSETTO:+0100
TZNAME:CET
DTSTART:20251026T010000
END:STANDARD
BEGIN:DAYLIGHT
TZOFFSETFROM:+0100
TZOFFSETTO:+0200
TZNAME:CEST
DTSTART:20260329T010000
END:DAYLIGHT
BEGIN:STANDARD
TZOFFSETFROM:+0200
TZOFFSETTO:+0100
TZNAME:CET
DTSTART:20261025T010000
END:STANDARD
END:VTIMEZONE
BEGIN:VEVENT
DTSTART;TZID=Europe/Bratislava:20251009T080000
DTEND;TZID=Europe/Bratislava:20251009T100000
DTSTAMP:20260426T005353
CREATED:20251002T122036Z
LAST-MODIFIED:20251002T122036Z
UID:48303-1759996800-1760004000@fsvladislava.sk
SUMMARY:PA 3.r. Bc. - Prim. star. v kultúrnom kontexte o ženu\, dieťa a rodinu I. - Seminárna miestnosť
DESCRIPTION:PA 3.r. Bc. – Prim. star. v kultúrnom kontexte o ženu\, dieťa a rodinu I. – Mgr. Dorazilová PhD. – Seminárna miestnosť
URL:https://fsvladislava.sk/rozvrh/pa-3-r-bc-prim-star-v-kulturnom-kontexte-o-zenu-dieta-a-rodinu-i-seminarna-miestnost/
LOCATION:FNsP NZ  – Seminárna miestnosť
CATEGORIES:Odbor Pôrodná asistencia,PA - 3. ročník Bc.
END:VEVENT
BEGIN:VEVENT
DTSTART;TZID=Europe/Bratislava:20251009T080000
DTEND;TZID=Europe/Bratislava:20251009T150000
DTSTAMP:20260426T005353
CREATED:20240905T075208Z
LAST-MODIFIED:20250922T052354Z
UID:45069-1759996800-1760022000@fsvladislava.sk
SUMMARY:OŠE 3.r. Bc. - Oše. v neurológii - Kinosála
DESCRIPTION:OŠE 3.r. Bc.  – Oše. v neurológii – Dr. Cibulová – Kinosála
URL:https://fsvladislava.sk/rozvrh/ose-3-r-bc-prednaska-kinosala-5/
LOCATION:FNsP NZ  – Kinosála
CATEGORIES:Odbor Ošetrovateľstvo,OŠE - 3. ročník Bc.
END:VEVENT
BEGIN:VEVENT
DTSTART;TZID=Europe/Bratislava:20251009T084500
DTEND;TZID=Europe/Bratislava:20251009T100000
DTSTAMP:20260426T005353
CREATED:20250926T072524Z
LAST-MODIFIED:20251002T121759Z
UID:48246-1759999500-1760004000@fsvladislava.sk
SUMMARY:FNsP NZ - Rada kvality - Zasadačka
DESCRIPTION:FNsP NZ – Rada kvality – Zasadačka
URL:https://fsvladislava.sk/rozvrh/fnsp-nz-rada-kvality-zasadacka-4/
LOCATION:FNsP NZ – Zasadačka
CATEGORIES:FNsP NZ
END:VEVENT
BEGIN:VEVENT
DTSTART;TZID=Europe/Bratislava:20251009T100000
DTEND;TZID=Europe/Bratislava:20251009T153000
DTSTAMP:20260426T005353
CREATED:20250822T042423Z
LAST-MODIFIED:20251002T121659Z
UID:47672-1760004000-1760023800@fsvladislava.sk
SUMMARY:PA 3.r. Bc. - Prim. star. v kultúrnom kontexte o ženu\, dieťa a rodinu I. - Zasadačka
DESCRIPTION:PA 3.r. Bc. – Prim. star. v kultúrnom kontexte o ženu\, dieťa a rodinu I. – Mgr. Dorazilová PhD. – Zasadačka
URL:https://fsvladislava.sk/rozvrh/pa-3-r-bc-prim-star-v-kulturnom-kontexte-o-zenu-dieta-a-rodinu-i-zasadacka/
LOCATION:FNsP NZ – Zasadačka
CATEGORIES:Odbor Pôrodná asistencia,PA - 3. ročník Bc.
END:VEVENT
BEGIN:VEVENT
DTSTART;TZID=Europe/Bratislava:20251009T110000
DTEND;TZID=Europe/Bratislava:20251009T180000
DTSTAMP:20260426T005353
CREATED:20250916T100438Z
LAST-MODIFIED:20250916T100438Z
UID:48071-1760007600-1760032800@fsvladislava.sk
SUMMARY:PA 1.r. Bc. - Ošetrovateľské techniky - učebňa PA 2. posch.
DESCRIPTION:PA 1.r. Bc. – Ošetrovateľské techniky – PhDr. Bc. Bednáriková\, PhD.  univ. doc. – učebňa PA 2. posch.
URL:https://fsvladislava.sk/rozvrh/pa-1-r-bc-osetrovatelske-techniky-ucebna-pa-2-posch-2/
LOCATION:FNsP NZ – učebňa PA 2. posch.
CATEGORIES:Odbor Pôrodná asistencia,PA - 1. ročník Bc.
END:VEVENT
END:VCALENDAR