BEGIN:VCALENDAR
VERSION:2.0
PRODID:-//Fakulta zdravotníctva a sociálnej práce sv. Ladislava, Nové Zámky - ECPv6.15.17//NONSGML v1.0//EN
CALSCALE:GREGORIAN
METHOD:PUBLISH
X-ORIGINAL-URL:https://fsvladislava.sk
X-WR-CALDESC:Udalosti pre Fakulta zdravotníctva a sociálnej práce sv. Ladislava, Nové Zámky
REFRESH-INTERVAL;VALUE=DURATION:PT1H
X-Robots-Tag:noindex
X-PUBLISHED-TTL:PT1H
BEGIN:VTIMEZONE
TZID:Europe/Bratislava
BEGIN:DAYLIGHT
TZOFFSETFROM:+0100
TZOFFSETTO:+0200
TZNAME:CEST
DTSTART:20240331T010000
END:DAYLIGHT
BEGIN:STANDARD
TZOFFSETFROM:+0200
TZOFFSETTO:+0100
TZNAME:CET
DTSTART:20241027T010000
END:STANDARD
BEGIN:DAYLIGHT
TZOFFSETFROM:+0100
TZOFFSETTO:+0200
TZNAME:CEST
DTSTART:20250330T010000
END:DAYLIGHT
BEGIN:STANDARD
TZOFFSETFROM:+0200
TZOFFSETTO:+0100
TZNAME:CET
DTSTART:20251026T010000
END:STANDARD
BEGIN:DAYLIGHT
TZOFFSETFROM:+0100
TZOFFSETTO:+0200
TZNAME:CEST
DTSTART:20260329T010000
END:DAYLIGHT
BEGIN:STANDARD
TZOFFSETFROM:+0200
TZOFFSETTO:+0100
TZNAME:CET
DTSTART:20261025T010000
END:STANDARD
END:VTIMEZONE
BEGIN:VEVENT
DTSTART;TZID=Europe/Bratislava:20251010T100000
DTEND;TZID=Europe/Bratislava:20251010T160000
DTSTAMP:20260426T005345
CREATED:20230912T053814Z
LAST-MODIFIED:20250918T124422Z
UID:40819-1760090400-1760112000@fsvladislava.sk
SUMMARY:OŠE 2.r. Bc. - Profesijná etika - Kinosála
DESCRIPTION:OŠE 2.r. Bc. – Profesijná etika – Mgr. Samuelová – Kinosála
URL:https://fsvladislava.sk/rozvrh/ose-2-r-bc-profesijna-etika-kinosala/
LOCATION:FNsP NZ  – Kinosála
CATEGORIES:Odbor Ošetrovateľstvo,OŠE - 2. ročník Bc.
END:VEVENT
BEGIN:VEVENT
DTSTART;TZID=Europe/Bratislava:20251010T140000
DTEND;TZID=Europe/Bratislava:20251010T180000
DTSTAMP:20260426T005345
CREATED:20250923T110123Z
LAST-MODIFIED:20250923T110123Z
UID:48211-1760104800-1760119200@fsvladislava.sk
SUMMARY:PA 1.r. Bc. - Ošetrovateľské techniky - SZŠ EK - Modrý dom
DESCRIPTION:PA 1.r. Bc. – Ošetrovateľské techniky – Dr. Molnárová – SZŠ EK – Modrý dom
URL:https://fsvladislava.sk/rozvrh/pa-1-r-bc-osetrovatelske-techniky-szs-ek-modry-dom/
LOCATION:SZŠ EK – Modrý dom
CATEGORIES:Odbor Pôrodná asistencia,PA - 1. ročník Bc.
END:VEVENT
BEGIN:VEVENT
DTSTART;TZID=Europe/Bratislava:20251010T160000
DTEND;TZID=Europe/Bratislava:20251010T160000
DTSTAMP:20260426T005345
CREATED:20251002T115642Z
LAST-MODIFIED:20251002T115642Z
UID:48299-1760112000-1760112000@fsvladislava.sk
SUMMARY:SP 1.r. Mgr. - Manažment katastrof a psychosociálna pomoc - Webex
DESCRIPTION:SP 1.r. Mgr. – Manažment katastrof a psychosociálna pomoc – doc. Páleníková  – Webex
URL:https://fsvladislava.sk/rozvrh/sp-1-r-mgr-manazment-katastrof-a-psychosocialna-pomoc-webex/
LOCATION:Online – Webex
CATEGORIES:Odbor Sociálna práca,SP - 1. ročník Mgr.
END:VEVENT
END:VCALENDAR