BEGIN:VCALENDAR
VERSION:2.0
PRODID:-//Fakulta zdravotníctva a sociálnej práce sv. Ladislava, Nové Zámky - ECPv6.15.17//NONSGML v1.0//EN
CALSCALE:GREGORIAN
METHOD:PUBLISH
X-WR-CALNAME:Fakulta zdravotníctva a sociálnej práce sv. Ladislava, Nové Zámky
X-ORIGINAL-URL:https://fsvladislava.sk
X-WR-CALDESC:Udalosti pre Fakulta zdravotníctva a sociálnej práce sv. Ladislava, Nové Zámky
REFRESH-INTERVAL;VALUE=DURATION:PT1H
X-Robots-Tag:noindex
X-PUBLISHED-TTL:PT1H
BEGIN:VTIMEZONE
TZID:Europe/Bratislava
BEGIN:DAYLIGHT
TZOFFSETFROM:+0100
TZOFFSETTO:+0200
TZNAME:CEST
DTSTART:20240331T010000
END:DAYLIGHT
BEGIN:STANDARD
TZOFFSETFROM:+0200
TZOFFSETTO:+0100
TZNAME:CET
DTSTART:20241027T010000
END:STANDARD
BEGIN:DAYLIGHT
TZOFFSETFROM:+0100
TZOFFSETTO:+0200
TZNAME:CEST
DTSTART:20250330T010000
END:DAYLIGHT
BEGIN:STANDARD
TZOFFSETFROM:+0200
TZOFFSETTO:+0100
TZNAME:CET
DTSTART:20251026T010000
END:STANDARD
BEGIN:DAYLIGHT
TZOFFSETFROM:+0100
TZOFFSETTO:+0200
TZNAME:CEST
DTSTART:20260329T010000
END:DAYLIGHT
BEGIN:STANDARD
TZOFFSETFROM:+0200
TZOFFSETTO:+0100
TZNAME:CET
DTSTART:20261025T010000
END:STANDARD
END:VTIMEZONE
BEGIN:VEVENT
DTSTART;TZID=Europe/Bratislava:20251013T080000
DTEND;TZID=Europe/Bratislava:20251013T090000
DTSTAMP:20260426T005328
CREATED:20250806T073603Z
LAST-MODIFIED:20250929T120928Z
UID:47630-1760342400-1760346000@fsvladislava.sk
SUMMARY:FNsP NZ - BOZP - Zasadačka
DESCRIPTION:FNsP NZ – BOZP – Zasadačka
URL:https://fsvladislava.sk/rozvrh/fnsp-nz-bozp-zasadacka-8/
LOCATION:FNsP NZ – Zasadačka
CATEGORIES:FNsP NZ
END:VEVENT
BEGIN:VEVENT
DTSTART;TZID=Europe/Bratislava:20251013T080000
DTEND;TZID=Europe/Bratislava:20251013T140000
DTSTAMP:20260426T005328
CREATED:20240918T062602Z
LAST-MODIFIED:20251001T060730Z
UID:45248-1760342400-1760364000@fsvladislava.sk
SUMMARY:PA 2.r. Bc. - Gynekológia II. - Webex
DESCRIPTION:PA 2.r. Bc. – Gynekológia II. – Dr. Resutíková – Online – Webex
URL:https://fsvladislava.sk/rozvrh/pa-2-r-bc-gynekologia-ii-zasadacka-8/
LOCATION:Online – Webex
CATEGORIES:Odbor Pôrodná asistencia,PA - 2. ročník Bc.
END:VEVENT
BEGIN:VEVENT
DTSTART;TZID=Europe/Bratislava:20251013T090000
DTEND;TZID=Europe/Bratislava:20251013T153000
DTSTAMP:20260426T005328
CREATED:20250910T052606Z
LAST-MODIFIED:20250910T052606Z
UID:47893-1760346000-1760369400@fsvladislava.sk
SUMMARY:PA 1.r. Bc. - Determinanty zdravia a výchova k zdraviu I. - Zasadačka
DESCRIPTION:PA 1.r. Bc. – Determinanty zdravia a výchova k zdraviu I. – prof. Matulníková – Zasadačka
URL:https://fsvladislava.sk/rozvrh/pa-1-r-bc-determinanty-zdravia-a-vychova-k-zdraviu-i-zasadacka-5/
LOCATION:FNsP NZ – Zasadačka
CATEGORIES:Odbor Pôrodná asistencia,PA - 1. ročník Bc.
END:VEVENT
BEGIN:VEVENT
DTSTART;TZID=Europe/Bratislava:20251013T100000
DTEND;TZID=Europe/Bratislava:20251013T160000
DTSTAMP:20260426T005328
CREATED:20250901T062325Z
LAST-MODIFIED:20250917T115921Z
UID:47728-1760349600-1760371200@fsvladislava.sk
SUMMARY:OŠE 3.r. Bc. - Oše v internej medicíne II. - Kinosála
DESCRIPTION:OŠE 3.r. Bc.  – Oše v internej medicíne II. – Dr. Sebestyénová – Kinosála
URL:https://fsvladislava.sk/rozvrh/ose-3-r-bc-prednaska-kinosala-11/
LOCATION:FNsP NZ  – Kinosála
CATEGORIES:Odbor Ošetrovateľstvo,OŠE - 3. ročník Bc.
END:VEVENT
BEGIN:VEVENT
DTSTART;TZID=Europe/Bratislava:20251013T160000
DTEND;TZID=Europe/Bratislava:20251013T190000
DTSTAMP:20260426T005328
CREATED:20250923T051536Z
LAST-MODIFIED:20250923T051536Z
UID:48207-1760371200-1760382000@fsvladislava.sk
SUMMARY:PA 2.r. Bc. - CJ-ANJ III. - ZOOM
DESCRIPTION:PA 2.r. Bc. – CJ-ANJ III. – dr. Sádovská  – Online-ZOOM
URL:https://fsvladislava.sk/rozvrh/pa-2-r-bc-cj-anj-iii-zoom/
LOCATION:Online – Zoom
CATEGORIES:Odbor Pôrodná asistencia,PA - 2. ročník Bc.
END:VEVENT
END:VCALENDAR