BEGIN:VCALENDAR
VERSION:2.0
PRODID:-//Fakulta zdravotníctva a sociálnej práce sv. Ladislava, Nové Zámky - ECPv6.15.17//NONSGML v1.0//EN
CALSCALE:GREGORIAN
METHOD:PUBLISH
X-WR-CALNAME:Fakulta zdravotníctva a sociálnej práce sv. Ladislava, Nové Zámky
X-ORIGINAL-URL:https://fsvladislava.sk
X-WR-CALDESC:Udalosti pre Fakulta zdravotníctva a sociálnej práce sv. Ladislava, Nové Zámky
REFRESH-INTERVAL;VALUE=DURATION:PT1H
X-Robots-Tag:noindex
X-PUBLISHED-TTL:PT1H
BEGIN:VTIMEZONE
TZID:Europe/Bratislava
BEGIN:DAYLIGHT
TZOFFSETFROM:+0100
TZOFFSETTO:+0200
TZNAME:CEST
DTSTART:20240331T010000
END:DAYLIGHT
BEGIN:STANDARD
TZOFFSETFROM:+0200
TZOFFSETTO:+0100
TZNAME:CET
DTSTART:20241027T010000
END:STANDARD
BEGIN:DAYLIGHT
TZOFFSETFROM:+0100
TZOFFSETTO:+0200
TZNAME:CEST
DTSTART:20250330T010000
END:DAYLIGHT
BEGIN:STANDARD
TZOFFSETFROM:+0200
TZOFFSETTO:+0100
TZNAME:CET
DTSTART:20251026T010000
END:STANDARD
BEGIN:DAYLIGHT
TZOFFSETFROM:+0100
TZOFFSETTO:+0200
TZNAME:CEST
DTSTART:20260329T010000
END:DAYLIGHT
BEGIN:STANDARD
TZOFFSETFROM:+0200
TZOFFSETTO:+0100
TZNAME:CET
DTSTART:20261025T010000
END:STANDARD
END:VTIMEZONE
BEGIN:VEVENT
DTSTART;TZID=Europe/Bratislava:20251016T080000
DTEND;TZID=Europe/Bratislava:20251016T140000
DTSTAMP:20260426T005329
CREATED:20251007T060336Z
LAST-MODIFIED:20251008T113401Z
UID:48326-1760601600-1760623200@fsvladislava.sk
SUMMARY:Fakulta sv. Ladislava - SZŠ - Kinosála
DESCRIPTION:Fakulta sv. Ladislava – SZŠ – doc. Otrubová – Kinosála
URL:https://fsvladislava.sk/rozvrh/fakulta-sv-ladislava-szs-kinosala-5/
LOCATION:FNsP NZ  – Kinosála
CATEGORIES:Fakulta
END:VEVENT
BEGIN:VEVENT
DTSTART;TZID=Europe/Bratislava:20251016T080000
DTEND;TZID=Europe/Bratislava:20251016T200000
DTSTAMP:20260426T005329
CREATED:20250926T082015Z
LAST-MODIFIED:20251016T053945Z
UID:48252-1760601600-1760644800@fsvladislava.sk
SUMMARY:FNsP NZ - Riaditeľ - Zasadačka
DESCRIPTION:FNsP NZ – Riaditeľ – Zasadačka
URL:https://fsvladislava.sk/rozvrh/fnsp-nz-ranajky-s-riaditelom-zasadacka-2/
LOCATION:FNsP NZ – Zasadačka
CATEGORIES:FNsP NZ
END:VEVENT
BEGIN:VEVENT
DTSTART;TZID=Europe/Bratislava:20251016T110000
DTEND;TZID=Europe/Bratislava:20251016T180000
DTSTAMP:20260426T005329
CREATED:20250916T100449Z
LAST-MODIFIED:20250916T100449Z
UID:48073-1760612400-1760637600@fsvladislava.sk
SUMMARY:PA 1.r. Bc. - Ošetrovateľské techniky - učebňa PA 2. posch.
DESCRIPTION:PA 1.r. Bc. – Ošetrovateľské techniky – PhDr. Bc. Bednáriková\, PhD.  univ. doc. – učebňa PA 2. posch.
URL:https://fsvladislava.sk/rozvrh/pa-1-r-bc-osetrovatelske-techniky-ucebna-pa-2-posch-3/
LOCATION:FNsP NZ – učebňa PA 2. posch.
CATEGORIES:Odbor Pôrodná asistencia,PA - 1. ročník Bc.
END:VEVENT
END:VCALENDAR