BEGIN:VCALENDAR
VERSION:2.0
PRODID:-//Fakulta zdravotníctva a sociálnej práce sv. Ladislava, Nové Zámky - ECPv6.15.17//NONSGML v1.0//EN
CALSCALE:GREGORIAN
METHOD:PUBLISH
X-ORIGINAL-URL:https://fsvladislava.sk
X-WR-CALDESC:Udalosti pre Fakulta zdravotníctva a sociálnej práce sv. Ladislava, Nové Zámky
REFRESH-INTERVAL;VALUE=DURATION:PT1H
X-Robots-Tag:noindex
X-PUBLISHED-TTL:PT1H
BEGIN:VTIMEZONE
TZID:Europe/Bratislava
BEGIN:DAYLIGHT
TZOFFSETFROM:+0100
TZOFFSETTO:+0200
TZNAME:CEST
DTSTART:20240331T010000
END:DAYLIGHT
BEGIN:STANDARD
TZOFFSETFROM:+0200
TZOFFSETTO:+0100
TZNAME:CET
DTSTART:20241027T010000
END:STANDARD
BEGIN:DAYLIGHT
TZOFFSETFROM:+0100
TZOFFSETTO:+0200
TZNAME:CEST
DTSTART:20250330T010000
END:DAYLIGHT
BEGIN:STANDARD
TZOFFSETFROM:+0200
TZOFFSETTO:+0100
TZNAME:CET
DTSTART:20251026T010000
END:STANDARD
BEGIN:DAYLIGHT
TZOFFSETFROM:+0100
TZOFFSETTO:+0200
TZNAME:CEST
DTSTART:20260329T010000
END:DAYLIGHT
BEGIN:STANDARD
TZOFFSETFROM:+0200
TZOFFSETTO:+0100
TZNAME:CET
DTSTART:20261025T010000
END:STANDARD
END:VTIMEZONE
BEGIN:VEVENT
DTSTART;TZID=Europe/Bratislava:20251017T064500
DTEND;TZID=Europe/Bratislava:20251017T093000
DTSTAMP:20260426T005328
CREATED:20250930T055809Z
LAST-MODIFIED:20251003T115112Z
UID:48263-1760683500-1760693400@fsvladislava.sk
SUMMARY:FNsP NZ - Raňajky s riaditeľom - Zasadačka
DESCRIPTION:FNsP NZ – Raňajky s riaditeľom  – Zasadačka
URL:https://fsvladislava.sk/rozvrh/fnsp-nz-ranajky-s-riaditelom-zasadacka/
LOCATION:FNsP NZ – Zasadačka
CATEGORIES:FNsP NZ
END:VEVENT
BEGIN:VEVENT
DTSTART;TZID=Europe/Bratislava:20251017T080000
DTEND;TZID=Europe/Bratislava:20251017T120000
DTSTAMP:20260426T005328
CREATED:20240919T060727Z
LAST-MODIFIED:20250917T054208Z
UID:45291-1760688000-1760702400@fsvladislava.sk
SUMMARY:OŠE / PA 1.r. Bc. - ANF  I.  - Kinosála
DESCRIPTION:OŠE / PA 1.r. Bc. –  ANF I. – Dr. Kocsis – Kinosála
URL:https://fsvladislava.sk/rozvrh/ose-pa-1-r-bc-zdravotnicka-terminologia-szs-ek-nz-uc-114-4/
LOCATION:FNsP NZ  – Kinosála
CATEGORIES:Odbor Ošetrovateľstvo,Odbor Pôrodná asistencia,OŠE - 1. ročník Bc.,PA - 1. ročník Bc.
END:VEVENT
BEGIN:VEVENT
DTSTART;TZID=Europe/Bratislava:20251017T120000
DTEND;TZID=Europe/Bratislava:20251017T120000
DTSTAMP:20260426T005328
CREATED:20230119T112851Z
LAST-MODIFIED:20250916T104931Z
UID:39050-1760702400-1760702400@fsvladislava.sk
SUMMARY:SP 2.r. Bc. - Projektovanie v SP - Kinosála
DESCRIPTION:SP 2.r. Bc. – Projektovanie v SP – Dr. Buzalová – Kinosála
URL:https://fsvladislava.sk/rozvrh/sp-2-r-bc-sp-vyssieho-veku-kinosala/
LOCATION:FNsP NZ  – Kinosála
CATEGORIES:Odbor Sociálna práca,SP - 2. ročník Bc.
END:VEVENT
BEGIN:VEVENT
DTSTART;TZID=Europe/Bratislava:20251017T120000
DTEND;TZID=Europe/Bratislava:20251017T120000
DTSTAMP:20260426T005328
CREATED:20231023T062301Z
LAST-MODIFIED:20250916T105410Z
UID:41712-1760702400-1760702400@fsvladislava.sk
SUMMARY:SP 3.r. Bc. - Sociálna prevencia - Zasadačka
DESCRIPTION:SP 3.r. Bc. – Sociálna prevencia – doc. Ludvigh Cintulová – Zasadačka
URL:https://fsvladislava.sk/rozvrh/sp-3-r-bc-socialna-prevencia-elix/
LOCATION:FNsP NZ – Zasadačka
CATEGORIES:Odbor Sociálna práca,SP - 3. ročník Bc.
END:VEVENT
END:VCALENDAR