BEGIN:VCALENDAR
VERSION:2.0
PRODID:-//Fakulta zdravotníctva a sociálnej práce sv. Ladislava, Nové Zámky - ECPv6.15.17//NONSGML v1.0//EN
CALSCALE:GREGORIAN
METHOD:PUBLISH
X-WR-CALNAME:Fakulta zdravotníctva a sociálnej práce sv. Ladislava, Nové Zámky
X-ORIGINAL-URL:https://fsvladislava.sk
X-WR-CALDESC:Udalosti pre Fakulta zdravotníctva a sociálnej práce sv. Ladislava, Nové Zámky
REFRESH-INTERVAL;VALUE=DURATION:PT1H
X-Robots-Tag:noindex
X-PUBLISHED-TTL:PT1H
BEGIN:VTIMEZONE
TZID:Europe/Bratislava
BEGIN:DAYLIGHT
TZOFFSETFROM:+0100
TZOFFSETTO:+0200
TZNAME:CEST
DTSTART:20240331T010000
END:DAYLIGHT
BEGIN:STANDARD
TZOFFSETFROM:+0200
TZOFFSETTO:+0100
TZNAME:CET
DTSTART:20241027T010000
END:STANDARD
BEGIN:DAYLIGHT
TZOFFSETFROM:+0100
TZOFFSETTO:+0200
TZNAME:CEST
DTSTART:20250330T010000
END:DAYLIGHT
BEGIN:STANDARD
TZOFFSETFROM:+0200
TZOFFSETTO:+0100
TZNAME:CET
DTSTART:20251026T010000
END:STANDARD
BEGIN:DAYLIGHT
TZOFFSETFROM:+0100
TZOFFSETTO:+0200
TZNAME:CEST
DTSTART:20260329T010000
END:DAYLIGHT
BEGIN:STANDARD
TZOFFSETFROM:+0200
TZOFFSETTO:+0100
TZNAME:CET
DTSTART:20261025T010000
END:STANDARD
END:VTIMEZONE
BEGIN:VEVENT
DTSTART;TZID=Europe/Bratislava:20251020T083000
DTEND;TZID=Europe/Bratislava:20251020T150000
DTSTAMP:20260426T005330
CREATED:20241007T102619Z
LAST-MODIFIED:20251002T124318Z
UID:45566-1760949000-1760972400@fsvladislava.sk
SUMMARY:PA 1.r. Bc. - Filozofia - Webex
DESCRIPTION:PA 1.r. Bc. – Filozofia – doc. Mojžešová – Online-Webex
URL:https://fsvladislava.sk/rozvrh/pa-1-r-bc-filozofia-elix/
LOCATION:Online – Webex
CATEGORIES:Odbor Pôrodná asistencia,PA - 1. ročník Bc.
END:VEVENT
BEGIN:VEVENT
DTSTART;TZID=Europe/Bratislava:20251020T110000
DTEND;TZID=Europe/Bratislava:20251020T180000
DTSTAMP:20260426T005330
CREATED:20250115T122831Z
LAST-MODIFIED:20250918T124524Z
UID:46583-1760958000-1760983200@fsvladislava.sk
SUMMARY:OŠE 2.r. Bc. - Klinická propedeutika - Kinosála
DESCRIPTION:OŠE 2.r. Bc. – Klinická propedeutika – Dr. Borbélyová – Kinosála
URL:https://fsvladislava.sk/rozvrh/ose-2-r-bc-klinicka-propedeutika-zasadacka/
LOCATION:FNsP NZ  – Kinosála
CATEGORIES:Odbor Ošetrovateľstvo,OŠE - 2. ročník Bc.
END:VEVENT
BEGIN:VEVENT
DTSTART;TZID=Europe/Bratislava:20251020T140000
DTEND;TZID=Europe/Bratislava:20251020T140000
DTSTAMP:20260426T005330
CREATED:20251013T055514Z
LAST-MODIFIED:20251013T055514Z
UID:48360-1760968800-1760968800@fsvladislava.sk
SUMMARY:OŠE 1.r. Bc. - Ošetrovateľské postupy a techniky I. - Modrý dom
DESCRIPTION:OŠE 1.r. Bc. – Ošetrovateľské postupy a techniky I. – PhDr. A. Barteková – Modrý dom
URL:https://fsvladislava.sk/rozvrh/ose-1-r-bc-osetrovatelske-postupy-a-techniky-i-modry-dom-5/
LOCATION:SZŠ EK – Modrý dom
CATEGORIES:Odbor Ošetrovateľstvo,OŠE - 1. ročník Bc.
END:VEVENT
BEGIN:VEVENT
DTSTART;TZID=Europe/Bratislava:20251020T140000
DTEND;TZID=Europe/Bratislava:20251020T180000
DTSTAMP:20260426T005330
CREATED:20250916T094117Z
LAST-MODIFIED:20250916T094117Z
UID:48049-1760968800-1760983200@fsvladislava.sk
SUMMARY:PA 2.r. Bc. - Pôrodníctvo II. - Zasadačka
DESCRIPTION:PA 2.r. Bc. – Pôrodníctvo II. – prof. Bartkovjak – Zasadačka
URL:https://fsvladislava.sk/rozvrh/pa-2-r-bc-porodnictvo-ii-zasadacka-10/
LOCATION:FNsP NZ – Zasadačka
CATEGORIES:Odbor Pôrodná asistencia,PA - 2. ročník Bc.
END:VEVENT
END:VCALENDAR