BEGIN:VCALENDAR
VERSION:2.0
PRODID:-//Fakulta zdravotníctva a sociálnej práce sv. Ladislava, Nové Zámky - ECPv6.15.17//NONSGML v1.0//EN
CALSCALE:GREGORIAN
METHOD:PUBLISH
X-WR-CALNAME:Fakulta zdravotníctva a sociálnej práce sv. Ladislava, Nové Zámky
X-ORIGINAL-URL:https://fsvladislava.sk
X-WR-CALDESC:Udalosti pre Fakulta zdravotníctva a sociálnej práce sv. Ladislava, Nové Zámky
REFRESH-INTERVAL;VALUE=DURATION:PT1H
X-Robots-Tag:noindex
X-PUBLISHED-TTL:PT1H
BEGIN:VTIMEZONE
TZID:Europe/Bratislava
BEGIN:DAYLIGHT
TZOFFSETFROM:+0100
TZOFFSETTO:+0200
TZNAME:CEST
DTSTART:20240331T010000
END:DAYLIGHT
BEGIN:STANDARD
TZOFFSETFROM:+0200
TZOFFSETTO:+0100
TZNAME:CET
DTSTART:20241027T010000
END:STANDARD
BEGIN:DAYLIGHT
TZOFFSETFROM:+0100
TZOFFSETTO:+0200
TZNAME:CEST
DTSTART:20250330T010000
END:DAYLIGHT
BEGIN:STANDARD
TZOFFSETFROM:+0200
TZOFFSETTO:+0100
TZNAME:CET
DTSTART:20251026T010000
END:STANDARD
BEGIN:DAYLIGHT
TZOFFSETFROM:+0100
TZOFFSETTO:+0200
TZNAME:CEST
DTSTART:20260329T010000
END:DAYLIGHT
BEGIN:STANDARD
TZOFFSETFROM:+0200
TZOFFSETTO:+0100
TZNAME:CET
DTSTART:20261025T010000
END:STANDARD
END:VTIMEZONE
BEGIN:VEVENT
DTSTART;TZID=Europe/Bratislava:20251021T080000
DTEND;TZID=Europe/Bratislava:20251021T160000
DTSTAMP:20260426T005316
CREATED:20250903T100356Z
LAST-MODIFIED:20250909T061458Z
UID:47845-1761033600-1761062400@fsvladislava.sk
SUMMARY:OŠE 2.r. Bc. - Potreby pacientov a oše. proces II  - Kinosála
DESCRIPTION:OŠE 2.r. Bc. – Potreby pacientov a oše. proces II  – Kinosála
URL:https://fsvladislava.sk/rozvrh/ose-2-r-bc-prednaska-kinosala-9/
LOCATION:FNsP NZ  – Kinosála
CATEGORIES:Odbor Ošetrovateľstvo,OŠE - 2. ročník Bc.
END:VEVENT
BEGIN:VEVENT
DTSTART;TZID=Europe/Bratislava:20251021T083000
DTEND;TZID=Europe/Bratislava:20251021T100000
DTSTAMP:20260426T005316
CREATED:20240725T061214Z
LAST-MODIFIED:20240725T061214Z
UID:44875-1761035400-1761040800@fsvladislava.sk
SUMMARY:FNsP NZ - Operatívna porada vedúcich zamestnancov - Zasadačka
DESCRIPTION:FNsP NZ – Operatívna porada vedúcich zamestnancov – Zasadačka
URL:https://fsvladislava.sk/rozvrh/fnsp-nz-operativna-porada-veducich-zamestnancov-zasadacka-37/
LOCATION:FNsP NZ – Zasadačka
CATEGORIES:FNsP NZ
END:VEVENT
BEGIN:VEVENT
DTSTART;TZID=Europe/Bratislava:20251021T100000
DTEND;TZID=Europe/Bratislava:20251021T140000
DTSTAMP:20260426T005316
CREATED:20250916T093533Z
LAST-MODIFIED:20250916T093533Z
UID:48041-1761040800-1761055200@fsvladislava.sk
SUMMARY:PA 2.r. Bc. - Gynekológia II. - Zasadačka
DESCRIPTION:PA 2.r. Bc. – Gynekológia II. – Dr. Resutíková – Zasadačka
URL:https://fsvladislava.sk/rozvrh/pa-2-r-bc-gynekologia-ii-zasadacka-10/
LOCATION:FNsP NZ – Zasadačka
CATEGORIES:Odbor Pôrodná asistencia,PA - 2. ročník Bc.
END:VEVENT
BEGIN:VEVENT
DTSTART;TZID=Europe/Bratislava:20251021T110000
DTEND;TZID=Europe/Bratislava:20251021T180000
DTSTAMP:20260426T005316
CREATED:20250916T100501Z
LAST-MODIFIED:20250916T100501Z
UID:48075-1761044400-1761069600@fsvladislava.sk
SUMMARY:PA 1.r. Bc. - Ošetrovateľské techniky - učebňa PA 2. posch.
DESCRIPTION:PA 1.r. Bc. – Ošetrovateľské techniky – PhDr. Bc. Bednáriková\, PhD.  univ. doc. – učebňa PA 2. posch.
URL:https://fsvladislava.sk/rozvrh/pa-1-r-bc-osetrovatelske-techniky-ucebna-pa-2-posch-4/
LOCATION:FNsP NZ – učebňa PA 2. posch.
CATEGORIES:Odbor Pôrodná asistencia,PA - 1. ročník Bc.
END:VEVENT
BEGIN:VEVENT
DTSTART;TZID=Europe/Bratislava:20251021T130000
DTEND;TZID=Europe/Bratislava:20251021T130000
DTSTAMP:20260426T005316
CREATED:20251013T055336Z
LAST-MODIFIED:20251013T055336Z
UID:48354-1761051600-1761051600@fsvladislava.sk
SUMMARY:OŠE 1.r. Bc. - Ošetrovateľské postupy a techniky I. - Modrý dom
DESCRIPTION:OŠE 1.r. Bc. – Ošetrovateľské postupy a techniky I. – Dr. Nagyová – Modrý dom
URL:https://fsvladislava.sk/rozvrh/ose-1-r-bc-osetrovatelske-postupy-a-techniky-i-modry-dom-2/
LOCATION:SZŠ EK – Modrý dom
CATEGORIES:Odbor Ošetrovateľstvo,OŠE - 1. ročník Bc.
END:VEVENT
BEGIN:VEVENT
DTSTART;TZID=Europe/Bratislava:20251021T140000
DTEND;TZID=Europe/Bratislava:20251021T180000
DTSTAMP:20260426T005316
CREATED:20250916T094225Z
LAST-MODIFIED:20250916T094225Z
UID:48051-1761055200-1761069600@fsvladislava.sk
SUMMARY:PA 2.r. Bc. - Pôrodníctvo II. - Zasadačka
DESCRIPTION:PA 2.r. Bc. – Pôrodníctvo II. – prof. Bartkovjak – Zasadačka
URL:https://fsvladislava.sk/rozvrh/pa-2-r-bc-porodnictvo-ii-zasadacka-11/
LOCATION:FNsP NZ – Zasadačka
CATEGORIES:Odbor Pôrodná asistencia,PA - 2. ročník Bc.
END:VEVENT
BEGIN:VEVENT
DTSTART;TZID=Europe/Bratislava:20251021T140000
DTEND;TZID=Europe/Bratislava:20251021T180000
DTSTAMP:20260426T005316
CREATED:20250923T110317Z
LAST-MODIFIED:20250923T110317Z
UID:48217-1761055200-1761069600@fsvladislava.sk
SUMMARY:PA 1.r. Bc. - Ošetrovateľské techniky - SZŠ EK - Modrý dom
DESCRIPTION:PA 1.r. Bc. – Ošetrovateľské techniky – Dr. Molnárová – SZŠ EK – Modrý dom
URL:https://fsvladislava.sk/rozvrh/pa-1-r-bc-osetrovatelske-techniky-szs-ek-modry-dom-3/
LOCATION:SZŠ EK – Modrý dom
CATEGORIES:Odbor Pôrodná asistencia,PA - 1. ročník Bc.
END:VEVENT
END:VCALENDAR