BEGIN:VCALENDAR
VERSION:2.0
PRODID:-//Fakulta zdravotníctva a sociálnej práce sv. Ladislava, Nové Zámky - ECPv6.15.17//NONSGML v1.0//EN
CALSCALE:GREGORIAN
METHOD:PUBLISH
X-ORIGINAL-URL:https://fsvladislava.sk
X-WR-CALDESC:Udalosti pre Fakulta zdravotníctva a sociálnej práce sv. Ladislava, Nové Zámky
REFRESH-INTERVAL;VALUE=DURATION:PT1H
X-Robots-Tag:noindex
X-PUBLISHED-TTL:PT1H
BEGIN:VTIMEZONE
TZID:Europe/Bratislava
BEGIN:DAYLIGHT
TZOFFSETFROM:+0100
TZOFFSETTO:+0200
TZNAME:CEST
DTSTART:20240331T010000
END:DAYLIGHT
BEGIN:STANDARD
TZOFFSETFROM:+0200
TZOFFSETTO:+0100
TZNAME:CET
DTSTART:20241027T010000
END:STANDARD
BEGIN:DAYLIGHT
TZOFFSETFROM:+0100
TZOFFSETTO:+0200
TZNAME:CEST
DTSTART:20250330T010000
END:DAYLIGHT
BEGIN:STANDARD
TZOFFSETFROM:+0200
TZOFFSETTO:+0100
TZNAME:CET
DTSTART:20251026T010000
END:STANDARD
BEGIN:DAYLIGHT
TZOFFSETFROM:+0100
TZOFFSETTO:+0200
TZNAME:CEST
DTSTART:20260329T010000
END:DAYLIGHT
BEGIN:STANDARD
TZOFFSETFROM:+0200
TZOFFSETTO:+0100
TZNAME:CET
DTSTART:20261025T010000
END:STANDARD
END:VTIMEZONE
BEGIN:VEVENT
DTSTART;TZID=Europe/Bratislava:20251027T130000
DTEND;TZID=Europe/Bratislava:20251027T130000
DTSTAMP:20260425T231009
CREATED:20251013T055359Z
LAST-MODIFIED:20251013T055359Z
UID:48356-1761570000-1761570000@fsvladislava.sk
SUMMARY:OŠE 1.r. Bc. - Ošetrovateľské postupy a techniky I. - Modrý dom
DESCRIPTION:OŠE 1.r. Bc. – Ošetrovateľské postupy a techniky I. – Dr. Nagyová – Modrý dom
URL:https://fsvladislava.sk/rozvrh/ose-1-r-bc-osetrovatelske-postupy-a-techniky-i-modry-dom-3/
LOCATION:SZŠ EK – Modrý dom
CATEGORIES:Odbor Ošetrovateľstvo,OŠE - 1. ročník Bc.
END:VEVENT
BEGIN:VEVENT
DTSTART;TZID=Europe/Bratislava:20251027T153000
DTEND;TZID=Europe/Bratislava:20251027T183000
DTSTAMP:20260425T231009
CREATED:20250910T055918Z
LAST-MODIFIED:20250910T055918Z
UID:47918-1761579000-1761589800@fsvladislava.sk
SUMMARY:PA 3.r. Bc. – Oše. proces v PA III. - Zasadačka
DESCRIPTION:PA 3.r. Bc. – Oše. proces v PA III. – prof. Matulníková – Zasadačka
URL:https://fsvladislava.sk/rozvrh/pa-3-r-bc-ose-proces-v-pa-iii-zasadacka-3/
LOCATION:FNsP NZ – Zasadačka
CATEGORIES:Odbor Pôrodná asistencia,PA - 3. ročník Bc.
END:VEVENT
BEGIN:VEVENT
DTSTART;TZID=Europe/Bratislava:20251027T170000
DTEND;TZID=Europe/Bratislava:20251027T170000
DTSTAMP:20260425T231009
CREATED:20250916T112035Z
LAST-MODIFIED:20251024T132545Z
UID:48116-1761584400-1761584400@fsvladislava.sk
SUMMARY:SP 4.r. Bc. - Odborná prax - Zoom
DESCRIPTION:SP 4.r. Bc. – Odborná prax – Dr. Buzalová – Online – Zoom
URL:https://fsvladislava.sk/rozvrh/sp-3-r-bc-specializovana-odborna-prax-zasadacka/
LOCATION:Online – Zoom
CATEGORIES:Odbor Sociálna práca,SP - 4. ročník Bc.
END:VEVENT
END:VCALENDAR