BEGIN:VCALENDAR
VERSION:2.0
PRODID:-//Fakulta zdravotníctva a sociálnej práce sv. Ladislava, Nové Zámky - ECPv6.15.17//NONSGML v1.0//EN
CALSCALE:GREGORIAN
METHOD:PUBLISH
X-ORIGINAL-URL:https://fsvladislava.sk
X-WR-CALDESC:Udalosti pre Fakulta zdravotníctva a sociálnej práce sv. Ladislava, Nové Zámky
REFRESH-INTERVAL;VALUE=DURATION:PT1H
X-Robots-Tag:noindex
X-PUBLISHED-TTL:PT1H
BEGIN:VTIMEZONE
TZID:Europe/Bratislava
BEGIN:DAYLIGHT
TZOFFSETFROM:+0100
TZOFFSETTO:+0200
TZNAME:CEST
DTSTART:20240331T010000
END:DAYLIGHT
BEGIN:STANDARD
TZOFFSETFROM:+0200
TZOFFSETTO:+0100
TZNAME:CET
DTSTART:20241027T010000
END:STANDARD
BEGIN:DAYLIGHT
TZOFFSETFROM:+0100
TZOFFSETTO:+0200
TZNAME:CEST
DTSTART:20250330T010000
END:DAYLIGHT
BEGIN:STANDARD
TZOFFSETFROM:+0200
TZOFFSETTO:+0100
TZNAME:CET
DTSTART:20251026T010000
END:STANDARD
BEGIN:DAYLIGHT
TZOFFSETFROM:+0100
TZOFFSETTO:+0200
TZNAME:CEST
DTSTART:20260329T010000
END:DAYLIGHT
BEGIN:STANDARD
TZOFFSETFROM:+0200
TZOFFSETTO:+0100
TZNAME:CET
DTSTART:20261025T010000
END:STANDARD
END:VTIMEZONE
BEGIN:VEVENT
DTSTART;TZID=Europe/Bratislava:20251028T083000
DTEND;TZID=Europe/Bratislava:20251028T100000
DTSTAMP:20260425T231010
CREATED:20240725T061226Z
LAST-MODIFIED:20240725T061226Z
UID:44877-1761640200-1761645600@fsvladislava.sk
SUMMARY:FNsP NZ - Operatívna porada vedúcich zamestnancov - Zasadačka
DESCRIPTION:FNsP NZ – Operatívna porada vedúcich zamestnancov – Zasadačka
URL:https://fsvladislava.sk/rozvrh/fnsp-nz-operativna-porada-veducich-zamestnancov-zasadacka-38/
LOCATION:FNsP NZ – Zasadačka
CATEGORIES:FNsP NZ
END:VEVENT
BEGIN:VEVENT
DTSTART;TZID=Europe/Bratislava:20251028T100000
DTEND;TZID=Europe/Bratislava:20251028T163000
DTSTAMP:20260425T231010
CREATED:20250912T051431Z
LAST-MODIFIED:20250912T051431Z
UID:48015-1761645600-1761669000@fsvladislava.sk
SUMMARY:PA 3.r. Bc. - Profesionálna komunikácia - Zasadačka
DESCRIPTION:PA 3.r. Bc. – Profesionálna komunikácia – Dr. Borbélyová – Zasadačka
URL:https://fsvladislava.sk/rozvrh/pa-3-r-bc-profesionalna-komunikacia-zasadacka-2/
LOCATION:FNsP NZ – Zasadačka
CATEGORIES:Odbor Pôrodná asistencia,PA - 3. ročník Bc.
END:VEVENT
BEGIN:VEVENT
DTSTART;TZID=Europe/Bratislava:20251028T130000
DTEND;TZID=Europe/Bratislava:20251028T130000
DTSTAMP:20260425T231010
CREATED:20251024T132052Z
LAST-MODIFIED:20251024T132052Z
UID:48453-1761656400-1761656400@fsvladislava.sk
SUMMARY:FNsP NZ - školenie Carebot - Kinosála
DESCRIPTION:FNsP NZ – školenie Carebot – Kinosála
URL:https://fsvladislava.sk/rozvrh/fnsp-nz-skolenie-carebot-kinosala/
LOCATION:FNsP NZ  – Kinosála
CATEGORIES:FNsP NZ
END:VEVENT
BEGIN:VEVENT
DTSTART;TZID=Europe/Bratislava:20251028T140000
DTEND;TZID=Europe/Bratislava:20251028T140000
DTSTAMP:20260425T231010
CREATED:20251013T055535Z
LAST-MODIFIED:20251013T055535Z
UID:48362-1761660000-1761660000@fsvladislava.sk
SUMMARY:OŠE 1.r. Bc. - Ošetrovateľské postupy a techniky I. - Modrý dom
DESCRIPTION:OŠE 1.r. Bc. – Ošetrovateľské postupy a techniky I. – PhDr. A. Barteková – Modrý dom
URL:https://fsvladislava.sk/rozvrh/ose-1-r-bc-osetrovatelske-postupy-a-techniky-i-modry-dom-6/
LOCATION:SZŠ EK – Modrý dom
CATEGORIES:Odbor Ošetrovateľstvo,OŠE - 1. ročník Bc.
END:VEVENT
BEGIN:VEVENT
DTSTART;TZID=Europe/Bratislava:20251028T140000
DTEND;TZID=Europe/Bratislava:20251028T180000
DTSTAMP:20260425T231010
CREATED:20250916T095534Z
LAST-MODIFIED:20250916T102111Z
UID:48063-1761660000-1761674400@fsvladislava.sk
SUMMARY:PA 1.r. Bc. - Embryológia a genetika - Seminárna miestnosť
DESCRIPTION:PA 1.r. Bc. –  Embryológia a genetika – prof. Bartkovjak – Seminárna miestnosť
URL:https://fsvladislava.sk/rozvrh/pa-1-r-bc-embryologia-a-genetika-zasadacka-5/
LOCATION:FNsP NZ  – Seminárna miestnosť
CATEGORIES:Odbor Pôrodná asistencia,PA - 1. ročník Bc.
END:VEVENT
END:VCALENDAR