BEGIN:VCALENDAR
VERSION:2.0
PRODID:-//Fakulta zdravotníctva a sociálnej práce sv. Ladislava, Nové Zámky - ECPv6.15.17//NONSGML v1.0//EN
CALSCALE:GREGORIAN
METHOD:PUBLISH
X-WR-CALNAME:Fakulta zdravotníctva a sociálnej práce sv. Ladislava, Nové Zámky
X-ORIGINAL-URL:https://fsvladislava.sk
X-WR-CALDESC:Udalosti pre Fakulta zdravotníctva a sociálnej práce sv. Ladislava, Nové Zámky
REFRESH-INTERVAL;VALUE=DURATION:PT1H
X-Robots-Tag:noindex
X-PUBLISHED-TTL:PT1H
BEGIN:VTIMEZONE
TZID:Europe/Bratislava
BEGIN:DAYLIGHT
TZOFFSETFROM:+0100
TZOFFSETTO:+0200
TZNAME:CEST
DTSTART:20240331T010000
END:DAYLIGHT
BEGIN:STANDARD
TZOFFSETFROM:+0200
TZOFFSETTO:+0100
TZNAME:CET
DTSTART:20241027T010000
END:STANDARD
BEGIN:DAYLIGHT
TZOFFSETFROM:+0100
TZOFFSETTO:+0200
TZNAME:CEST
DTSTART:20250330T010000
END:DAYLIGHT
BEGIN:STANDARD
TZOFFSETFROM:+0200
TZOFFSETTO:+0100
TZNAME:CET
DTSTART:20251026T010000
END:STANDARD
BEGIN:DAYLIGHT
TZOFFSETFROM:+0100
TZOFFSETTO:+0200
TZNAME:CEST
DTSTART:20260329T010000
END:DAYLIGHT
BEGIN:STANDARD
TZOFFSETFROM:+0200
TZOFFSETTO:+0100
TZNAME:CET
DTSTART:20261025T010000
END:STANDARD
END:VTIMEZONE
BEGIN:VEVENT
DTSTART;TZID=Europe/Bratislava:20251029T080000
DTEND;TZID=Europe/Bratislava:20251029T143000
DTSTAMP:20260425T230846
CREATED:20240926T054853Z
LAST-MODIFIED:20250916T072343Z
UID:45414-1761724800-1761748200@fsvladislava.sk
SUMMARY:PA 1.r. Bc.\, OŠE 2.r. Bc. - Mikrobiológia-bakter.\, viro.\, paraz. - Kinosála
DESCRIPTION:PA 1.r. Bc.\, OŠE 2.r. Bc. – Mikrobiológia-bakter.\, viro.\, paraz. – prof. Líšková – Kinosála
URL:https://fsvladislava.sk/rozvrh/pa-1-r-bc-mikrobiologia-bakter-viro-paraz-kinosala-2/
LOCATION:FNsP NZ  – Kinosála
CATEGORIES:Odbor Pôrodná asistencia,OŠE - 2. ročník Bc.,OŠE - Ročníky 1. stupeň bakalári,PA - 1. ročník Bc.
END:VEVENT
BEGIN:VEVENT
DTSTART;TZID=Europe/Bratislava:20251029T090000
DTEND;TZID=Europe/Bratislava:20251029T153000
DTSTAMP:20260425T230846
CREATED:20230925T060307Z
LAST-MODIFIED:20250918T052721Z
UID:41119-1761728400-1761751800@fsvladislava.sk
SUMMARY:PA 3.r. Bc. - Metodológia výskumu II. - Zasadačka
DESCRIPTION:PA 3.r. Bc. – Metodológia výskumu II. – prof. Matulník – Zasadačka
URL:https://fsvladislava.sk/rozvrh/pa-3-r-bc-metodologia-vyskumu-ii-zasadacka/
LOCATION:FNsP NZ – Zasadačka
CATEGORIES:Odbor Pôrodná asistencia,PA - 3. ročník Bc.
END:VEVENT
END:VCALENDAR