BEGIN:VCALENDAR
VERSION:2.0
PRODID:-//Fakulta zdravotníctva a sociálnej práce sv. Ladislava, Nové Zámky - ECPv6.15.17//NONSGML v1.0//EN
CALSCALE:GREGORIAN
METHOD:PUBLISH
X-WR-CALNAME:Fakulta zdravotníctva a sociálnej práce sv. Ladislava, Nové Zámky
X-ORIGINAL-URL:https://fsvladislava.sk
X-WR-CALDESC:Udalosti pre Fakulta zdravotníctva a sociálnej práce sv. Ladislava, Nové Zámky
REFRESH-INTERVAL;VALUE=DURATION:PT1H
X-Robots-Tag:noindex
X-PUBLISHED-TTL:PT1H
BEGIN:VTIMEZONE
TZID:Europe/Bratislava
BEGIN:DAYLIGHT
TZOFFSETFROM:+0100
TZOFFSETTO:+0200
TZNAME:CEST
DTSTART:20240331T010000
END:DAYLIGHT
BEGIN:STANDARD
TZOFFSETFROM:+0200
TZOFFSETTO:+0100
TZNAME:CET
DTSTART:20241027T010000
END:STANDARD
BEGIN:DAYLIGHT
TZOFFSETFROM:+0100
TZOFFSETTO:+0200
TZNAME:CEST
DTSTART:20250330T010000
END:DAYLIGHT
BEGIN:STANDARD
TZOFFSETFROM:+0200
TZOFFSETTO:+0100
TZNAME:CET
DTSTART:20251026T010000
END:STANDARD
BEGIN:DAYLIGHT
TZOFFSETFROM:+0100
TZOFFSETTO:+0200
TZNAME:CEST
DTSTART:20260329T010000
END:DAYLIGHT
BEGIN:STANDARD
TZOFFSETFROM:+0200
TZOFFSETTO:+0100
TZNAME:CET
DTSTART:20261025T010000
END:STANDARD
END:VTIMEZONE
BEGIN:VEVENT
DTSTART;TZID=Europe/Bratislava:20251120T080000
DTEND;TZID=Europe/Bratislava:20251120T143000
DTSTAMP:20260425T230845
CREATED:20250916T101322Z
LAST-MODIFIED:20250918T051928Z
UID:48087-1763625600-1763649000@fsvladislava.sk
SUMMARY:OŠE 1.r. Mgr. - Ošetrovateľstvo v zdraví pri práci - Kinosála
DESCRIPTION:OŠE 1.r. Mgr. – Ošetrovateľstvo v zdraví pri práci – Brodanská – Kinosála
URL:https://fsvladislava.sk/rozvrh/ose-1-r-mgr-osetrovatelstvo-v-zdravi-pri-praci-kinosala-2/
LOCATION:FNsP NZ  – Kinosála
CATEGORIES:Odbor Ošetrovateľstvo,OŠE - 1. ročník Mgr.
END:VEVENT
BEGIN:VEVENT
DTSTART;TZID=Europe/Bratislava:20251120T090000
DTEND;TZID=Europe/Bratislava:20251120T153000
DTSTAMP:20260425T230845
CREATED:20230925T060941Z
LAST-MODIFIED:20250918T053022Z
UID:41129-1763629200-1763652600@fsvladislava.sk
SUMMARY:PA 3.r. Bc. - Sociológia a sociológia rodiny - Zasadačka
DESCRIPTION:PA 3.r. Bc. – Sociológia a sociológia rodiny – prof. Matulník – Zasadačka
URL:https://fsvladislava.sk/rozvrh/pa-3-r-bc-sociologia-a-sociologia-rodiny-elix/
LOCATION:FNsP NZ – Zasadačka
CATEGORIES:Odbor Pôrodná asistencia,PA - 3. ročník Bc.
END:VEVENT
BEGIN:VEVENT
DTSTART;TZID=Europe/Bratislava:20251120T153000
DTEND;TZID=Europe/Bratislava:20251120T183000
DTSTAMP:20260425T230845
CREATED:20250918T053051Z
LAST-MODIFIED:20250918T053051Z
UID:48186-1763652600-1763663400@fsvladislava.sk
SUMMARY:PA 3.r. Bc. – Pediatria - Zasadačka
DESCRIPTION:PA 3.r. Bc. – Pediatria – MUDr. Radvanská – Zasadačka
URL:https://fsvladislava.sk/rozvrh/pa-3-r-bc-pediatria-zasadacka-2/
LOCATION:FNsP NZ – Zasadačka
CATEGORIES:Odbor Pôrodná asistencia,PA - 3. ročník Bc.
END:VEVENT
END:VCALENDAR