BEGIN:VCALENDAR
VERSION:2.0
PRODID:-//Fakulta zdravotníctva a sociálnej práce sv. Ladislava, Nové Zámky - ECPv6.15.17//NONSGML v1.0//EN
CALSCALE:GREGORIAN
METHOD:PUBLISH
X-WR-CALNAME:Fakulta zdravotníctva a sociálnej práce sv. Ladislava, Nové Zámky
X-ORIGINAL-URL:https://fsvladislava.sk
X-WR-CALDESC:Udalosti pre Fakulta zdravotníctva a sociálnej práce sv. Ladislava, Nové Zámky
REFRESH-INTERVAL;VALUE=DURATION:PT1H
X-Robots-Tag:noindex
X-PUBLISHED-TTL:PT1H
BEGIN:VTIMEZONE
TZID:Europe/Bratislava
BEGIN:DAYLIGHT
TZOFFSETFROM:+0100
TZOFFSETTO:+0200
TZNAME:CEST
DTSTART:20240331T010000
END:DAYLIGHT
BEGIN:STANDARD
TZOFFSETFROM:+0200
TZOFFSETTO:+0100
TZNAME:CET
DTSTART:20241027T010000
END:STANDARD
BEGIN:DAYLIGHT
TZOFFSETFROM:+0100
TZOFFSETTO:+0200
TZNAME:CEST
DTSTART:20250330T010000
END:DAYLIGHT
BEGIN:STANDARD
TZOFFSETFROM:+0200
TZOFFSETTO:+0100
TZNAME:CET
DTSTART:20251026T010000
END:STANDARD
BEGIN:DAYLIGHT
TZOFFSETFROM:+0100
TZOFFSETTO:+0200
TZNAME:CEST
DTSTART:20260329T010000
END:DAYLIGHT
BEGIN:STANDARD
TZOFFSETFROM:+0200
TZOFFSETTO:+0100
TZNAME:CET
DTSTART:20261025T010000
END:STANDARD
END:VTIMEZONE
BEGIN:VEVENT
DTSTART;TZID=Europe/Bratislava:20251122T080000
DTEND;TZID=Europe/Bratislava:20251122T080000
DTSTAMP:20260425T231004
CREATED:20230927T195020Z
LAST-MODIFIED:20251007T104459Z
UID:41365-1763798400-1763798400@fsvladislava.sk
SUMMARY:SP 1.r. Mgr. - Úvod do sociálnej politiky / rozdielový predmet - Kinosála
DESCRIPTION:SP 1.r. Mgr. – Úvod do sociálnej politiky – univ. prof. doc. Lucia Ludvigh Cintulová\, PhD. – Kinosála\nrozdielový predmet
URL:https://fsvladislava.sk/rozvrh/sp-1-r-mgr-uvod-do-socialnej-politiky-rozdielovy-predmet-kinosala/
LOCATION:FNsP NZ  – Kinosála
CATEGORIES:Odbor Sociálna práca,SP - 1. ročník Mgr.
END:VEVENT
BEGIN:VEVENT
DTSTART;TZID=Europe/Bratislava:20251122T080000
DTEND;TZID=Europe/Bratislava:20251122T080000
DTSTAMP:20260425T231004
CREATED:20230927T202237Z
LAST-MODIFIED:20251020T103117Z
UID:41404-1763798400-1763798400@fsvladislava.sk
SUMMARY:SP 2.r. Mgr. - SP supervízia - Zasadačka
DESCRIPTION:SP 2.r. Mgr. – SP supervízia – Doc. Pavlovičová – Zasadačka
URL:https://fsvladislava.sk/rozvrh/sp-2-r-mgr-spv-supervizia-zasadacka/
LOCATION:FNsP NZ – Zasadačka
CATEGORIES:Odbor Sociálna práca,SP - 2. ročník Mgr.
END:VEVENT
BEGIN:VEVENT
DTSTART;TZID=Europe/Bratislava:20251122T080000
DTEND;TZID=Europe/Bratislava:20251122T080000
DTSTAMP:20260425T231004
CREATED:20240205T062940Z
LAST-MODIFIED:20250916T114756Z
UID:42826-1763798400-1763798400@fsvladislava.sk
SUMMARY:SP 2.r. Bc. - Úvod do sociálnej politiky - Kinosála
DESCRIPTION:SP 2.r. Bc. – Úvod do sociálnej politiky – prof. Ludvigh Cintulová – Kinosála
URL:https://fsvladislava.sk/rozvrh/sp-2-r-bc-ot-uvod-do-socialnej-politiky-elix/
LOCATION:FNsP NZ  – Kinosála
CATEGORIES:Odbor Sociálna práca,SP - 2. ročník Bc.
END:VEVENT
BEGIN:VEVENT
DTSTART;TZID=Europe/Bratislava:20251122T090000
DTEND;TZID=Europe/Bratislava:20251122T153000
DTSTAMP:20260425T231004
CREATED:20250918T053430Z
LAST-MODIFIED:20251020T103201Z
UID:48189-1763802000-1763825400@fsvladislava.sk
SUMMARY:PA 2.r. Bc. D. - Výživa novorodencov a dojčiat   - Seminárna miestnosť
DESCRIPTION:PA 2.r. Bc. – Výživa novorodencov a dojčiat  – doc. PhDr. Gabriela Magyarová Szencziová\, PhD. – Seminárna miestnosť
URL:https://fsvladislava.sk/rozvrh/pa-2-r-bc-d-vyziva-novorodencov-a-dojciat-zasadacka-2/
LOCATION:FNsP NZ  – Seminárna miestnosť
CATEGORIES:Odbor Pôrodná asistencia,PA - 2. ročník Bc.
END:VEVENT
END:VCALENDAR