BEGIN:VCALENDAR
VERSION:2.0
PRODID:-//Fakulta zdravotníctva a sociálnej práce sv. Ladislava, Nové Zámky - ECPv6.15.17//NONSGML v1.0//EN
CALSCALE:GREGORIAN
METHOD:PUBLISH
X-ORIGINAL-URL:https://fsvladislava.sk
X-WR-CALDESC:Udalosti pre Fakulta zdravotníctva a sociálnej práce sv. Ladislava, Nové Zámky
REFRESH-INTERVAL;VALUE=DURATION:PT1H
X-Robots-Tag:noindex
X-PUBLISHED-TTL:PT1H
BEGIN:VTIMEZONE
TZID:Europe/Bratislava
BEGIN:DAYLIGHT
TZOFFSETFROM:+0100
TZOFFSETTO:+0200
TZNAME:CEST
DTSTART:20240331T010000
END:DAYLIGHT
BEGIN:STANDARD
TZOFFSETFROM:+0200
TZOFFSETTO:+0100
TZNAME:CET
DTSTART:20241027T010000
END:STANDARD
BEGIN:DAYLIGHT
TZOFFSETFROM:+0100
TZOFFSETTO:+0200
TZNAME:CEST
DTSTART:20250330T010000
END:DAYLIGHT
BEGIN:STANDARD
TZOFFSETFROM:+0200
TZOFFSETTO:+0100
TZNAME:CET
DTSTART:20251026T010000
END:STANDARD
BEGIN:DAYLIGHT
TZOFFSETFROM:+0100
TZOFFSETTO:+0200
TZNAME:CEST
DTSTART:20260329T010000
END:DAYLIGHT
BEGIN:STANDARD
TZOFFSETFROM:+0200
TZOFFSETTO:+0100
TZNAME:CET
DTSTART:20261025T010000
END:STANDARD
END:VTIMEZONE
BEGIN:VEVENT
DTSTART;TZID=Europe/Bratislava:20251217T070000
DTEND;TZID=Europe/Bratislava:20251217T123000
DTSTAMP:20260425T213241
CREATED:20251212T093859Z
LAST-MODIFIED:20251212T093859Z
UID:48853-1765954800-1765974600@fsvladislava.sk
SUMMARY:FNsP NZ - Riaditeľ - Zasadačka
DESCRIPTION:FNsP NZ – Riaditeľ – Zasadačka
URL:https://fsvladislava.sk/rozvrh/fnsp-nz-riaditel-zasadacka-3/
LOCATION:FNsP NZ – Zasadačka
CATEGORIES:FNsP NZ
END:VEVENT
BEGIN:VEVENT
DTSTART;TZID=Europe/Bratislava:20251217T123000
DTEND;TZID=Europe/Bratislava:20251217T143000
DTSTAMP:20260425T213241
CREATED:20251202T130059Z
LAST-MODIFIED:20251202T130059Z
UID:48746-1765974600-1765981800@fsvladislava.sk
SUMMARY:FNsP NZ - Porada vedúcich sestier - Zasadačka
DESCRIPTION:FNsP NZ – Porada vedúcich sestier – Zasadačka
URL:https://fsvladislava.sk/rozvrh/fnsp-nz-porada-veducich-sestier-zasadacka/
LOCATION:FNsP NZ – Zasadačka
CATEGORIES:FNsP NZ
END:VEVENT
BEGIN:VEVENT
DTSTART;TZID=Europe/Bratislava:20251217T130000
DTEND;TZID=Europe/Bratislava:20251217T140000
DTSTAMP:20260425T213241
CREATED:20251126T100130Z
LAST-MODIFIED:20251126T100454Z
UID:48692-1765976400-1765980000@fsvladislava.sk
SUMMARY:OŠE 1.r. Mgr. - SK Manažérska komunikácia - Kinosála
DESCRIPTION:OŠE 1.r. Mgr. – Skúška: Manažérska komunikácia – doc. Otrubová – Kinosála
URL:https://fsvladislava.sk/rozvrh/ose-1-r-mgr-manazerska-komunikacia-kinosala-3/
LOCATION:FNsP NZ  – Kinosála
CATEGORIES:Odbor Ošetrovateľstvo,OŠE - 1. ročník Mgr.
END:VEVENT
BEGIN:VEVENT
DTSTART;TZID=Europe/Bratislava:20251217T140000
DTEND;TZID=Europe/Bratislava:20251217T140000
DTSTAMP:20260425T213241
CREATED:20251112T123142Z
LAST-MODIFIED:20251112T123142Z
UID:48561-1765980000-1765980000@fsvladislava.sk
SUMMARY:OŠE 1.r. Mgr. - SK Naliehavé stavy a ošetrovateľstvo - Kinosála
DESCRIPTION:OŠE 1.r. Mgr. – Skuška: Naliehavé stavy a ošetrovateľstvo – Dr. Molnárová – Kinosála
URL:https://fsvladislava.sk/rozvrh/ose-1-r-mgr-sk-naliehave-stavy-a-osetrovatelstvo-kinosala/
LOCATION:FNsP NZ  – Kinosála
CATEGORIES:Odbor Ošetrovateľstvo,OŠE - 1. ročník Mgr.
END:VEVENT
BEGIN:VEVENT
DTSTART;TZID=Europe/Bratislava:20251217T163000
DTEND;TZID=Europe/Bratislava:20251217T163000
DTSTAMP:20260425T213241
CREATED:20251113T100345Z
LAST-MODIFIED:20251113T100345Z
UID:48570-1765989000-1765989000@fsvladislava.sk
SUMMARY:SP 3.r. Bc. - SP so seniormi - Online
DESCRIPTION:SP 3.r. Bc. – SP so seniormi – Dr. Buzalová – Online
URL:https://fsvladislava.sk/rozvrh/sp-3-r-bc-sp-so-seniormi-online/
LOCATION:Online
CATEGORIES:Odbor Sociálna práca,SP - 3. ročník Bc.
END:VEVENT
BEGIN:VEVENT
DTSTART;TZID=Europe/Bratislava:20251217T180000
DTEND;TZID=Europe/Bratislava:20251217T190000
DTSTAMP:20260425T213241
CREATED:20251210T073239Z
LAST-MODIFIED:20251210T073239Z
UID:48805-1765994400-1765998000@fsvladislava.sk
SUMMARY:PA 2.r. Bc. - SK Výživa novorodencov a dojčiat   - Elix
DESCRIPTION:PA 2.r. Bc. –  Skúška: Výživa novorodencov a dojčiat  – doc. PhDr. Gabriela Magyarová Szencziová\, PhD. – Elix
URL:https://fsvladislava.sk/rozvrh/pa-2-r-bc-sk-vyziva-novorodencov-a-dojciat-elix/
LOCATION:Online – Elix
CATEGORIES:Odbor Pôrodná asistencia,PA - 2. ročník Bc.
END:VEVENT
BEGIN:VEVENT
DTSTART;TZID=Europe/Bratislava:20251217T190000
DTEND;TZID=Europe/Bratislava:20251217T190000
DTSTAMP:20260425T213241
CREATED:20251127T080007Z
LAST-MODIFIED:20251127T080007Z
UID:48706-1765998000-1765998000@fsvladislava.sk
SUMMARY:PA 1.r. Bc. - SK Biochémia - Elix
DESCRIPTION:PA 1.r. Bc. – Skúška: Biochémia – prof. Novotný – Elix
URL:https://fsvladislava.sk/rozvrh/pa-1-r-bc-sk-biochemia-elix/
LOCATION:Online – Elix
CATEGORIES:Odbor Pôrodná asistencia,PA - 1. ročník Bc.
END:VEVENT
END:VCALENDAR