BEGIN:VCALENDAR
VERSION:2.0
PRODID:-//Fakulta zdravotníctva a sociálnej práce sv. Ladislava, Nové Zámky - ECPv6.15.17//NONSGML v1.0//EN
CALSCALE:GREGORIAN
METHOD:PUBLISH
X-ORIGINAL-URL:https://fsvladislava.sk
X-WR-CALDESC:Udalosti pre Fakulta zdravotníctva a sociálnej práce sv. Ladislava, Nové Zámky
REFRESH-INTERVAL;VALUE=DURATION:PT1H
X-Robots-Tag:noindex
X-PUBLISHED-TTL:PT1H
BEGIN:VTIMEZONE
TZID:Europe/Bratislava
BEGIN:DAYLIGHT
TZOFFSETFROM:+0100
TZOFFSETTO:+0200
TZNAME:CEST
DTSTART:20240331T010000
END:DAYLIGHT
BEGIN:STANDARD
TZOFFSETFROM:+0200
TZOFFSETTO:+0100
TZNAME:CET
DTSTART:20241027T010000
END:STANDARD
BEGIN:DAYLIGHT
TZOFFSETFROM:+0100
TZOFFSETTO:+0200
TZNAME:CEST
DTSTART:20250330T010000
END:DAYLIGHT
BEGIN:STANDARD
TZOFFSETFROM:+0200
TZOFFSETTO:+0100
TZNAME:CET
DTSTART:20251026T010000
END:STANDARD
BEGIN:DAYLIGHT
TZOFFSETFROM:+0100
TZOFFSETTO:+0200
TZNAME:CEST
DTSTART:20260329T010000
END:DAYLIGHT
BEGIN:STANDARD
TZOFFSETFROM:+0200
TZOFFSETTO:+0100
TZNAME:CET
DTSTART:20261025T010000
END:STANDARD
END:VTIMEZONE
BEGIN:VEVENT
DTSTART;TZID=Europe/Bratislava:20251218T080000
DTEND;TZID=Europe/Bratislava:20251218T080000
DTSTAMP:20260425T213248
CREATED:20251121T065036Z
LAST-MODIFIED:20251121T071233Z
UID:48656-1766044800-1766044800@fsvladislava.sk
SUMMARY:OŠE 3.r. Bc. - SK Oše v internej medicíne II. - Elix
DESCRIPTION:OŠE 3.r. Bc.  – Skúška: Oše v internej medicíne II. – Dr. Sebestyénová – Elix
URL:https://fsvladislava.sk/rozvrh/ose-3-r-bc-ose-v-internej-medicine-ii-elix/
LOCATION:elix
CATEGORIES:Odbor Ošetrovateľstvo,OŠE - 3. ročník Bc.
END:VEVENT
BEGIN:VEVENT
DTSTART;TZID=Europe/Bratislava:20251218T140000
DTEND;TZID=Europe/Bratislava:20251218T203000
DTSTAMP:20260425T213248
CREATED:20251014T090225Z
LAST-MODIFIED:20251014T090225Z
UID:48376-1766066400-1766089800@fsvladislava.sk
SUMMARY:OŠE 1.r. Mgr. - Ošetrovateľstvo I. - Webex
DESCRIPTION:OŠE 1.r. Mgr. – Ošetrovateľstvo I. – Dr. Peterková Justhová – Online-Webex
URL:https://fsvladislava.sk/rozvrh/ose-1-r-mgr-osetrovatelstvo-i-webex/
LOCATION:Online – Webex
CATEGORIES:Odbor Ošetrovateľstvo,OŠE - 1. ročník Mgr.
END:VEVENT
BEGIN:VEVENT
DTSTART;TZID=Europe/Bratislava:20251218T160000
DTEND;TZID=Europe/Bratislava:20251218T190000
DTSTAMP:20260425T213248
CREATED:20250924T121130Z
LAST-MODIFIED:20250924T121130Z
UID:48229-1766073600-1766084400@fsvladislava.sk
SUMMARY:PA 1.r. Bc. - ANJ - Zoom
DESCRIPTION:PA 1.r. Bc. –  ANJ – dr. Sádovská – Online-Zoom
URL:https://fsvladislava.sk/rozvrh/pa-1-r-bc-anj-zoom-7/
LOCATION:Online – Zoom
CATEGORIES:Odbor Pôrodná asistencia,PA - 1. ročník Bc.
END:VEVENT
BEGIN:VEVENT
DTSTART;TZID=Europe/Bratislava:20251218T190000
DTEND;TZID=Europe/Bratislava:20251218T190000
DTSTAMP:20260425T213248
CREATED:20251202T145653Z
LAST-MODIFIED:20251204T063439Z
UID:48748-1766084400-1766084400@fsvladislava.sk
SUMMARY:PA 3.r. Bc. - SK Metodológia výskumu - Online
DESCRIPTION:PA 3.r. Bc. – Skúška: Metodológia výskumu – prof. Matulník – Online
URL:https://fsvladislava.sk/rozvrh/pa-3-r-bc-sk-metodologia-vyskumu-online/
LOCATION:Online
CATEGORIES:Odbor Pôrodná asistencia,PA - 3. ročník Bc.
END:VEVENT
BEGIN:VEVENT
DTSTART;TZID=Europe/Bratislava:20251218T190000
DTEND;TZID=Europe/Bratislava:20251218T193000
DTSTAMP:20260425T213248
CREATED:20251027T055530Z
LAST-MODIFIED:20251027T055530Z
UID:48459-1766084400-1766086200@fsvladislava.sk
SUMMARY:OŠE 2.r. Bc. - SK Všeobecná a vývinová psychológia - Elix
DESCRIPTION:OŠE 2.r. Bc. – Skúška: Všeobecná a vývinová psychológia – doc. Šovčíková – Elix
URL:https://fsvladislava.sk/rozvrh/ose-2-r-bc-sk-vseobecna-a-vyvinova-psychologia-elix/
LOCATION:Online – Elix
CATEGORIES:Odbor Ošetrovateľstvo,OŠE - 2. ročník Bc.
END:VEVENT
END:VCALENDAR