BEGIN:VCALENDAR
VERSION:2.0
PRODID:-//Fakulta zdravotníctva a sociálnej práce sv. Ladislava, Nové Zámky - ECPv6.15.17//NONSGML v1.0//EN
CALSCALE:GREGORIAN
METHOD:PUBLISH
X-WR-CALNAME:Fakulta zdravotníctva a sociálnej práce sv. Ladislava, Nové Zámky
X-ORIGINAL-URL:https://fsvladislava.sk
X-WR-CALDESC:Udalosti pre Fakulta zdravotníctva a sociálnej práce sv. Ladislava, Nové Zámky
REFRESH-INTERVAL;VALUE=DURATION:PT1H
X-Robots-Tag:noindex
X-PUBLISHED-TTL:PT1H
BEGIN:VTIMEZONE
TZID:Europe/Bratislava
BEGIN:DAYLIGHT
TZOFFSETFROM:+0100
TZOFFSETTO:+0200
TZNAME:CEST
DTSTART:20250330T010000
END:DAYLIGHT
BEGIN:STANDARD
TZOFFSETFROM:+0200
TZOFFSETTO:+0100
TZNAME:CET
DTSTART:20251026T010000
END:STANDARD
BEGIN:DAYLIGHT
TZOFFSETFROM:+0100
TZOFFSETTO:+0200
TZNAME:CEST
DTSTART:20260329T010000
END:DAYLIGHT
BEGIN:STANDARD
TZOFFSETFROM:+0200
TZOFFSETTO:+0100
TZNAME:CET
DTSTART:20261025T010000
END:STANDARD
BEGIN:DAYLIGHT
TZOFFSETFROM:+0100
TZOFFSETTO:+0200
TZNAME:CEST
DTSTART:20270328T010000
END:DAYLIGHT
BEGIN:STANDARD
TZOFFSETFROM:+0200
TZOFFSETTO:+0100
TZNAME:CET
DTSTART:20271031T010000
END:STANDARD
END:VTIMEZONE
BEGIN:VEVENT
DTSTART;TZID=Europe/Bratislava:20260108T120000
DTEND;TZID=Europe/Bratislava:20260108T120000
DTSTAMP:20260425T193545
CREATED:20251009T103236Z
LAST-MODIFIED:20260107T053806Z
UID:48344-1767873600-1767873600@fsvladislava.sk
SUMMARY:SP 4.r. Bc. - SK Prognóza sociálneho vývoja - Zasadačka
DESCRIPTION:SP 4.r. Bc. – Skúška: Prognóza sociálneho vývoja – univ. prof. doc. Lucia Ludvigh Cintulová\, PhD. – Zasadačka
URL:https://fsvladislava.sk/rozvrh/sp-4-r-bc-sk-prognoza-socialneho-vyvoja-zoom-2/
LOCATION:FNsP NZ – Zasadačka
CATEGORIES:Odbor Sociálna práca,SP - 4. ročník Bc.
END:VEVENT
BEGIN:VEVENT
DTSTART;TZID=Europe/Bratislava:20260108T150000
DTEND;TZID=Europe/Bratislava:20260108T150000
DTSTAMP:20260425T193545
CREATED:20251219T061841Z
LAST-MODIFIED:20251219T061841Z
UID:48873-1767884400-1767884400@fsvladislava.sk
SUMMARY:OŠE 1.r. Bc. - SK ANF a Zdravotnícka terminológia  - Modrý dom SZŠ
DESCRIPTION:OŠE 1.r. Bc. – Skúška: ANF a Zdravotnícka terminológia – Dr. Kocsis – Modrý dom SZŠ
URL:https://fsvladislava.sk/rozvrh/ose-1-r-bc-sk-anf-a-zdravotnicka-terminologia-modry-dom-szs/
LOCATION:SZŠ EK – Modrý dom
CATEGORIES:Odbor Ošetrovateľstvo,OŠE - 1. ročník Bc.
END:VEVENT
BEGIN:VEVENT
DTSTART;TZID=Europe/Bratislava:20260108T180000
DTEND;TZID=Europe/Bratislava:20260108T180000
DTSTAMP:20260425T193545
CREATED:20250910T051215Z
LAST-MODIFIED:20251125T061444Z
UID:47882-1767895200-1767895200@fsvladislava.sk
SUMMARY:SP 1.r. Bc. - SK Úvod do štúdia a dejiny SP - Elix
DESCRIPTION:SP 1.r. Bc. – Skúška: Úvod do štúdia a dejiny SP – prof. Radková – Elix
URL:https://fsvladislava.sk/rozvrh/sp-1-r-bc-test-uvod-do-studia-a-dejiny-sp-kinosala/
LOCATION:elix
CATEGORIES:Odbor Sociálna práca,SP - 1. ročník Bc.
ORGANIZER;CN="prof. Radkov%C3%A1":MAILTO:libusa.radkova@gmail.com
END:VEVENT
END:VCALENDAR