BEGIN:VCALENDAR
VERSION:2.0
PRODID:-//Fakulta zdravotníctva a sociálnej práce sv. Ladislava, Nové Zámky - ECPv6.15.17//NONSGML v1.0//EN
CALSCALE:GREGORIAN
METHOD:PUBLISH
X-WR-CALNAME:Fakulta zdravotníctva a sociálnej práce sv. Ladislava, Nové Zámky
X-ORIGINAL-URL:https://fsvladislava.sk
X-WR-CALDESC:Udalosti pre Fakulta zdravotníctva a sociálnej práce sv. Ladislava, Nové Zámky
REFRESH-INTERVAL;VALUE=DURATION:PT1H
X-Robots-Tag:noindex
X-PUBLISHED-TTL:PT1H
BEGIN:VTIMEZONE
TZID:Europe/Bratislava
BEGIN:DAYLIGHT
TZOFFSETFROM:+0100
TZOFFSETTO:+0200
TZNAME:CEST
DTSTART:20250330T010000
END:DAYLIGHT
BEGIN:STANDARD
TZOFFSETFROM:+0200
TZOFFSETTO:+0100
TZNAME:CET
DTSTART:20251026T010000
END:STANDARD
BEGIN:DAYLIGHT
TZOFFSETFROM:+0100
TZOFFSETTO:+0200
TZNAME:CEST
DTSTART:20260329T010000
END:DAYLIGHT
BEGIN:STANDARD
TZOFFSETFROM:+0200
TZOFFSETTO:+0100
TZNAME:CET
DTSTART:20261025T010000
END:STANDARD
BEGIN:DAYLIGHT
TZOFFSETFROM:+0100
TZOFFSETTO:+0200
TZNAME:CEST
DTSTART:20270328T010000
END:DAYLIGHT
BEGIN:STANDARD
TZOFFSETFROM:+0200
TZOFFSETTO:+0100
TZNAME:CET
DTSTART:20271031T010000
END:STANDARD
END:VTIMEZONE
BEGIN:VEVENT
DTSTART;TZID=Europe/Bratislava:20260109T140000
DTEND;TZID=Europe/Bratislava:20260109T140000
DTSTAMP:20260425T193601
CREATED:20251119T114630Z
LAST-MODIFIED:20251202T112829Z
UID:48627-1767967200-1767967200@fsvladislava.sk
SUMMARY:SP 1.r. Mgr. - SK Etika v SP - Kinosála
DESCRIPTION:SP 1.r. Mgr. – SK Etika v SP – Dr. Moravík – Kinosála
URL:https://fsvladislava.sk/rozvrh/sp-1-r-mgr-sk-etika-v-sp-elix/
LOCATION:FNsP NZ  – Kinosála
CATEGORIES:Odbor Sociálna práca,SP - 1. ročník Mgr.
END:VEVENT
BEGIN:VEVENT
DTSTART;TZID=Europe/Bratislava:20260109T150000
DTEND;TZID=Europe/Bratislava:20260109T150000
DTSTAMP:20260425T193601
CREATED:20250916T121349Z
LAST-MODIFIED:20260107T112634Z
UID:48146-1767970800-1767970800@fsvladislava.sk
SUMMARY:SP 3.r. Bc. - Seminár k bakalárskej práci - Online
DESCRIPTION:SP 3.r. Bc. –  Seminár k bakalárskej práci – doc. Radi – Online
URL:https://fsvladislava.sk/rozvrh/sp-3-r-bc-seminar-k-bakalarskej-praci-online/
LOCATION:Online
CATEGORIES:Odbor Sociálna práca,SP - 3. ročník Bc.
END:VEVENT
BEGIN:VEVENT
DTSTART;TZID=Europe/Bratislava:20260109T150000
DTEND;TZID=Europe/Bratislava:20260109T150000
DTSTAMP:20260425T193601
CREATED:20251219T061856Z
LAST-MODIFIED:20251219T061856Z
UID:48875-1767970800-1767970800@fsvladislava.sk
SUMMARY:OŠE 1.r. Bc. - SK ANF a Zdravotnícka terminológia  - Modrý dom SZŠ
DESCRIPTION:OŠE 1.r. Bc. – Skúška: ANF a Zdravotnícka terminológia – Dr. Kocsis – Modrý dom SZŠ
URL:https://fsvladislava.sk/rozvrh/ose-1-r-bc-sk-anf-a-zdravotnicka-terminologia-modry-dom-szs-2/
LOCATION:SZŠ EK – Modrý dom
CATEGORIES:Odbor Ošetrovateľstvo,OŠE - 1. ročník Bc.
END:VEVENT
BEGIN:VEVENT
DTSTART;TZID=Europe/Bratislava:20260109T190000
DTEND;TZID=Europe/Bratislava:20260109T200000
DTSTAMP:20260425T193601
CREATED:20260102T053712Z
LAST-MODIFIED:20260102T053712Z
UID:48909-1767985200-1767988800@fsvladislava.sk
SUMMARY:OŠE 1.r. Mgr. - OT SK Nozokomiálne infekcie\, infektológia a oše. - Elix
DESCRIPTION:OŠE 1.r. Mgr. – OT Skúška: Nozokomiálne infekcie\, infektológia a oše. – Dr. Cipková – Online – Elix
URL:https://fsvladislava.sk/rozvrh/ose-1-r-mgr-ot-sk-nozokomialne-infekcie-infektologia-a-ose-elix/
LOCATION:Online – Elix
CATEGORIES:Odbor Ošetrovateľstvo,OŠE - 1. ročník Mgr.
END:VEVENT
END:VCALENDAR