BEGIN:VCALENDAR
VERSION:2.0
PRODID:-//Fakulta zdravotníctva a sociálnej práce sv. Ladislava, Nové Zámky - ECPv6.15.17//NONSGML v1.0//EN
CALSCALE:GREGORIAN
METHOD:PUBLISH
X-WR-CALNAME:Fakulta zdravotníctva a sociálnej práce sv. Ladislava, Nové Zámky
X-ORIGINAL-URL:https://fsvladislava.sk
X-WR-CALDESC:Udalosti pre Fakulta zdravotníctva a sociálnej práce sv. Ladislava, Nové Zámky
REFRESH-INTERVAL;VALUE=DURATION:PT1H
X-Robots-Tag:noindex
X-PUBLISHED-TTL:PT1H
BEGIN:VTIMEZONE
TZID:Europe/Bratislava
BEGIN:DAYLIGHT
TZOFFSETFROM:+0100
TZOFFSETTO:+0200
TZNAME:CEST
DTSTART:20250330T010000
END:DAYLIGHT
BEGIN:STANDARD
TZOFFSETFROM:+0200
TZOFFSETTO:+0100
TZNAME:CET
DTSTART:20251026T010000
END:STANDARD
BEGIN:DAYLIGHT
TZOFFSETFROM:+0100
TZOFFSETTO:+0200
TZNAME:CEST
DTSTART:20260329T010000
END:DAYLIGHT
BEGIN:STANDARD
TZOFFSETFROM:+0200
TZOFFSETTO:+0100
TZNAME:CET
DTSTART:20261025T010000
END:STANDARD
BEGIN:DAYLIGHT
TZOFFSETFROM:+0100
TZOFFSETTO:+0200
TZNAME:CEST
DTSTART:20270328T010000
END:DAYLIGHT
BEGIN:STANDARD
TZOFFSETFROM:+0200
TZOFFSETTO:+0100
TZNAME:CET
DTSTART:20271031T010000
END:STANDARD
END:VTIMEZONE
BEGIN:VEVENT
DTSTART;TZID=Europe/Bratislava:20260113T070000
DTEND;TZID=Europe/Bratislava:20260113T150000
DTSTAMP:20260425T193602
CREATED:20251020T064226Z
LAST-MODIFIED:20251020T064226Z
UID:48432-1768287600-1768316400@fsvladislava.sk
SUMMARY:OŠE 4.r. Bc. - SK Paliatívna a hospicová starostlivosť (všetci) - Seminárna miestnosť
DESCRIPTION:OŠE 4.r. Bc. – Sk: Paliatívna a hospicová starostlivosť (všetci) – Dr. Bystrická – Seminárna miestnosť
URL:https://fsvladislava.sk/rozvrh/ose-4-r-bc-sk-paliativna-a-hospicova-starostlivost-vsetci-seminarna-miestnost/
LOCATION:FNsP NZ  – Seminárna miestnosť
CATEGORIES:Odbor Ošetrovateľstvo,OŠE - 4. ročník Bc.
END:VEVENT
BEGIN:VEVENT
DTSTART;TZID=Europe/Bratislava:20260113T083000
DTEND;TZID=Europe/Bratislava:20260113T100000
DTSTAMP:20260425T193602
CREATED:20250903T055931Z
LAST-MODIFIED:20250903T055931Z
UID:47749-1768293000-1768298400@fsvladislava.sk
SUMMARY:FNsP NZ - Operatívna porada vedúcich zamestnancov - Zasadačka
DESCRIPTION:FNsP NZ – Operatívna porada vedúcich zamestnancov – Zasadačka
URL:https://fsvladislava.sk/rozvrh/fnsp-nz-operativna-porada-veducich-zamestnancov-zasadacka-28/
LOCATION:FNsP NZ – Zasadačka
CATEGORIES:FNsP NZ
END:VEVENT
BEGIN:VEVENT
DTSTART;TZID=Europe/Bratislava:20260113T100000
DTEND;TZID=Europe/Bratislava:20260113T150000
DTSTAMP:20260425T193602
CREATED:20260113T075331Z
LAST-MODIFIED:20260113T075331Z
UID:49127-1768298400-1768316400@fsvladislava.sk
SUMMARY:FNsP NZ - Oddelenia energetického hospodárstva - Zasadačka
DESCRIPTION:FNsP NZ -Oddelenia energetického hospodárstva  – Zasadačka
URL:https://fsvladislava.sk/rozvrh/fnsp-nz-oddelenia-energetickeho-hospodarstva-zasadacka/
LOCATION:FNsP NZ – Zasadačka
CATEGORIES:FNsP NZ
END:VEVENT
BEGIN:VEVENT
DTSTART;TZID=Europe/Bratislava:20260113T143000
DTEND;TZID=Europe/Bratislava:20260113T143000
DTSTAMP:20260425T193602
CREATED:20250113T191001Z
LAST-MODIFIED:20260108T102623Z
UID:46522-1768314600-1768314600@fsvladislava.sk
SUMMARY:UZS 4.r. Bc. - SK Ošetrovanie chronických rán - 12. poschodie
DESCRIPTION:UZS 4.r. Bc.  – Skúška – Ošetrovanie chronických rán – PhDr. A. Barteková – 12. poschodie
URL:https://fsvladislava.sk/rozvrh/uzs-4-r-bc-nz-pe-osetrovanie-chronickych-ran-kvl-ii-12-posch-3/
LOCATION:12. poschodie
CATEGORIES:Odbor Urgentná zdravotná starostlivosť,UZS – 4. ročník Bc.
END:VEVENT
BEGIN:VEVENT
DTSTART;TZID=Europe/Bratislava:20260113T150000
DTEND;TZID=Europe/Bratislava:20260113T150000
DTSTAMP:20260425T193602
CREATED:20251219T061921Z
LAST-MODIFIED:20251219T061921Z
UID:48879-1768316400-1768316400@fsvladislava.sk
SUMMARY:OŠE 1.r. Bc. - SK ANF a Zdravotnícka terminológia  - Modrý dom SZŠ
DESCRIPTION:OŠE 1.r. Bc. – Skúška: ANF a Zdravotnícka terminológia – Dr. Kocsis – Modrý dom SZŠ
URL:https://fsvladislava.sk/rozvrh/ose-1-r-bc-sk-anf-a-zdravotnicka-terminologia-modry-dom-szs-4/
LOCATION:SZŠ EK – Modrý dom
CATEGORIES:Odbor Ošetrovateľstvo,OŠE - 1. ročník Bc.
END:VEVENT
END:VCALENDAR