BEGIN:VCALENDAR
VERSION:2.0
PRODID:-//Fakulta zdravotníctva a sociálnej práce sv. Ladislava, Nové Zámky - ECPv6.15.17//NONSGML v1.0//EN
CALSCALE:GREGORIAN
METHOD:PUBLISH
X-ORIGINAL-URL:https://fsvladislava.sk
X-WR-CALDESC:Udalosti pre Fakulta zdravotníctva a sociálnej práce sv. Ladislava, Nové Zámky
REFRESH-INTERVAL;VALUE=DURATION:PT1H
X-Robots-Tag:noindex
X-PUBLISHED-TTL:PT1H
BEGIN:VTIMEZONE
TZID:Europe/Bratislava
BEGIN:DAYLIGHT
TZOFFSETFROM:+0100
TZOFFSETTO:+0200
TZNAME:CEST
DTSTART:20250330T010000
END:DAYLIGHT
BEGIN:STANDARD
TZOFFSETFROM:+0200
TZOFFSETTO:+0100
TZNAME:CET
DTSTART:20251026T010000
END:STANDARD
BEGIN:DAYLIGHT
TZOFFSETFROM:+0100
TZOFFSETTO:+0200
TZNAME:CEST
DTSTART:20260329T010000
END:DAYLIGHT
BEGIN:STANDARD
TZOFFSETFROM:+0200
TZOFFSETTO:+0100
TZNAME:CET
DTSTART:20261025T010000
END:STANDARD
BEGIN:DAYLIGHT
TZOFFSETFROM:+0100
TZOFFSETTO:+0200
TZNAME:CEST
DTSTART:20270328T010000
END:DAYLIGHT
BEGIN:STANDARD
TZOFFSETFROM:+0200
TZOFFSETTO:+0100
TZNAME:CET
DTSTART:20271031T010000
END:STANDARD
END:VTIMEZONE
BEGIN:VEVENT
DTSTART;TZID=Europe/Bratislava:20260115T070000
DTEND;TZID=Europe/Bratislava:20260115T130000
DTSTAMP:20260425T193727
CREATED:20260114T074132Z
LAST-MODIFIED:20260114T074132Z
UID:49141-1768460400-1768482000@fsvladislava.sk
SUMMARY:FNsP NZ - DRG - Zasadačka
DESCRIPTION:FNsP NZ – DRG – Zasadačka
URL:https://fsvladislava.sk/rozvrh/fnsp-nz-drg-zasadacka-5/
LOCATION:FNsP NZ – Zasadačka
CATEGORIES:FNsP NZ
END:VEVENT
BEGIN:VEVENT
DTSTART;TZID=Europe/Bratislava:20260115T090000
DTEND;TZID=Europe/Bratislava:20260115T090000
DTSTAMP:20260425T193727
CREATED:20260107T054229Z
LAST-MODIFIED:20260107T054253Z
UID:48927-1768467600-1768467600@fsvladislava.sk
SUMMARY:PA 3.r. Bc. – SK Oše. proces v PA III. - Seminárna miestnosť
DESCRIPTION:PA 3.r. Bc. – Skúška: Oše. proces v PA III. – prof. Matulníková – Seminárna miestnosť
URL:https://fsvladislava.sk/rozvrh/pa-3-r-bc-sk-ose-proces-v-pa-iii-seminarna-miestnost/
LOCATION:FNsP NZ  – Seminárna miestnosť
CATEGORIES:Odbor Pôrodná asistencia,PA - 3. ročník Bc.
END:VEVENT
BEGIN:VEVENT
DTSTART;TZID=Europe/Bratislava:20260115T113000
DTEND;TZID=Europe/Bratislava:20260115T170000
DTSTAMP:20260425T193727
CREATED:20251016T053350Z
LAST-MODIFIED:20260108T103632Z
UID:48385-1768476600-1768496400@fsvladislava.sk
SUMMARY:UZS 4.r. Bc. NZ - Multikultúrne ošetrovateľstvo  - Webex
DESCRIPTION:UZS 4.r. Bc. NZ – Prednáška: Multikultúrne ošetrovateľstvo  – MUDr. K. Lenártová\, PhD. – Webex
URL:https://fsvladislava.sk/rozvrh/uzs-4-r-bc-nz-multikulturne-osetrovatelstvo-kinosala/
LOCATION:Online – Webex
CATEGORIES:Odbor Urgentná zdravotná starostlivosť,UZS – 4. ročník Bc.
END:VEVENT
BEGIN:VEVENT
DTSTART;TZID=Europe/Bratislava:20260115T130000
DTEND;TZID=Europe/Bratislava:20260115T150000
DTSTAMP:20260425T193727
CREATED:20251218T113055Z
LAST-MODIFIED:20251218T113055Z
UID:48871-1768482000-1768489200@fsvladislava.sk
SUMMARY:FNsP NZ - Personálny a mzdový odbor - Zasadačka
DESCRIPTION:FNsP NZ – Personálny a mzdový odbor – Zasadačka
URL:https://fsvladislava.sk/rozvrh/fnsp-nz-personalny-a-mzdovy-odbor-zasadacka-7/
LOCATION:FNsP NZ – Zasadačka
CATEGORIES:FNsP NZ
END:VEVENT
BEGIN:VEVENT
DTSTART;TZID=Europe/Bratislava:20260115T143000
DTEND;TZID=Europe/Bratislava:20260115T143000
DTSTAMP:20260425T193727
CREATED:20260108T102641Z
LAST-MODIFIED:20260108T102641Z
UID:48979-1768487400-1768487400@fsvladislava.sk
SUMMARY:UZS 4.r. Bc. - SK Ošetrovanie chronických rán - 12. poschodie
DESCRIPTION:UZS 4.r. Bc.  – Skúška – Ošetrovanie chronických rán – PhDr. A. Barteková – 12. poschodie
URL:https://fsvladislava.sk/rozvrh/uzs-4-r-bc-sk-osetrovanie-chronickych-ran-12-poschodie/
LOCATION:12. poschodie
CATEGORIES:Odbor Urgentná zdravotná starostlivosť,UZS – 4. ročník Bc.
END:VEVENT
BEGIN:VEVENT
DTSTART;TZID=Europe/Bratislava:20260115T150000
DTEND;TZID=Europe/Bratislava:20260115T150000
DTSTAMP:20260425T193727
CREATED:20251219T061945Z
LAST-MODIFIED:20251219T061945Z
UID:48883-1768489200-1768489200@fsvladislava.sk
SUMMARY:OŠE 1.r. Bc. - SK ANF a Zdravotnícka terminológia  - Modrý dom SZŠ
DESCRIPTION:OŠE 1.r. Bc. – Skúška: ANF a Zdravotnícka terminológia – Dr. Kocsis – Modrý dom SZŠ
URL:https://fsvladislava.sk/rozvrh/ose-1-r-bc-sk-anf-a-zdravotnicka-terminologia-modry-dom-szs-6/
LOCATION:SZŠ EK – Modrý dom
CATEGORIES:Odbor Ošetrovateľstvo,OŠE - 1. ročník Bc.
END:VEVENT
BEGIN:VEVENT
DTSTART;TZID=Europe/Bratislava:20260115T190000
DTEND;TZID=Europe/Bratislava:20260115T193000
DTSTAMP:20260425T193727
CREATED:20251121T081702Z
LAST-MODIFIED:20251121T081702Z
UID:48685-1768503600-1768505400@fsvladislava.sk
SUMMARY:OŠE 3.r. Bc. - NZ SK Zdravotná výchova\, výchova k zdraviu  - Elix
DESCRIPTION:OŠE 3.r. Bc.  – NZ Skúška: Zdravotná výchova\, výchova k zdraviu  – PhDr. I. Nagyová\, PhD. – Elix
URL:https://fsvladislava.sk/rozvrh/ose-3-r-bc-nz-sk-zdravotna-vychova-vychova-k-zdraviu-elix/
LOCATION:Online – Elix
CATEGORIES:Odbor Ošetrovateľstvo,OŠE - 3. ročník Bc.
END:VEVENT
END:VCALENDAR