BEGIN:VCALENDAR
VERSION:2.0
PRODID:-//Fakulta zdravotníctva a sociálnej práce sv. Ladislava, Nové Zámky - ECPv6.15.17//NONSGML v1.0//EN
CALSCALE:GREGORIAN
METHOD:PUBLISH
X-ORIGINAL-URL:https://fsvladislava.sk
X-WR-CALDESC:Udalosti pre Fakulta zdravotníctva a sociálnej práce sv. Ladislava, Nové Zámky
REFRESH-INTERVAL;VALUE=DURATION:PT1H
X-Robots-Tag:noindex
X-PUBLISHED-TTL:PT1H
BEGIN:VTIMEZONE
TZID:Europe/Bratislava
BEGIN:DAYLIGHT
TZOFFSETFROM:+0100
TZOFFSETTO:+0200
TZNAME:CEST
DTSTART:20250330T010000
END:DAYLIGHT
BEGIN:STANDARD
TZOFFSETFROM:+0200
TZOFFSETTO:+0100
TZNAME:CET
DTSTART:20251026T010000
END:STANDARD
BEGIN:DAYLIGHT
TZOFFSETFROM:+0100
TZOFFSETTO:+0200
TZNAME:CEST
DTSTART:20260329T010000
END:DAYLIGHT
BEGIN:STANDARD
TZOFFSETFROM:+0200
TZOFFSETTO:+0100
TZNAME:CET
DTSTART:20261025T010000
END:STANDARD
BEGIN:DAYLIGHT
TZOFFSETFROM:+0100
TZOFFSETTO:+0200
TZNAME:CEST
DTSTART:20270328T010000
END:DAYLIGHT
BEGIN:STANDARD
TZOFFSETFROM:+0200
TZOFFSETTO:+0100
TZNAME:CET
DTSTART:20271031T010000
END:STANDARD
END:VTIMEZONE
BEGIN:VEVENT
DTSTART;TZID=Europe/Bratislava:20260206T090000
DTEND;TZID=Europe/Bratislava:20260206T153000
DTSTAMP:20260425T175309
CREATED:20260202T133222Z
LAST-MODIFIED:20260202T133548Z
UID:49424-1770368400-1770391800@fsvladislava.sk
SUMMARY:SP 1.r. Bc. - SPV sebapoznanie\, sebahodnotenie - Zasadačka
DESCRIPTION:SP 1.r. Bc.  – SPV sebapoznanie\, sebahodnotenie – Dr. Pavlovičová\, Dr. Nagy Gažová\, Dr. Balážiová – Zasadačka
URL:https://fsvladislava.sk/rozvrh/ose-1-r-bc-spv-sebapoznanie-sebahodnotenie-zasadacka/
LOCATION:FNsP NZ – Zasadačka
CATEGORIES:Odbor Sociálna práca,SP - 1. ročník Bc.
END:VEVENT
BEGIN:VEVENT
DTSTART;TZID=Europe/Bratislava:20260206T120000
DTEND;TZID=Europe/Bratislava:20260206T120000
DTSTAMP:20260425T175309
CREATED:20260120T071538Z
LAST-MODIFIED:20260126T065049Z
UID:49270-1770379200-1770379200@fsvladislava.sk
SUMMARY:SP 2r. Bc. - SK - odborná prax  - Kinosála
DESCRIPTION:SP 2r. Bc. – Skúška: – odborná prax – Dr. Buzalová – Kinosála
URL:https://fsvladislava.sk/rozvrh/sp-2r-bc-sk-socialne-sluzby-kinosala/
LOCATION:FNsP NZ  – Kinosála
CATEGORIES:Odbor Sociálna práca,SP - 1. ročník Mgr.,SP - 2. ročník Bc.,SP - 3. ročník Bc.,SP - Ročníky 2. stupeň magistri
END:VEVENT
BEGIN:VEVENT
DTSTART;TZID=Europe/Bratislava:20260206T150000
DTEND;TZID=Europe/Bratislava:20260206T183000
DTSTAMP:20260425T175309
CREATED:20260202T141640Z
LAST-MODIFIED:20260202T141640Z
UID:49468-1770390000-1770402600@fsvladislava.sk
SUMMARY:SP 1.r. Mgr. - Teória SP - Online
DESCRIPTION:SP 1.r. Mgr. – Teória SP – prof. Ing. Mgr. Radková\, PhD. – Online
URL:https://fsvladislava.sk/rozvrh/sp-1-r-mgr-teoria-sp-online/
LOCATION:Online
CATEGORIES:Odbor Sociálna práca,SP - 1. ročník Mgr.
ORGANIZER;CN="prof. Radkov%C3%A1":MAILTO:libusa.radkova@gmail.com
END:VEVENT
END:VCALENDAR