BEGIN:VCALENDAR
VERSION:2.0
PRODID:-//Fakulta zdravotníctva a sociálnej práce sv. Ladislava, Nové Zámky - ECPv6.15.17//NONSGML v1.0//EN
CALSCALE:GREGORIAN
METHOD:PUBLISH
X-WR-CALNAME:Fakulta zdravotníctva a sociálnej práce sv. Ladislava, Nové Zámky
X-ORIGINAL-URL:https://fsvladislava.sk
X-WR-CALDESC:Udalosti pre Fakulta zdravotníctva a sociálnej práce sv. Ladislava, Nové Zámky
REFRESH-INTERVAL;VALUE=DURATION:PT1H
X-Robots-Tag:noindex
X-PUBLISHED-TTL:PT1H
BEGIN:VTIMEZONE
TZID:Europe/Bratislava
BEGIN:DAYLIGHT
TZOFFSETFROM:+0100
TZOFFSETTO:+0200
TZNAME:CEST
DTSTART:20250330T010000
END:DAYLIGHT
BEGIN:STANDARD
TZOFFSETFROM:+0200
TZOFFSETTO:+0100
TZNAME:CET
DTSTART:20251026T010000
END:STANDARD
BEGIN:DAYLIGHT
TZOFFSETFROM:+0100
TZOFFSETTO:+0200
TZNAME:CEST
DTSTART:20260329T010000
END:DAYLIGHT
BEGIN:STANDARD
TZOFFSETFROM:+0200
TZOFFSETTO:+0100
TZNAME:CET
DTSTART:20261025T010000
END:STANDARD
BEGIN:DAYLIGHT
TZOFFSETFROM:+0100
TZOFFSETTO:+0200
TZNAME:CEST
DTSTART:20270328T010000
END:DAYLIGHT
BEGIN:STANDARD
TZOFFSETFROM:+0200
TZOFFSETTO:+0100
TZNAME:CET
DTSTART:20271031T010000
END:STANDARD
END:VTIMEZONE
BEGIN:VEVENT
DTSTART;TZID=Europe/Bratislava:20260213T090000
DTEND;TZID=Europe/Bratislava:20260213T130000
DTSTAMP:20260425T175302
CREATED:20230110T120228Z
LAST-MODIFIED:20260202T135252Z
UID:38927-1770973200-1770987600@fsvladislava.sk
SUMMARY:SP 2.r. Bc. - SPV komunikácia - Zasadačka
DESCRIPTION:SP 2.r. Bc. – SPV komunikácia – Dr. Nagy Gažová – Zasadačka
URL:https://fsvladislava.sk/rozvrh/sp-1-r-bc-spv-vycvik-zasadacka-2/
LOCATION:FNsP NZ – Zasadačka
CATEGORIES:Odbor Sociálna práca,SP - 2. ročník Bc.
END:VEVENT
BEGIN:VEVENT
DTSTART;TZID=Europe/Bratislava:20260213T120000
DTEND;TZID=Europe/Bratislava:20260213T160000
DTSTAMP:20260425T175302
CREATED:20251119T072339Z
LAST-MODIFIED:20251119T072449Z
UID:48622-1770984000-1770998400@fsvladislava.sk
SUMMARY:SP 3.r. Bc. - SK Špecializovaná odborná prax - Kinosála
DESCRIPTION:SP 3.r. Bc. – Skúška: špecializovaná odborná prax – Dr. Buzalová – Kinosála
URL:https://fsvladislava.sk/rozvrh/sp-3-r-bc-specializovana-odborna-prax-kinosala/
LOCATION:FNsP NZ  – Kinosála
CATEGORIES:Odbor Sociálna práca,SP - 3. ročník Bc.
END:VEVENT
BEGIN:VEVENT
DTSTART;TZID=Europe/Bratislava:20260213T130000
DTEND;TZID=Europe/Bratislava:20260213T150000
DTSTAMP:20260425T175302
CREATED:20260129T102421Z
LAST-MODIFIED:20260129T102421Z
UID:49386-1770987600-1770994800@fsvladislava.sk
SUMMARY:FNsP NZ - Školenie o podávaní transfúzií - Zasadačka
DESCRIPTION:FNsP NZ – Školenie o podávaní transfúzií – Zasadačka
URL:https://fsvladislava.sk/rozvrh/fnsp-nz-skolenie-o-podavani-transfuzii-zasadacka/
LOCATION:FNsP NZ – Zasadačka
CATEGORIES:FNsP NZ
END:VEVENT
END:VCALENDAR