BEGIN:VCALENDAR
VERSION:2.0
PRODID:-//Fakulta zdravotníctva a sociálnej práce sv. Ladislava, Nové Zámky - ECPv6.15.17//NONSGML v1.0//EN
CALSCALE:GREGORIAN
METHOD:PUBLISH
X-WR-CALNAME:Fakulta zdravotníctva a sociálnej práce sv. Ladislava, Nové Zámky
X-ORIGINAL-URL:https://fsvladislava.sk
X-WR-CALDESC:Udalosti pre Fakulta zdravotníctva a sociálnej práce sv. Ladislava, Nové Zámky
REFRESH-INTERVAL;VALUE=DURATION:PT1H
X-Robots-Tag:noindex
X-PUBLISHED-TTL:PT1H
BEGIN:VTIMEZONE
TZID:Europe/Bratislava
BEGIN:DAYLIGHT
TZOFFSETFROM:+0100
TZOFFSETTO:+0200
TZNAME:CEST
DTSTART:20250330T010000
END:DAYLIGHT
BEGIN:STANDARD
TZOFFSETFROM:+0200
TZOFFSETTO:+0100
TZNAME:CET
DTSTART:20251026T010000
END:STANDARD
BEGIN:DAYLIGHT
TZOFFSETFROM:+0100
TZOFFSETTO:+0200
TZNAME:CEST
DTSTART:20260329T010000
END:DAYLIGHT
BEGIN:STANDARD
TZOFFSETFROM:+0200
TZOFFSETTO:+0100
TZNAME:CET
DTSTART:20261025T010000
END:STANDARD
BEGIN:DAYLIGHT
TZOFFSETFROM:+0100
TZOFFSETTO:+0200
TZNAME:CEST
DTSTART:20270328T010000
END:DAYLIGHT
BEGIN:STANDARD
TZOFFSETFROM:+0200
TZOFFSETTO:+0100
TZNAME:CET
DTSTART:20271031T010000
END:STANDARD
END:VTIMEZONE
BEGIN:VEVENT
DTSTART;TZID=Europe/Bratislava:20260214T080000
DTEND;TZID=Europe/Bratislava:20260214T153000
DTSTAMP:20260425T175303
CREATED:20250916T123034Z
LAST-MODIFIED:20260202T135347Z
UID:48157-1771056000-1771083000@fsvladislava.sk
SUMMARY:SP 2.r. Bc. - SPV komunikácia - Zasadačka
DESCRIPTION:SP 2.r. Bc. – SPV komunikácia – Dr. Nagy Gažová – Zasadačka
URL:https://fsvladislava.sk/rozvrh/sp-2-r-bc-spv-komunikacia-zasadacka/
LOCATION:FNsP NZ – Zasadačka
CATEGORIES:Odbor Sociálna práca,SP - 2. ročník Bc.
END:VEVENT
BEGIN:VEVENT
DTSTART;TZID=Europe/Bratislava:20260214T090000
DTEND;TZID=Europe/Bratislava:20260214T090000
DTSTAMP:20260425T175303
CREATED:20260119T110750Z
LAST-MODIFIED:20260119T110750Z
UID:49258-1771059600-1771059600@fsvladislava.sk
SUMMARY:SP 2.r. Mgr. - SK Penitenciarna a postpenitenciarna SP - Kinosála
DESCRIPTION:SP 2.r. Mgr. –  Skúška: Penitenciarna a postpenitenciarna SP – Dr. Lobodáš – Kinosála
URL:https://fsvladislava.sk/rozvrh/sp-2-r-mgr-sk-penitenciarna-a-postpenitenciarna-sp-kinosala/
LOCATION:FNsP NZ  – Kinosála
CATEGORIES:Odbor Sociálna práca,SP - 2. ročník Mgr.
END:VEVENT
BEGIN:VEVENT
DTSTART;TZID=Europe/Bratislava:20260214T090000
DTEND;TZID=Europe/Bratislava:20260214T110000
DTSTAMP:20260425T175303
CREATED:20260108T071149Z
LAST-MODIFIED:20260203T143004Z
UID:48971-1771059600-1771066800@fsvladislava.sk
SUMMARY:SP 3.r. Bc. - SK Metódy SP s jednotlivcom - Online - ústna skúška
DESCRIPTION:SP 3.r. Bc. – Skúška: Metódy SP s jednotlivcom – doc. Bundzelová – Online – ústna skúška
URL:https://fsvladislava.sk/rozvrh/sp-3-r-bc-sk-metody-sp-s-jednotlivcom-online/
LOCATION:Online
CATEGORIES:Odbor Sociálna práca,SP - 3. ročník Bc.
END:VEVENT
BEGIN:VEVENT
DTSTART;TZID=Europe/Bratislava:20260214T110000
DTEND;TZID=Europe/Bratislava:20260214T110000
DTSTAMP:20260425T175303
CREATED:20260119T110944Z
LAST-MODIFIED:20260119T110944Z
UID:49260-1771066800-1771066800@fsvladislava.sk
SUMMARY:SP 1.r. Bc. - SK Občianske právo - Kinosála
DESCRIPTION:SP 1.r. Bc. – Skúška: Občianske právo – Dr. Lobodáš – Kinosála
URL:https://fsvladislava.sk/rozvrh/sp-1-r-bc-sk-obcianske-pravo-kinosala-2/
LOCATION:FNsP NZ  – Kinosála
CATEGORIES:Odbor Sociálna práca,SP - 1. ročník Bc.
END:VEVENT
BEGIN:VEVENT
DTSTART;TZID=Europe/Bratislava:20260214T110000
DTEND;TZID=Europe/Bratislava:20260214T120000
DTSTAMP:20260425T175303
CREATED:20260108T071216Z
LAST-MODIFIED:20260203T143115Z
UID:48973-1771066800-1771070400@fsvladislava.sk
SUMMARY:SP 3.r. Bc. - SK Metódy SP s jednotlivcom (rozdieloví študenti) - Online - ústna skúška
DESCRIPTION:SP 3.r. Bc. – Skúška: Metódy SP s jednotlivcom (rozdieloví študenti) – doc. Bundzelová – Online – ústna skúška
URL:https://fsvladislava.sk/rozvrh/sp-3-r-bc-sk-metody-sp-s-jednotlivcom-rozdielovi-studenti-online/
LOCATION:Online
CATEGORIES:Odbor Sociálna práca,SP - 3. ročník Bc.
END:VEVENT
END:VCALENDAR