BEGIN:VCALENDAR
VERSION:2.0
PRODID:-//Fakulta zdravotníctva a sociálnej práce sv. Ladislava, Nové Zámky - ECPv6.15.17//NONSGML v1.0//EN
CALSCALE:GREGORIAN
METHOD:PUBLISH
X-ORIGINAL-URL:https://fsvladislava.sk
X-WR-CALDESC:Udalosti pre Fakulta zdravotníctva a sociálnej práce sv. Ladislava, Nové Zámky
REFRESH-INTERVAL;VALUE=DURATION:PT1H
X-Robots-Tag:noindex
X-PUBLISHED-TTL:PT1H
BEGIN:VTIMEZONE
TZID:Europe/Bratislava
BEGIN:DAYLIGHT
TZOFFSETFROM:+0100
TZOFFSETTO:+0200
TZNAME:CEST
DTSTART:20250330T010000
END:DAYLIGHT
BEGIN:STANDARD
TZOFFSETFROM:+0200
TZOFFSETTO:+0100
TZNAME:CET
DTSTART:20251026T010000
END:STANDARD
BEGIN:DAYLIGHT
TZOFFSETFROM:+0100
TZOFFSETTO:+0200
TZNAME:CEST
DTSTART:20260329T010000
END:DAYLIGHT
BEGIN:STANDARD
TZOFFSETFROM:+0200
TZOFFSETTO:+0100
TZNAME:CET
DTSTART:20261025T010000
END:STANDARD
BEGIN:DAYLIGHT
TZOFFSETFROM:+0100
TZOFFSETTO:+0200
TZNAME:CEST
DTSTART:20270328T010000
END:DAYLIGHT
BEGIN:STANDARD
TZOFFSETFROM:+0200
TZOFFSETTO:+0100
TZNAME:CET
DTSTART:20271031T010000
END:STANDARD
END:VTIMEZONE
BEGIN:VEVENT
DTSTART;TZID=Europe/Bratislava:20260224T083000
DTEND;TZID=Europe/Bratislava:20260224T100000
DTSTAMP:20260425T161014
CREATED:20250903T060326Z
LAST-MODIFIED:20250903T060326Z
UID:47761-1771921800-1771927200@fsvladislava.sk
SUMMARY:FNsP NZ - Operatívna porada vedúcich zamestnancov - Zasadačka
DESCRIPTION:FNsP NZ – Operatívna porada vedúcich zamestnancov – Zasadačka
URL:https://fsvladislava.sk/rozvrh/fnsp-nz-operativna-porada-veducich-zamestnancov-zasadacka-58/
LOCATION:FNsP NZ – Zasadačka
CATEGORIES:FNsP NZ
END:VEVENT
BEGIN:VEVENT
DTSTART;TZID=Europe/Bratislava:20260224T090000
DTEND;TZID=Europe/Bratislava:20260224T153000
DTSTAMP:20260425T161014
CREATED:20230310T094705Z
LAST-MODIFIED:20260122T060723Z
UID:39621-1771923600-1771947000@fsvladislava.sk
SUMMARY:OŠE 2.r. Mgr. - Manažment ošetrovateľstva II.  - Webex
DESCRIPTION:OŠE 2.r. Mgr. – Manažment ošetrovateľstva II.  – doc. Koňošová – Online-Webex
URL:https://fsvladislava.sk/rozvrh/ose-2-r-mgr-manazerska-prax-elix/
LOCATION:Online – Webex
CATEGORIES:Odbor Ošetrovateľstvo,OŠE - 2. ročník Mgr.
END:VEVENT
BEGIN:VEVENT
DTSTART;TZID=Europe/Bratislava:20260224T090000
DTEND;TZID=Europe/Bratislava:20260224T153000
DTSTAMP:20260425T161014
CREATED:20240208T104139Z
LAST-MODIFIED:20260109T074546Z
UID:42984-1771923600-1771947000@fsvladislava.sk
SUMMARY:OŠE 1.r. Mgr. - Pracovné právo - Kinosála
DESCRIPTION:OŠE 1.r. Mgr. – Pracovné právo – prof. Šimoňák – Kinosála
URL:https://fsvladislava.sk/rozvrh/ose-1-r-mgr-pracovne-pravo-skype/
LOCATION:FNsP NZ  – Kinosála
CATEGORIES:Odbor Ošetrovateľstvo,OŠE - 1. ročník Mgr.
END:VEVENT
BEGIN:VEVENT
DTSTART;TZID=Europe/Bratislava:20260224T090000
DTEND;TZID=Europe/Bratislava:20260224T153000
DTSTAMP:20260425T161014
CREATED:20260109T071908Z
LAST-MODIFIED:20260109T071908Z
UID:49016-1771923600-1771947000@fsvladislava.sk
SUMMARY:PA 1.r. Bc. - Postupy a techniky v PA - Seminárna miestnosť
DESCRIPTION:PA 1.r. Bc. – Postupy a techniky v PA  – prof. Hanušová – Seminárna miestnosť
URL:https://fsvladislava.sk/rozvrh/pa-1-r-bc-postupy-a-techniky-v-pa-seminarna-miestnost-3/
LOCATION:FNsP NZ  – Seminárna miestnosť
CATEGORIES:Odbor Pôrodná asistencia,PA - 1. ročník Bc.
END:VEVENT
BEGIN:VEVENT
DTSTART;TZID=Europe/Bratislava:20260224T130000
DTEND;TZID=Europe/Bratislava:20260224T170000
DTSTAMP:20260425T161014
CREATED:20260122T134124Z
LAST-MODIFIED:20260122T134124Z
UID:49334-1771938000-1771952400@fsvladislava.sk
SUMMARY:OŠE 4.r. Bc. - SK OT Oše. v gyn.-pôr. II. - Zasadačka
DESCRIPTION:OŠE 4.r. Bc. – Skúška OT: Oše. v gyn.-pôr. II. – prof. Libová – Zasadačka
URL:https://fsvladislava.sk/rozvrh/ose-4-r-bc-sk-ot-ose-v-gyn-por-ii-zasadacka/
LOCATION:FNsP NZ – Zasadačka
CATEGORIES:Odbor Ošetrovateľstvo,OŠE - 4. ročník Bc.
END:VEVENT
BEGIN:VEVENT
DTSTART;TZID=Europe/Bratislava:20260224T150000
DTEND;TZID=Europe/Bratislava:20260224T150000
DTSTAMP:20260425T161014
CREATED:20260116T123737Z
LAST-MODIFIED:20260116T123737Z
UID:49241-1771945200-1771945200@fsvladislava.sk
SUMMARY:OŠE 1.r. Bc. - SK ANF II. - Modrý dom SZŠ
DESCRIPTION:OŠE 1.r. Bc. – Skúška – ANF II.  – Dr. Kocsis – Modrý dom SZŠ
URL:https://fsvladislava.sk/rozvrh/ose-1-r-bc-sk-anf-ii-modry-dom-szs-5/
LOCATION:SZŠ EK – Modrý dom
CATEGORIES:Odbor Ošetrovateľstvo,OŠE - 1. ročník Bc.
END:VEVENT
END:VCALENDAR