BEGIN:VCALENDAR
VERSION:2.0
PRODID:-//Fakulta zdravotníctva a sociálnej práce sv. Ladislava, Nové Zámky - ECPv6.15.17//NONSGML v1.0//EN
CALSCALE:GREGORIAN
METHOD:PUBLISH
X-ORIGINAL-URL:https://fsvladislava.sk
X-WR-CALDESC:Udalosti pre Fakulta zdravotníctva a sociálnej práce sv. Ladislava, Nové Zámky
REFRESH-INTERVAL;VALUE=DURATION:PT1H
X-Robots-Tag:noindex
X-PUBLISHED-TTL:PT1H
BEGIN:VTIMEZONE
TZID:Europe/Bratislava
BEGIN:DAYLIGHT
TZOFFSETFROM:+0100
TZOFFSETTO:+0200
TZNAME:CEST
DTSTART:20250330T010000
END:DAYLIGHT
BEGIN:STANDARD
TZOFFSETFROM:+0200
TZOFFSETTO:+0100
TZNAME:CET
DTSTART:20251026T010000
END:STANDARD
BEGIN:DAYLIGHT
TZOFFSETFROM:+0100
TZOFFSETTO:+0200
TZNAME:CEST
DTSTART:20260329T010000
END:DAYLIGHT
BEGIN:STANDARD
TZOFFSETFROM:+0200
TZOFFSETTO:+0100
TZNAME:CET
DTSTART:20261025T010000
END:STANDARD
BEGIN:DAYLIGHT
TZOFFSETFROM:+0100
TZOFFSETTO:+0200
TZNAME:CEST
DTSTART:20270328T010000
END:DAYLIGHT
BEGIN:STANDARD
TZOFFSETFROM:+0200
TZOFFSETTO:+0100
TZNAME:CET
DTSTART:20271031T010000
END:STANDARD
END:VTIMEZONE
BEGIN:VEVENT
DTSTART;TZID=Europe/Bratislava:20260225T060000
DTEND;TZID=Europe/Bratislava:20260225T160000
DTSTAMP:20260425T161022
CREATED:20260205T071935Z
LAST-MODIFIED:20260205T071935Z
UID:49539-1771999200-1772035200@fsvladislava.sk
SUMMARY:FNsP NZ - Personálne oddelenie - Zasadačka
DESCRIPTION:FNsP NZ – Personálne oddelenie – Zasadačka
URL:https://fsvladislava.sk/rozvrh/fnsp-nz-personalne-oddelenie-zasadacka-2/
LOCATION:FNsP NZ – Zasadačka
CATEGORIES:FNsP NZ
END:VEVENT
BEGIN:VEVENT
DTSTART;TZID=Europe/Bratislava:20260225T083000
DTEND;TZID=Europe/Bratislava:20260225T083000
DTSTAMP:20260425T161022
CREATED:20260203T140438Z
LAST-MODIFIED:20260203T140438Z
UID:49513-1772008200-1772008200@fsvladislava.sk
SUMMARY:OŠE 1.r. Bc. - Ošetrovateľské postupy a techniky I. - Modrý dom
DESCRIPTION:OŠE 1.r. Bc. – Ošetrovateľské postupy a techniky I. – Dr. Nagyová – Modrý dom
URL:https://fsvladislava.sk/rozvrh/ose-1-r-bc-osetrovatelske-postupy-a-techniky-i-modry-dom-10/
LOCATION:SZŠ EK – Modrý dom
CATEGORIES:Odbor Ošetrovateľstvo,OŠE - 1. ročník Bc.
END:VEVENT
BEGIN:VEVENT
DTSTART;TZID=Europe/Bratislava:20260225T090000
DTEND;TZID=Europe/Bratislava:20260225T153000
DTSTAMP:20260425T161022
CREATED:20240208T104404Z
LAST-MODIFIED:20260109T074650Z
UID:42989-1772010000-1772033400@fsvladislava.sk
SUMMARY:OŠE 1.r. Mgr. - Oše star. o duševné zdravie - Kinosála
DESCRIPTION:OŠE 1.r. Mgr. – Oše star. o duševné zdravie  – Dr. Kollárová  – Kinosála
URL:https://fsvladislava.sk/rozvrh/ose-1-r-mgr-ose-star-o-dusevne-zdravie-kinosala/
LOCATION:FNsP NZ  – Kinosála
CATEGORIES:Odbor Ošetrovateľstvo,OŠE - 1. ročník Mgr.
END:VEVENT
BEGIN:VEVENT
DTSTART;TZID=Europe/Bratislava:20260225T150000
DTEND;TZID=Europe/Bratislava:20260225T150000
DTSTAMP:20260425T161022
CREATED:20260116T123748Z
LAST-MODIFIED:20260116T123748Z
UID:49243-1772031600-1772031600@fsvladislava.sk
SUMMARY:OŠE 1.r. Bc. - SK ANF II. - Modrý dom SZŠ
DESCRIPTION:OŠE 1.r. Bc. – Skúška – ANF II.  – Dr. Kocsis – Modrý dom SZŠ
URL:https://fsvladislava.sk/rozvrh/ose-1-r-bc-sk-anf-ii-modry-dom-szs-6/
LOCATION:SZŠ EK – Modrý dom
CATEGORIES:Odbor Ošetrovateľstvo,OŠE - 1. ročník Bc.
END:VEVENT
END:VCALENDAR