BEGIN:VCALENDAR
VERSION:2.0
PRODID:-//Fakulta zdravotníctva a sociálnej práce sv. Ladislava, Nové Zámky - ECPv6.15.17//NONSGML v1.0//EN
CALSCALE:GREGORIAN
METHOD:PUBLISH
X-WR-CALNAME:Fakulta zdravotníctva a sociálnej práce sv. Ladislava, Nové Zámky
X-ORIGINAL-URL:https://fsvladislava.sk
X-WR-CALDESC:Udalosti pre Fakulta zdravotníctva a sociálnej práce sv. Ladislava, Nové Zámky
REFRESH-INTERVAL;VALUE=DURATION:PT1H
X-Robots-Tag:noindex
X-PUBLISHED-TTL:PT1H
BEGIN:VTIMEZONE
TZID:Europe/Bratislava
BEGIN:DAYLIGHT
TZOFFSETFROM:+0100
TZOFFSETTO:+0200
TZNAME:CEST
DTSTART:20250330T010000
END:DAYLIGHT
BEGIN:STANDARD
TZOFFSETFROM:+0200
TZOFFSETTO:+0100
TZNAME:CET
DTSTART:20251026T010000
END:STANDARD
BEGIN:DAYLIGHT
TZOFFSETFROM:+0100
TZOFFSETTO:+0200
TZNAME:CEST
DTSTART:20260329T010000
END:DAYLIGHT
BEGIN:STANDARD
TZOFFSETFROM:+0200
TZOFFSETTO:+0100
TZNAME:CET
DTSTART:20261025T010000
END:STANDARD
BEGIN:DAYLIGHT
TZOFFSETFROM:+0100
TZOFFSETTO:+0200
TZNAME:CEST
DTSTART:20270328T010000
END:DAYLIGHT
BEGIN:STANDARD
TZOFFSETFROM:+0200
TZOFFSETTO:+0100
TZNAME:CET
DTSTART:20271031T010000
END:STANDARD
END:VTIMEZONE
BEGIN:VEVENT
DTSTART;TZID=Europe/Bratislava:20260227T080000
DTEND;TZID=Europe/Bratislava:20260227T090000
DTSTAMP:20260425T161010
CREATED:20260218T062328Z
LAST-MODIFIED:20260218T062328Z
UID:49624-1772179200-1772182800@fsvladislava.sk
SUMMARY:OŠE 4.r. Bc. - Žilina - HER školenie - Kinosála
DESCRIPTION:OŠE 4.r. Bc. – Žilina – HER školenie  – PhDr. P. Hoppan – Kinosála
URL:https://fsvladislava.sk/rozvrh/ose-4-r-bc-zilina-her-skolenie-kinosala/
LOCATION:FNsP NZ  – Kinosála
CATEGORIES:Odbor Ošetrovateľstvo,OŠE - 4. ročník Bc.
END:VEVENT
BEGIN:VEVENT
DTSTART;TZID=Europe/Bratislava:20260227T090000
DTEND;TZID=Europe/Bratislava:20260227T090000
DTSTAMP:20260425T161010
CREATED:20260116T123901Z
LAST-MODIFIED:20260116T123901Z
UID:49249-1772182800-1772182800@fsvladislava.sk
SUMMARY:OŠE 1.r. Bc. - OT SK ANF II. - Seminárna miestnosť
DESCRIPTION:OŠE 1.r. Bc. – OT Skúška – ANF II.  – Dr. Kocsis – Seminárna miestnosť
URL:https://fsvladislava.sk/rozvrh/ose-1-r-bc-ot-sk-anf-ii-seminarna-miestnost-2/
LOCATION:FNsP NZ  – Seminárna miestnosť
CATEGORIES:Odbor Ošetrovateľstvo,OŠE - 1. ročník Bc.
END:VEVENT
BEGIN:VEVENT
DTSTART;TZID=Europe/Bratislava:20260227T090000
DTEND;TZID=Europe/Bratislava:20260227T153000
DTSTAMP:20260425T161010
CREATED:20260116T070851Z
LAST-MODIFIED:20260116T070851Z
UID:49225-1772182800-1772206200@fsvladislava.sk
SUMMARY:PA 3.r. Bc. D. – Prim.star. II. - Zasadačka
DESCRIPTION:PA 3.r. Bc. D. – Prim.star. II. – Mgr. Dorazilová\, PhD. – Zasadačka
URL:https://fsvladislava.sk/rozvrh/pa-3-r-bc-d-prim-star-ii-zasadacka-2/
LOCATION:FNsP NZ – Zasadačka
CATEGORIES:Odbor Pôrodná asistencia,PA - 3. ročník Bc.
END:VEVENT
BEGIN:VEVENT
DTSTART;TZID=Europe/Bratislava:20260227T160000
DTEND;TZID=Europe/Bratislava:20260227T160000
DTSTAMP:20260425T161010
CREATED:20260116T123818Z
LAST-MODIFIED:20260225T105117Z
UID:49247-1772208000-1772208000@fsvladislava.sk
SUMMARY:OŠE 1.r. Bc. - OT SK ANF II. - Modrý dom SZŠ
DESCRIPTION:OŠE 1.r. Bc. – OT Skúška – ANF II.  – Dr. Kocsis – Modrý dom SZŠ
URL:https://fsvladislava.sk/rozvrh/ose-1-r-bc-ot-sk-anf-ii-modry-dom-szs/
LOCATION:SZŠ EK – Modrý dom
CATEGORIES:Odbor Ošetrovateľstvo,OŠE - 1. ročník Bc.
END:VEVENT
BEGIN:VEVENT
DTSTART;TZID=Europe/Bratislava:20260227T160000
DTEND;TZID=Europe/Bratislava:20260227T160000
DTSTAMP:20260425T161010
CREATED:20260202T141155Z
LAST-MODIFIED:20260204T110604Z
UID:49462-1772208000-1772208000@fsvladislava.sk
SUMMARY:SP 3.r. Bc. - SP s osobami s ŤZP 2. časť - Online
DESCRIPTION:SP 3.r. Bc. – SP s osobami s ŤZP 2. časť – doc. Bundzelová / PhDr. Kročková – Online
URL:https://fsvladislava.sk/rozvrh/sp-3-r-bc-sp-s-osobami-s-tzp-1-cast-online/
LOCATION:Online
CATEGORIES:Odbor Sociálna práca,SP - 3. ročník Bc.
END:VEVENT
END:VCALENDAR