BEGIN:VCALENDAR
VERSION:2.0
PRODID:-//Fakulta zdravotníctva a sociálnej práce sv. Ladislava, Nové Zámky - ECPv6.15.17//NONSGML v1.0//EN
CALSCALE:GREGORIAN
METHOD:PUBLISH
X-ORIGINAL-URL:https://fsvladislava.sk
X-WR-CALDESC:Udalosti pre Fakulta zdravotníctva a sociálnej práce sv. Ladislava, Nové Zámky
REFRESH-INTERVAL;VALUE=DURATION:PT1H
X-Robots-Tag:noindex
X-PUBLISHED-TTL:PT1H
BEGIN:VTIMEZONE
TZID:Europe/Bratislava
BEGIN:DAYLIGHT
TZOFFSETFROM:+0100
TZOFFSETTO:+0200
TZNAME:CEST
DTSTART:20250330T010000
END:DAYLIGHT
BEGIN:STANDARD
TZOFFSETFROM:+0200
TZOFFSETTO:+0100
TZNAME:CET
DTSTART:20251026T010000
END:STANDARD
BEGIN:DAYLIGHT
TZOFFSETFROM:+0100
TZOFFSETTO:+0200
TZNAME:CEST
DTSTART:20260329T010000
END:DAYLIGHT
BEGIN:STANDARD
TZOFFSETFROM:+0200
TZOFFSETTO:+0100
TZNAME:CET
DTSTART:20261025T010000
END:STANDARD
BEGIN:DAYLIGHT
TZOFFSETFROM:+0100
TZOFFSETTO:+0200
TZNAME:CEST
DTSTART:20270328T010000
END:DAYLIGHT
BEGIN:STANDARD
TZOFFSETFROM:+0200
TZOFFSETTO:+0100
TZNAME:CET
DTSTART:20271031T010000
END:STANDARD
END:VTIMEZONE
BEGIN:VEVENT
DTSTART;TZID=Europe/Bratislava:20260310T083000
DTEND;TZID=Europe/Bratislava:20260310T100000
DTSTAMP:20260425T160112
CREATED:20250903T060404Z
LAST-MODIFIED:20250903T060404Z
UID:47765-1773131400-1773136800@fsvladislava.sk
SUMMARY:FNsP NZ - Operatívna porada vedúcich zamestnancov - Zasadačka
DESCRIPTION:FNsP NZ – Operatívna porada vedúcich zamestnancov – Zasadačka
URL:https://fsvladislava.sk/rozvrh/fnsp-nz-operativna-porada-veducich-zamestnancov-zasadacka-60/
LOCATION:FNsP NZ – Zasadačka
CATEGORIES:FNsP NZ
END:VEVENT
BEGIN:VEVENT
DTSTART;TZID=Europe/Bratislava:20260310T090000
DTEND;TZID=Europe/Bratislava:20260310T153000
DTSTAMP:20260425T160112
CREATED:20250910T055818Z
LAST-MODIFIED:20260122T060244Z
UID:47916-1773133200-1773156600@fsvladislava.sk
SUMMARY:PA 3.r. Bc. – Seminár k záverečnej práci I. - Webex
DESCRIPTION:PA 3.r. Bc. – Seminár k záverečnej práci I. – prof. Matulníková – Webex
URL:https://fsvladislava.sk/rozvrh/pa-3-r-bc-seminar-k-zaverecnej-praci-i-zasadacka-5/
LOCATION:Online – Webex
CATEGORIES:Odbor Pôrodná asistencia,PA - 3. ročník Bc.
END:VEVENT
BEGIN:VEVENT
DTSTART;TZID=Europe/Bratislava:20260310T090000
DTEND;TZID=Europe/Bratislava:20260310T153000
DTSTAMP:20260425T160112
CREATED:20251223T111234Z
LAST-MODIFIED:20251223T111331Z
UID:48900-1773133200-1773156600@fsvladislava.sk
SUMMARY:PA 2.r. Bc. - GYO III.  - Seminárna miestnosť
DESCRIPTION:PA 2.r. Bc. – GYO III.  – doc. Simočková – Seminárna miestnosť
URL:https://fsvladislava.sk/rozvrh/pa-2-r-bc-gyo-iii-seminarna-miestnost/
LOCATION:FNsP NZ  – Seminárna miestnosť
CATEGORIES:Odbor Pôrodná asistencia,PA - 2. ročník Bc.
END:VEVENT
BEGIN:VEVENT
DTSTART;TZID=Europe/Bratislava:20260310T090000
DTEND;TZID=Europe/Bratislava:20260310T180000
DTSTAMP:20260425T160113
CREATED:20260109T072027Z
LAST-MODIFIED:20260109T151851Z
UID:49020-1773133200-1773165600@fsvladislava.sk
SUMMARY:PA 1.r. Bc. - Postupy a techniky v PA - učebňa PA 2. posch.
DESCRIPTION:PA 1.r. Bc. – Postupy a techniky v PA  – prof. Hanušová – učebňa PA 2. posch.
URL:https://fsvladislava.sk/rozvrh/pa-1-r-bc-postupy-a-techniky-v-pa-zasadacka-3/
LOCATION:FNsP NZ – učebňa PA 2. posch.
CATEGORIES:Odbor Pôrodná asistencia,PA - 1. ročník Bc.
END:VEVENT
BEGIN:VEVENT
DTSTART;TZID=Europe/Bratislava:20260310T100000
DTEND;TZID=Europe/Bratislava:20260310T100000
DTSTAMP:20260425T160113
CREATED:20260227T065102Z
LAST-MODIFIED:20260227T065102Z
UID:49679-1773136800-1773136800@fsvladislava.sk
SUMMARY:OŠE 4.r. Bc. - SK OT Oše. v gyn.-pôr. II. - Zasadačka
DESCRIPTION:OŠE 4.r. Bc. – Skúška OT: Oše. v gyn.-pôr. II. – prof. Libová – Zasadačka
URL:https://fsvladislava.sk/rozvrh/ose-4-r-bc-sk-ot-ose-v-gyn-por-ii-zasadacka-2/
LOCATION:FNsP NZ – Zasadačka
CATEGORIES:Odbor Ošetrovateľstvo,OŠE - 4. ročník Bc.
END:VEVENT
BEGIN:VEVENT
DTSTART;TZID=Europe/Bratislava:20260310T110000
DTEND;TZID=Europe/Bratislava:20260310T120000
DTSTAMP:20260425T160113
CREATED:20260217T115356Z
LAST-MODIFIED:20260217T115356Z
UID:49620-1773140400-1773144000@fsvladislava.sk
SUMMARY:FNsP NZ - Rada pre vedu a výskum - Zasadačka
DESCRIPTION:FNsP NZ – Rada pre vedu a výskum – Zasadačka
URL:https://fsvladislava.sk/rozvrh/fnsp-nz-rada-pre-vedu-a-vyskum-zasadacka-2/
LOCATION:FNsP NZ – Zasadačka
CATEGORIES:FNsP NZ
END:VEVENT
BEGIN:VEVENT
DTSTART;TZID=Europe/Bratislava:20260310T123000
DTEND;TZID=Europe/Bratislava:20260310T143000
DTSTAMP:20260425T160113
CREATED:20260206T090311Z
LAST-MODIFIED:20260206T090311Z
UID:49560-1773145800-1773153000@fsvladislava.sk
SUMMARY:FNsP NZ - porada vedúcich sestier - Zasadačka
DESCRIPTION:FNsP NZ – porada vedúcich sestier – Zasadačka
URL:https://fsvladislava.sk/rozvrh/fnsp-nz-porada-veducich-sestier-zasadacka-2/
LOCATION:FNsP NZ – Zasadačka
CATEGORIES:FNsP NZ
END:VEVENT
BEGIN:VEVENT
DTSTART;TZID=Europe/Bratislava:20260310T130000
DTEND;TZID=Europe/Bratislava:20260310T193000
DTSTAMP:20260425T160113
CREATED:20240402T140644Z
LAST-MODIFIED:20260115T124326Z
UID:43991-1773147600-1773171000@fsvladislava.sk
SUMMARY:OŠE 3.r. Bc. - Výskum v ošetrovateľstve  - Webex
DESCRIPTION:OŠE 3.r. Bc.  – Výskum v ošetrovateľstve  – doc. PhDr. Peter Mlynarčík\, PhD.\, SBD – Online – Webex
URL:https://fsvladislava.sk/rozvrh/ose-3-r-bc-vyskum-v-osetrovatelstve-webex/
LOCATION:Online – Webex
CATEGORIES:Odbor Ošetrovateľstvo,OŠE - 3. ročník Bc.
END:VEVENT
BEGIN:VEVENT
DTSTART;TZID=Europe/Bratislava:20260310T150000
DTEND;TZID=Europe/Bratislava:20260310T150000
DTSTAMP:20260425T160113
CREATED:20260227T071710Z
LAST-MODIFIED:20260227T071710Z
UID:49691-1773154800-1773154800@fsvladislava.sk
SUMMARY:OŠE 1.r. Bc. - SK ANF a Zdravotnícka terminológia  - Modrý dom SZŠ
DESCRIPTION:OŠE 1.r. Bc. – Skúška: ANF a Zdravotnícka terminológia – Dr. Kocsis – Modrý dom SZŠ
URL:https://fsvladislava.sk/rozvrh/ose-1-r-bc-sk-anf-a-zdravotnicka-terminologia-modry-dom-szs-21/
LOCATION:SZŠ EK – Modrý dom
CATEGORIES:Odbor Ošetrovateľstvo,OŠE - 1. ročník Bc.
END:VEVENT
BEGIN:VEVENT
DTSTART;TZID=Europe/Bratislava:20260310T160000
DTEND;TZID=Europe/Bratislava:20260310T173000
DTSTAMP:20260425T160113
CREATED:20260202T133047Z
LAST-MODIFIED:20260202T133935Z
UID:49422-1773158400-1773163800@fsvladislava.sk
SUMMARY:SP 1.r. Bc. - Základy etiky 2. časť - Online
DESCRIPTION:SP 1.r. Bc.  – Základy etiky 2. časť – prof. MUDr. Mgr. Grey\, PhD. – Online
URL:https://fsvladislava.sk/rozvrh/ose-1-r-bc-zaklady-etiky-2-cast-online/
LOCATION:Online
CATEGORIES:Odbor Sociálna práca,SP - 1. ročník Bc.
END:VEVENT
END:VCALENDAR