BEGIN:VCALENDAR
VERSION:2.0
PRODID:-//Fakulta zdravotníctva a sociálnej práce sv. Ladislava, Nové Zámky - ECPv6.15.17//NONSGML v1.0//EN
CALSCALE:GREGORIAN
METHOD:PUBLISH
X-ORIGINAL-URL:https://fsvladislava.sk
X-WR-CALDESC:Udalosti pre Fakulta zdravotníctva a sociálnej práce sv. Ladislava, Nové Zámky
REFRESH-INTERVAL;VALUE=DURATION:PT1H
X-Robots-Tag:noindex
X-PUBLISHED-TTL:PT1H
BEGIN:VTIMEZONE
TZID:Europe/Bratislava
BEGIN:DAYLIGHT
TZOFFSETFROM:+0100
TZOFFSETTO:+0200
TZNAME:CEST
DTSTART:20250330T010000
END:DAYLIGHT
BEGIN:STANDARD
TZOFFSETFROM:+0200
TZOFFSETTO:+0100
TZNAME:CET
DTSTART:20251026T010000
END:STANDARD
BEGIN:DAYLIGHT
TZOFFSETFROM:+0100
TZOFFSETTO:+0200
TZNAME:CEST
DTSTART:20260329T010000
END:DAYLIGHT
BEGIN:STANDARD
TZOFFSETFROM:+0200
TZOFFSETTO:+0100
TZNAME:CET
DTSTART:20261025T010000
END:STANDARD
BEGIN:DAYLIGHT
TZOFFSETFROM:+0100
TZOFFSETTO:+0200
TZNAME:CEST
DTSTART:20270328T010000
END:DAYLIGHT
BEGIN:STANDARD
TZOFFSETFROM:+0200
TZOFFSETTO:+0100
TZNAME:CET
DTSTART:20271031T010000
END:STANDARD
END:VTIMEZONE
BEGIN:VEVENT
DTSTART;TZID=Europe/Bratislava:20260321T080000
DTEND;TZID=Europe/Bratislava:20260321T143000
DTSTAMP:20260425T155919
CREATED:20260202T142411Z
LAST-MODIFIED:20260202T142411Z
UID:49480-1774080000-1774103400@fsvladislava.sk
SUMMARY:SP 1.r. Mgr. - Sociálne poradenstvo - Zasadačka
DESCRIPTION:SP 1.r. Mgr. – Sociálne poradenstvo – doc. Mgr. Ludvigh Cintulová\, PhD. univ. prof. – Zasadačka
URL:https://fsvladislava.sk/rozvrh/sp-1-r-mgr-socialne-poradenstvo-zasadacka/
LOCATION:FNsP NZ – Zasadačka
CATEGORIES:Odbor Sociálna práca,SP - 1. ročník Mgr.
END:VEVENT
BEGIN:VEVENT
DTSTART;TZID=Europe/Bratislava:20260321T090000
DTEND;TZID=Europe/Bratislava:20260321T093000
DTSTAMP:20260425T155919
CREATED:20260304T113649Z
LAST-MODIFIED:20260304T113649Z
UID:49729-1774083600-1774085400@fsvladislava.sk
SUMMARY:SP 3.r. Bc. -SK - SP s osobami s ťažkým zdravotným postihnutím - Elix
DESCRIPTION:SP 3.r. Bc. – Skúśka: SP s osobami s ťažkým zdravotným postihnutím – doc. Bundzelová – Online Elix
URL:https://fsvladislava.sk/rozvrh/sp-3-r-bc-sk-sp-s-osobami-s-tazkym-zdravotnym-postihnutim-elix-6/
LOCATION:Online – Elix
CATEGORIES:Odbor Sociálna práca,SP - 3. ročník Bc.
END:VEVENT
BEGIN:VEVENT
DTSTART;TZID=Europe/Bratislava:20260321T090000
DTEND;TZID=Europe/Bratislava:20260321T150000
DTSTAMP:20260425T155919
CREATED:20240116T113219Z
LAST-MODIFIED:20260211T133520Z
UID:42473-1774083600-1774105200@fsvladislava.sk
SUMMARY:OŠE 1.r. Bc. - Patológia - Kinosála
DESCRIPTION:OŠE 1.r. Bc. – Patológia – MUDr. Alexandra Budayová – Kinosála
URL:https://fsvladislava.sk/rozvrh/ose-1-r-bc-patologia-kinosala/
LOCATION:FNsP NZ  – Kinosála
CATEGORIES:Odbor Ošetrovateľstvo,OŠE - 1. ročník Bc.
END:VEVENT
BEGIN:VEVENT
DTSTART;TZID=Europe/Bratislava:20260321T090000
DTEND;TZID=Europe/Bratislava:20260321T150000
DTSTAMP:20260425T155919
CREATED:20260211T133741Z
LAST-MODIFIED:20260212T141457Z
UID:49585-1774083600-1774105200@fsvladislava.sk
SUMMARY:PA 1.r. Bc. - Patol.ant. a patol. fyziolog - Kinosála
DESCRIPTION:PA 1.r. Bc. – Patol.ant. a patol. fyziolog – MUDr. Alexandra Budayová – Kinosála
URL:https://fsvladislava.sk/rozvrh/pa-1-r-bc-patologia-kinosala/
LOCATION:FNsP NZ  – Kinosála
CATEGORIES:Odbor Pôrodná asistencia,PA - 1. ročník Bc.
END:VEVENT
END:VCALENDAR