BEGIN:VCALENDAR
VERSION:2.0
PRODID:-//Fakulta zdravotníctva a sociálnej práce sv. Ladislava, Nové Zámky - ECPv6.15.17//NONSGML v1.0//EN
CALSCALE:GREGORIAN
METHOD:PUBLISH
X-WR-CALNAME:Fakulta zdravotníctva a sociálnej práce sv. Ladislava, Nové Zámky
X-ORIGINAL-URL:https://fsvladislava.sk
X-WR-CALDESC:Udalosti pre Fakulta zdravotníctva a sociálnej práce sv. Ladislava, Nové Zámky
REFRESH-INTERVAL;VALUE=DURATION:PT1H
X-Robots-Tag:noindex
X-PUBLISHED-TTL:PT1H
BEGIN:VTIMEZONE
TZID:Europe/Bratislava
BEGIN:DAYLIGHT
TZOFFSETFROM:+0100
TZOFFSETTO:+0200
TZNAME:CEST
DTSTART:20250330T010000
END:DAYLIGHT
BEGIN:STANDARD
TZOFFSETFROM:+0200
TZOFFSETTO:+0100
TZNAME:CET
DTSTART:20251026T010000
END:STANDARD
BEGIN:DAYLIGHT
TZOFFSETFROM:+0100
TZOFFSETTO:+0200
TZNAME:CEST
DTSTART:20260329T010000
END:DAYLIGHT
BEGIN:STANDARD
TZOFFSETFROM:+0200
TZOFFSETTO:+0100
TZNAME:CET
DTSTART:20261025T010000
END:STANDARD
BEGIN:DAYLIGHT
TZOFFSETFROM:+0100
TZOFFSETTO:+0200
TZNAME:CEST
DTSTART:20270328T010000
END:DAYLIGHT
BEGIN:STANDARD
TZOFFSETFROM:+0200
TZOFFSETTO:+0100
TZNAME:CET
DTSTART:20271031T010000
END:STANDARD
END:VTIMEZONE
BEGIN:VEVENT
DTSTART;TZID=Europe/Bratislava:20260326T083000
DTEND;TZID=Europe/Bratislava:20260326T083000
DTSTAMP:20260425T161015
CREATED:20260319T063312Z
LAST-MODIFIED:20260319T063312Z
UID:49841-1774513800-1774513800@fsvladislava.sk
SUMMARY:OŠE 1.r. Mgr. - SK Manažment v zdravotníctve - Kinosála
DESCRIPTION:OŠE 1.r. Mgr. – Skúška: Manažment v zdravotníctve – prof. Karvaj – Kinosála
URL:https://fsvladislava.sk/rozvrh/ose-1-r-mgr-sk-manazment-v-zdravotnictve-kinosala/
LOCATION:FNsP NZ  – Kinosála
CATEGORIES:Odbor Ošetrovateľstvo,OŠE - 1. ročník Mgr.
END:VEVENT
BEGIN:VEVENT
DTSTART;TZID=Europe/Bratislava:20260326T090000
DTEND;TZID=Europe/Bratislava:20260326T090000
DTSTAMP:20260425T161015
CREATED:20260309T174129Z
LAST-MODIFIED:20260309T174143Z
UID:49771-1774515600-1774515600@fsvladislava.sk
SUMMARY:PA 1.r. Bc. - SK Postupy a techniky v PA- Seminárna miestnosť
DESCRIPTION:PA 1.r. Bc. – Skúška: Postupy a techniky v PA – prof. Hanušová – Seminárna miestnosť
URL:https://fsvladislava.sk/rozvrh/pa-1-r-bc-sk-postupy-a-techniky-v-pa-seminarna-miestnost/
LOCATION:FNsP NZ  – Seminárna miestnosť
CATEGORIES:Odbor Pôrodná asistencia,PA - 1. ročník Bc.
END:VEVENT
BEGIN:VEVENT
DTSTART;TZID=Europe/Bratislava:20260326T090000
DTEND;TZID=Europe/Bratislava:20260326T153000
DTSTAMP:20260425T161015
CREATED:20240417T113726Z
LAST-MODIFIED:20260109T075132Z
UID:44304-1774515600-1774539000@fsvladislava.sk
SUMMARY:OŠE 1.r. Mgr. - Ochrana a podpora zdravia - Kinosála
DESCRIPTION:OŠE 1.r. Mgr. – Ochrana a podpora zdravia – prof. Brodanská – Kinosála
URL:https://fsvladislava.sk/rozvrh/ose-1-r-mgr-sk-ochrana-a-podpora-zdravia-kinosala-2/
LOCATION:FNsP NZ  – Kinosála
CATEGORIES:Odbor Ošetrovateľstvo,OŠE - 1. ročník Mgr.
END:VEVENT
BEGIN:VEVENT
DTSTART;TZID=Europe/Bratislava:20260326T090000
DTEND;TZID=Europe/Bratislava:20260326T153000
DTSTAMP:20260425T161015
CREATED:20260122T061929Z
LAST-MODIFIED:20260122T061929Z
UID:49319-1774515600-1774539000@fsvladislava.sk
SUMMARY:PA 2.r. Bc. - Pôrodná asistencia III. - Zasadačka
DESCRIPTION:PA 2.r. Bc. – Pôrodná asistencia III.   – prof. Matulníková – Zasadačka
URL:https://fsvladislava.sk/rozvrh/pa-2-r-bc-porodna-asistencia-iii-zasadacka-5/
LOCATION:FNsP NZ – Zasadačka
CATEGORIES:Odbor Pôrodná asistencia,PA - 2. ročník Bc.
END:VEVENT
BEGIN:VEVENT
DTSTART;TZID=Europe/Bratislava:20260326T140000
DTEND;TZID=Europe/Bratislava:20260326T140000
DTSTAMP:20260425T161015
CREATED:20260203T141648Z
LAST-MODIFIED:20260203T141648Z
UID:49521-1774533600-1774533600@fsvladislava.sk
SUMMARY:OŠE 1.r. Bc. - SK Ošetrovateľské postupy a techniky I. - Modrý dom
DESCRIPTION:OŠE 1.r. Bc. – Skúśka: Ošetrovateľské postupy a techniky I. – PhDr. Barteková – Modrý dom
URL:https://fsvladislava.sk/rozvrh/ose-1-r-bc-sk-osetrovatelske-postupy-a-techniky-i-modry-dom-3/
LOCATION:SZŠ EK – Modrý dom
CATEGORIES:Odbor Ošetrovateľstvo,OŠE - 1. ročník Bc.
END:VEVENT
BEGIN:VEVENT
DTSTART;TZID=Europe/Bratislava:20260326T150000
DTEND;TZID=Europe/Bratislava:20260326T150000
DTSTAMP:20260425T161015
CREATED:20260227T072104Z
LAST-MODIFIED:20260227T072104Z
UID:49709-1774537200-1774537200@fsvladislava.sk
SUMMARY:OŠE 1.r. Bc. - OT SK ANF a Zdravotnícka terminológia  - Modrý dom SZŠ
DESCRIPTION:OŠE 1.r. Bc. – Skúška OT: ANF a Zdravotnícka terminológia – Dr. Kocsis – Modrý dom SZŠ
URL:https://fsvladislava.sk/rozvrh/ose-1-r-bc-ot-sk-anf-a-zdravotnicka-terminologia-modry-dom-szs-3/
LOCATION:SZŠ EK – Modrý dom
CATEGORIES:Odbor Ošetrovateľstvo,OŠE - 1. ročník Bc.
END:VEVENT
END:VCALENDAR