BEGIN:VCALENDAR
VERSION:2.0
PRODID:-//Fakulta zdravotníctva a sociálnej práce sv. Ladislava, Nové Zámky - ECPv6.15.17//NONSGML v1.0//EN
CALSCALE:GREGORIAN
METHOD:PUBLISH
X-WR-CALNAME:Fakulta zdravotníctva a sociálnej práce sv. Ladislava, Nové Zámky
X-ORIGINAL-URL:https://fsvladislava.sk
X-WR-CALDESC:Udalosti pre Fakulta zdravotníctva a sociálnej práce sv. Ladislava, Nové Zámky
REFRESH-INTERVAL;VALUE=DURATION:PT1H
X-Robots-Tag:noindex
X-PUBLISHED-TTL:PT1H
BEGIN:VTIMEZONE
TZID:Europe/Bratislava
BEGIN:DAYLIGHT
TZOFFSETFROM:+0100
TZOFFSETTO:+0200
TZNAME:CEST
DTSTART:20250330T010000
END:DAYLIGHT
BEGIN:STANDARD
TZOFFSETFROM:+0200
TZOFFSETTO:+0100
TZNAME:CET
DTSTART:20251026T010000
END:STANDARD
BEGIN:DAYLIGHT
TZOFFSETFROM:+0100
TZOFFSETTO:+0200
TZNAME:CEST
DTSTART:20260329T010000
END:DAYLIGHT
BEGIN:STANDARD
TZOFFSETFROM:+0200
TZOFFSETTO:+0100
TZNAME:CET
DTSTART:20261025T010000
END:STANDARD
BEGIN:DAYLIGHT
TZOFFSETFROM:+0100
TZOFFSETTO:+0200
TZNAME:CEST
DTSTART:20270328T010000
END:DAYLIGHT
BEGIN:STANDARD
TZOFFSETFROM:+0200
TZOFFSETTO:+0100
TZNAME:CET
DTSTART:20271031T010000
END:STANDARD
END:VTIMEZONE
BEGIN:VEVENT
DTSTART;TZID=Europe/Bratislava:20260328T080000
DTEND;TZID=Europe/Bratislava:20260328T080000
DTSTAMP:20260425T155807
CREATED:20260316T070116Z
LAST-MODIFIED:20260401T073604Z
UID:49793-1774684800-1774684800@fsvladislava.sk
SUMMARY:SP 1.r. Mgr. - Ročníková práca - Online
DESCRIPTION:SP 1.r. Mgr. – Ročníková práca  – doc. Mgr. Ludvigh Cintulová\, PhD. univ. prof. – Online
URL:https://fsvladislava.sk/rozvrh/sp-1-r-mgr-seminar-k-diplomovej-praci-online/
LOCATION:Online
CATEGORIES:Odbor Sociálna práca,SP - 1. ročník Mgr.
END:VEVENT
BEGIN:VEVENT
DTSTART;TZID=Europe/Bratislava:20260328T090000
DTEND;TZID=Europe/Bratislava:20260328T153000
DTSTAMP:20260425T155807
CREATED:20260202T131939Z
LAST-MODIFIED:20260202T134843Z
UID:49402-1774688400-1774711800@fsvladislava.sk
SUMMARY:SP 1.r. Bc. - Psychológia osobnosti - Kinosála
DESCRIPTION:SP 1.r. Bc.  – Psychológia osobnosti – doc. PhDr. Šovčíková\, CSc. – Kinosála
URL:https://fsvladislava.sk/rozvrh/ose-1-r-bc-psychologia-osobnosti-kinosala/
LOCATION:FNsP NZ  – Kinosála
CATEGORIES:Odbor Sociálna práca,SP - 1. ročník Bc.
END:VEVENT
BEGIN:VEVENT
DTSTART;TZID=Europe/Bratislava:20260328T100000
DTEND;TZID=Europe/Bratislava:20260328T180000
DTSTAMP:20260425T155807
CREATED:20260213T115716Z
LAST-MODIFIED:20260213T115716Z
UID:49610-1774692000-1774720800@fsvladislava.sk
SUMMARY:OŠE 4.r. Bc. - OŠE v anesteziológii a intenzívnej  medicíny - II. časť. - Webex
DESCRIPTION:OŠE 4.r. Bc. – OŠE v anesteziológii a intenzívnej  medicíny – II. časť. – doc. PhDr. Gabriela Magyarová Szencziová\, PhD. – Webex
URL:https://fsvladislava.sk/rozvrh/ose-4-r-bc-ose-v-anesteziologii-a-intenzivnej-mediciny-ii-cast-webex/
LOCATION:Online – Webex
CATEGORIES:Odbor Ošetrovateľstvo,OŠE - 4. ročník Bc.
END:VEVENT
BEGIN:VEVENT
DTSTART;TZID=Europe/Bratislava:20260328T130000
DTEND;TZID=Europe/Bratislava:20260328T130000
DTSTAMP:20260425T155807
CREATED:20260323T110541Z
LAST-MODIFIED:20260323T110541Z
UID:49861-1774702800-1774702800@fsvladislava.sk
SUMMARY:OŠE 4.r. Bc. - SK OŠE v onkológii - šatňa FNsP NZ
DESCRIPTION:OŠE 4.r. Bc. – Skúška: OŠE v onkológii – Mgr. Samuelová – šatňa FNsP NZ
URL:https://fsvladislava.sk/rozvrh/ose-4-r-bc-sk-ose-v-onkologii-satna-fnsp-nz/
LOCATION:šatňa FNsP NZ
CATEGORIES:Odbor Ošetrovateľstvo,OŠE - 4. ročník Bc.
END:VEVENT
END:VCALENDAR