BEGIN:VCALENDAR
VERSION:2.0
PRODID:-//Fakulta zdravotníctva a sociálnej práce sv. Ladislava, Nové Zámky - ECPv6.15.17//NONSGML v1.0//EN
CALSCALE:GREGORIAN
METHOD:PUBLISH
X-ORIGINAL-URL:https://fsvladislava.sk
X-WR-CALDESC:Udalosti pre Fakulta zdravotníctva a sociálnej práce sv. Ladislava, Nové Zámky
REFRESH-INTERVAL;VALUE=DURATION:PT1H
X-Robots-Tag:noindex
X-PUBLISHED-TTL:PT1H
BEGIN:VTIMEZONE
TZID:Europe/Bratislava
BEGIN:DAYLIGHT
TZOFFSETFROM:+0100
TZOFFSETTO:+0200
TZNAME:CEST
DTSTART:20250330T010000
END:DAYLIGHT
BEGIN:STANDARD
TZOFFSETFROM:+0200
TZOFFSETTO:+0100
TZNAME:CET
DTSTART:20251026T010000
END:STANDARD
BEGIN:DAYLIGHT
TZOFFSETFROM:+0100
TZOFFSETTO:+0200
TZNAME:CEST
DTSTART:20260329T010000
END:DAYLIGHT
BEGIN:STANDARD
TZOFFSETFROM:+0200
TZOFFSETTO:+0100
TZNAME:CET
DTSTART:20261025T010000
END:STANDARD
BEGIN:DAYLIGHT
TZOFFSETFROM:+0100
TZOFFSETTO:+0200
TZNAME:CEST
DTSTART:20270328T010000
END:DAYLIGHT
BEGIN:STANDARD
TZOFFSETFROM:+0200
TZOFFSETTO:+0100
TZNAME:CET
DTSTART:20271031T010000
END:STANDARD
END:VTIMEZONE
BEGIN:VEVENT
DTSTART;TZID=Europe/Bratislava:20260330T090000
DTEND;TZID=Europe/Bratislava:20260330T110000
DTSTAMP:20260425T142115
CREATED:20260224T134442Z
LAST-MODIFIED:20260311T081539Z
UID:49647-1774861200-1774868400@fsvladislava.sk
SUMMARY:OŠE 4.r. Bc. - OŠE vo vybraných med. odboroch - Riadny termín - Kinosála
DESCRIPTION:OŠE 4.r. Bc. – OŠE vo vybraných med. odboroch – Riadny termín – Dr. Vadkertiová – Kinosála
URL:https://fsvladislava.sk/rozvrh/ose-4-r-bc-ose-vo-vybranych-med-odboroch-riadny-termin-kinosala/
LOCATION:FNsP NZ  – Kinosála
CATEGORIES:Odbor Ošetrovateľstvo,OŠE - 4. ročník Bc.
END:VEVENT
BEGIN:VEVENT
DTSTART;TZID=Europe/Bratislava:20260330T090000
DTEND;TZID=Europe/Bratislava:20260330T140000
DTSTAMP:20260425T142115
CREATED:20260108T064633Z
LAST-MODIFIED:20260108T064633Z
UID:48956-1774861200-1774879200@fsvladislava.sk
SUMMARY:PA 2.r. Bc. - Gynekológia III. - Seminárna miestnosť
DESCRIPTION:PA 2.r. Bc. – Gynekológia III. – Dr. Resutíková – Seminárna miestnosť
URL:https://fsvladislava.sk/rozvrh/pa-2-r-bc-gynekologia-iii-seminarna-miestnost-2/
LOCATION:FNsP NZ  – Seminárna miestnosť
CATEGORIES:Odbor Pôrodná asistencia,PA - 2. ročník Bc.
END:VEVENT
BEGIN:VEVENT
DTSTART;TZID=Europe/Bratislava:20260330T130000
DTEND;TZID=Europe/Bratislava:20260330T130000
DTSTAMP:20260425T142115
CREATED:20260203T141229Z
LAST-MODIFIED:20260203T141229Z
UID:49517-1774875600-1774875600@fsvladislava.sk
SUMMARY:OŠE 1.r. Bc. - SK Ošetrovateľské postupy a techniky I. - Modrý dom
DESCRIPTION:OŠE 1.r. Bc. – Skúśka: Ošetrovateľské postupy a techniky I. – Dr. Nagyová – Modrý dom
URL:https://fsvladislava.sk/rozvrh/ose-1-r-bc-sk-osetrovatelske-postupy-a-techniky-i-modry-dom/
LOCATION:SZŠ EK – Modrý dom
CATEGORIES:Odbor Ošetrovateľstvo,OŠE - 1. ročník Bc.
END:VEVENT
BEGIN:VEVENT
DTSTART;TZID=Europe/Bratislava:20260330T130000
DTEND;TZID=Europe/Bratislava:20260330T130000
DTSTAMP:20260425T142115
CREATED:20260323T110600Z
LAST-MODIFIED:20260323T110600Z
UID:49863-1774875600-1774875600@fsvladislava.sk
SUMMARY:OŠE 4.r. Bc. - SK OŠE v onkológii - šatňa FNsP NZ
DESCRIPTION:OŠE 4.r. Bc. – Skúška: OŠE v onkológii – Mgr. Samuelová – šatňa FNsP NZ
URL:https://fsvladislava.sk/rozvrh/ose-4-r-bc-sk-ose-v-onkologii-satna-fnsp-nz-2/
LOCATION:šatňa FNsP NZ
CATEGORIES:Odbor Ošetrovateľstvo,OŠE - 4. ročník Bc.
END:VEVENT
BEGIN:VEVENT
DTSTART;TZID=Europe/Bratislava:20260330T140000
DTEND;TZID=Europe/Bratislava:20260330T183000
DTSTAMP:20260425T142115
CREATED:20260108T065219Z
LAST-MODIFIED:20260108T065219Z
UID:48965-1774879200-1774895400@fsvladislava.sk
SUMMARY:PA 2.r. Bc. - Pôrodníctvo III. - Seminárna miestnosť
DESCRIPTION:PA 2.r. Bc. – Pôrodníctvo III. – prof. Bartkovjak – Seminárna miestnosť
URL:https://fsvladislava.sk/rozvrh/pa-2-r-bc-porodnictvo-iii-seminarna-miestnost-3/
LOCATION:FNsP NZ  – Seminárna miestnosť
CATEGORIES:Odbor Pôrodná asistencia,PA - 2. ročník Bc.
END:VEVENT
BEGIN:VEVENT
DTSTART;TZID=Europe/Bratislava:20260330T190000
DTEND;TZID=Europe/Bratislava:20260330T190000
DTSTAMP:20260425T142115
CREATED:20260223T124921Z
LAST-MODIFIED:20260223T124921Z
UID:49636-1774897200-1774897200@fsvladislava.sk
SUMMARY:OŠE 2.r. Mgr. - SK Oše. starostlivosť o postihnutých - Elix
DESCRIPTION:OŠE 2.r. Mgr. –   Skúška: Oše. starostlivosť o postihnutých –  Dr. Fialová – Online – Elix
URL:https://fsvladislava.sk/rozvrh/ose-2-r-mgr-sk-ose-starostlivost-o-postihnutych-elix-3/
LOCATION:Online – Elix
CATEGORIES:Odbor Ošetrovateľstvo,OŠE - 2. ročník Mgr.
END:VEVENT
END:VCALENDAR