BEGIN:VCALENDAR
VERSION:2.0
PRODID:-//Fakulta zdravotníctva a sociálnej práce sv. Ladislava, Nové Zámky - ECPv6.15.17//NONSGML v1.0//EN
CALSCALE:GREGORIAN
METHOD:PUBLISH
X-ORIGINAL-URL:https://fsvladislava.sk
X-WR-CALDESC:Udalosti pre Fakulta zdravotníctva a sociálnej práce sv. Ladislava, Nové Zámky
REFRESH-INTERVAL;VALUE=DURATION:PT1H
X-Robots-Tag:noindex
X-PUBLISHED-TTL:PT1H
BEGIN:VTIMEZONE
TZID:Europe/Bratislava
BEGIN:DAYLIGHT
TZOFFSETFROM:+0100
TZOFFSETTO:+0200
TZNAME:CEST
DTSTART:20250330T010000
END:DAYLIGHT
BEGIN:STANDARD
TZOFFSETFROM:+0200
TZOFFSETTO:+0100
TZNAME:CET
DTSTART:20251026T010000
END:STANDARD
BEGIN:DAYLIGHT
TZOFFSETFROM:+0100
TZOFFSETTO:+0200
TZNAME:CEST
DTSTART:20260329T010000
END:DAYLIGHT
BEGIN:STANDARD
TZOFFSETFROM:+0200
TZOFFSETTO:+0100
TZNAME:CET
DTSTART:20261025T010000
END:STANDARD
BEGIN:DAYLIGHT
TZOFFSETFROM:+0100
TZOFFSETTO:+0200
TZNAME:CEST
DTSTART:20270328T010000
END:DAYLIGHT
BEGIN:STANDARD
TZOFFSETFROM:+0200
TZOFFSETTO:+0100
TZNAME:CET
DTSTART:20271031T010000
END:STANDARD
END:VTIMEZONE
BEGIN:VEVENT
DTSTART;TZID=Europe/Bratislava:20260414T083000
DTEND;TZID=Europe/Bratislava:20260414T100000
DTSTAMP:20260425T142049
CREATED:20250903T060817Z
LAST-MODIFIED:20250903T060817Z
UID:47775-1776155400-1776160800@fsvladislava.sk
SUMMARY:FNsP NZ - Operatívna porada vedúcich zamestnancov - Zasadačka
DESCRIPTION:FNsP NZ – Operatívna porada vedúcich zamestnancov – Zasadačka
URL:https://fsvladislava.sk/rozvrh/fnsp-nz-operativna-porada-veducich-zamestnancov-zasadacka-65/
LOCATION:FNsP NZ – Zasadačka
CATEGORIES:FNsP NZ
END:VEVENT
BEGIN:VEVENT
DTSTART;TZID=Europe/Bratislava:20260414T090000
DTEND;TZID=Europe/Bratislava:20260414T110000
DTSTAMP:20260425T142049
CREATED:20260217T051533Z
LAST-MODIFIED:20260217T051802Z
UID:49615-1776157200-1776164400@fsvladislava.sk
SUMMARY:UZS 4.r. Bc. - Zber Bc. prác\, dokladov - Seminárna miestnosť
DESCRIPTION:UZS 4.r. Bc.  – Zber Bc. prác\, dokladov – Seminárna miestnosť
URL:https://fsvladislava.sk/rozvrh/uzs-4-r-bc-zber-bc-prac-dokladov-seminarna-miestnost/
LOCATION:FNsP NZ  – Seminárna miestnosť
CATEGORIES:Odbor Urgentná zdravotná starostlivosť,UZS – 4. ročník Bc.
END:VEVENT
BEGIN:VEVENT
DTSTART;TZID=Europe/Bratislava:20260414T090000
DTEND;TZID=Europe/Bratislava:20260414T150000
DTSTAMP:20260425T142049
CREATED:20250121T125414Z
LAST-MODIFIED:20260127T105325Z
UID:46776-1776157200-1776178800@fsvladislava.sk
SUMMARY:OŠE 1.r. Bc. - Ošetrovateľstvo II. - Kinosála
DESCRIPTION:OŠE 1.r. Bc.  – Prednáška: Ošetrovateľstvo II. – PhDr. Zuzana Bystrická\, PhD. – Kinosála
URL:https://fsvladislava.sk/rozvrh/ose-3-r-bc-prednaska-kinosala-8/
LOCATION:FNsP NZ  – Kinosála
CATEGORIES:Odbor Ošetrovateľstvo,OŠE - 1. ročník Bc.
END:VEVENT
BEGIN:VEVENT
DTSTART;TZID=Europe/Bratislava:20260414T100000
DTEND;TZID=Europe/Bratislava:20260414T163000
DTSTAMP:20260425T142049
CREATED:20260109T074259Z
LAST-MODIFIED:20260109T074259Z
UID:49044-1776160800-1776184200@fsvladislava.sk
SUMMARY:PA 3.r. Bc. – Seminár k záverečnej práci I. - Zasadačka
DESCRIPTION:PA 3.r. Bc. – Seminár k záverečnej práci I. – prof. Matulníková – Zasadačka
URL:https://fsvladislava.sk/rozvrh/pa-3-r-bc-seminar-k-zaverecnej-praci-i-zasadacka/
LOCATION:FNsP NZ – Zasadačka
CATEGORIES:Odbor Pôrodná asistencia,PA - 3. ročník Bc.
END:VEVENT
BEGIN:VEVENT
DTSTART;TZID=Europe/Bratislava:20260414T150000
DTEND;TZID=Europe/Bratislava:20260414T150000
DTSTAMP:20260425T142049
CREATED:20260409T052920Z
LAST-MODIFIED:20260409T052920Z
UID:49972-1776178800-1776178800@fsvladislava.sk
SUMMARY:OŠE 1.r. Bc. - SK ANF a Zdravotnícka terminológia  - Modrý dom SZŠ
DESCRIPTION:OŠE 1.r. Bc. – Skúška: ANF a Zdravotnícka terminológia – Dr. Kocsis – Modrý dom SZŠ
URL:https://fsvladislava.sk/rozvrh/ose-1-r-bc-sk-anf-a-zdravotnicka-terminologia-modry-dom-szs-27/
LOCATION:SZŠ EK – Modrý dom
CATEGORIES:Odbor Ošetrovateľstvo,OŠE - 1. ročník Bc.
END:VEVENT
END:VCALENDAR