BEGIN:VCALENDAR
VERSION:2.0
PRODID:-//Fakulta zdravotníctva a sociálnej práce sv. Ladislava, Nové Zámky - ECPv6.15.17//NONSGML v1.0//EN
CALSCALE:GREGORIAN
METHOD:PUBLISH
X-WR-CALNAME:Fakulta zdravotníctva a sociálnej práce sv. Ladislava, Nové Zámky
X-ORIGINAL-URL:https://fsvladislava.sk
X-WR-CALDESC:Udalosti pre Fakulta zdravotníctva a sociálnej práce sv. Ladislava, Nové Zámky
REFRESH-INTERVAL;VALUE=DURATION:PT1H
X-Robots-Tag:noindex
X-PUBLISHED-TTL:PT1H
BEGIN:VTIMEZONE
TZID:Europe/Bratislava
BEGIN:DAYLIGHT
TZOFFSETFROM:+0100
TZOFFSETTO:+0200
TZNAME:CEST
DTSTART:20250330T010000
END:DAYLIGHT
BEGIN:STANDARD
TZOFFSETFROM:+0200
TZOFFSETTO:+0100
TZNAME:CET
DTSTART:20251026T010000
END:STANDARD
BEGIN:DAYLIGHT
TZOFFSETFROM:+0100
TZOFFSETTO:+0200
TZNAME:CEST
DTSTART:20260329T010000
END:DAYLIGHT
BEGIN:STANDARD
TZOFFSETFROM:+0200
TZOFFSETTO:+0100
TZNAME:CET
DTSTART:20261025T010000
END:STANDARD
BEGIN:DAYLIGHT
TZOFFSETFROM:+0100
TZOFFSETTO:+0200
TZNAME:CEST
DTSTART:20270328T010000
END:DAYLIGHT
BEGIN:STANDARD
TZOFFSETFROM:+0200
TZOFFSETTO:+0100
TZNAME:CET
DTSTART:20271031T010000
END:STANDARD
END:VTIMEZONE
BEGIN:VEVENT
DTSTART;TZID=Europe/Bratislava:20260415T073000
DTEND;TZID=Europe/Bratislava:20260415T080000
DTSTAMP:20260425T142126
CREATED:20260320T072803Z
LAST-MODIFIED:20260408T100548Z
UID:49853-1776238200-1776240000@fsvladislava.sk
SUMMARY:OŠE 2.r. Bc. -  Predtermín SK Komunikácia v ošetrovateľstve - Kinosála
DESCRIPTION:OŠE 2.r. Bc. – Predtermín SK: Komunikácia v ošetrovateľstve – PhDr. E. Molnárová – Kinosála
URL:https://fsvladislava.sk/rozvrh/ose-2-r-bc-predtermin-sk-komunikacia-v-osetrovatelstve-kinosala/
LOCATION:FNsP NZ  – Kinosála
CATEGORIES:Odbor Ošetrovateľstvo,OŠE - 2. ročník Bc.
END:VEVENT
BEGIN:VEVENT
DTSTART;TZID=Europe/Bratislava:20260415T080000
DTEND;TZID=Europe/Bratislava:20260415T150000
DTSTAMP:20260425T142126
CREATED:20260408T100851Z
LAST-MODIFIED:20260408T122009Z
UID:49953-1776240000-1776265200@fsvladislava.sk
SUMMARY:OŠE 3.r. Bc. - Oše. v gyn.-pôr. I. - Kinosála
DESCRIPTION:OŠE 3.r. Bc. – Oše. v gyn.-pôr. I. – prof. Phdr. Ľ. Libová\, PhD.\, MPH – Kinosála
URL:https://fsvladislava.sk/rozvrh/ose-2-r-bc-ose-v-gyn-por-i-zasadacka/
LOCATION:FNsP NZ  – Kinosála
CATEGORIES:Odbor Ošetrovateľstvo,OŠE - 3. ročník Bc.
END:VEVENT
BEGIN:VEVENT
DTSTART;TZID=Europe/Bratislava:20260415T090000
DTEND;TZID=Europe/Bratislava:20260415T153000
DTSTAMP:20260425T142126
CREATED:20260109T072314Z
LAST-MODIFIED:20260121T121917Z
UID:49027-1776243600-1776267000@fsvladislava.sk
SUMMARY:PA 1.r. Bc. - Pôrodná asistencia I. - Seminárna miestnosť
DESCRIPTION:PA 1.r. Bc. – Pôrodná asistencia I. – prof. Matulníková – Seminárna miestnosť
URL:https://fsvladislava.sk/rozvrh/pa-1-r-bc-porodna-asistencia-i-zasadacka-7/
LOCATION:FNsP NZ  – Seminárna miestnosť
CATEGORIES:Odbor Pôrodná asistencia,PA - 1. ročník Bc.
END:VEVENT
BEGIN:VEVENT
DTSTART;TZID=Europe/Bratislava:20260415T090000
DTEND;TZID=Europe/Bratislava:20260415T180000
DTSTAMP:20260425T142126
CREATED:20251126T132406Z
LAST-MODIFIED:20251126T132406Z
UID:48700-1776243600-1776276000@fsvladislava.sk
SUMMARY:PA 2.r. Bc. – Starostlivosť o novorodenca a dojča I. - Zasadačka
DESCRIPTION:PA 2.r. Bc. – Starostlivosť o novorodenca a dojča I. – Dr. Galková – Zasadačka
URL:https://fsvladislava.sk/rozvrh/pa-2-r-bc-starostlivost-o-novorodenca-a-dojca-i-zasadacka/
LOCATION:FNsP NZ – Zasadačka
CATEGORIES:Odbor Pôrodná asistencia,PA - 2. ročník Bc.
END:VEVENT
BEGIN:VEVENT
DTSTART;TZID=Europe/Bratislava:20260415T150000
DTEND;TZID=Europe/Bratislava:20260415T150000
DTSTAMP:20260425T142126
CREATED:20260409T052932Z
LAST-MODIFIED:20260409T052932Z
UID:49974-1776265200-1776265200@fsvladislava.sk
SUMMARY:OŠE 1.r. Bc. - SK ANF a Zdravotnícka terminológia  - Modrý dom SZŠ
DESCRIPTION:OŠE 1.r. Bc. – Skúška: ANF a Zdravotnícka terminológia – Dr. Kocsis – Modrý dom SZŠ
URL:https://fsvladislava.sk/rozvrh/ose-1-r-bc-sk-anf-a-zdravotnicka-terminologia-modry-dom-szs-28/
LOCATION:SZŠ EK – Modrý dom
CATEGORIES:Odbor Ošetrovateľstvo,OŠE - 1. ročník Bc.
END:VEVENT
BEGIN:VEVENT
DTSTART;TZID=Europe/Bratislava:20260415T150000
DTEND;TZID=Europe/Bratislava:20260415T170000
DTSTAMP:20260425T142126
CREATED:20260408T102637Z
LAST-MODIFIED:20260415T050331Z
UID:49956-1776265200-1776272400@fsvladislava.sk
SUMMARY:Fakulta sv. Ladislava - porada zamestnancov FZaSP sv. Ladislava v Nových Zámkoch - Zasadačka
DESCRIPTION:Fakulta sv. Ladislava – porada zamestnancov FZaSP sv. Ladislava v Nových Zámkoch – Zasadačka
URL:https://fsvladislava.sk/rozvrh/fakulta-sv-ladislava-porada-kinosala/
LOCATION:FNsP NZ – Zasadačka
CATEGORIES:Fakulta
END:VEVENT
END:VCALENDAR