BEGIN:VCALENDAR
VERSION:2.0
PRODID:-//Fakulta zdravotníctva a sociálnej práce sv. Ladislava, Nové Zámky - ECPv6.15.17//NONSGML v1.0//EN
CALSCALE:GREGORIAN
METHOD:PUBLISH
X-ORIGINAL-URL:https://fsvladislava.sk
X-WR-CALDESC:Udalosti pre Fakulta zdravotníctva a sociálnej práce sv. Ladislava, Nové Zámky
REFRESH-INTERVAL;VALUE=DURATION:PT1H
X-Robots-Tag:noindex
X-PUBLISHED-TTL:PT1H
BEGIN:VTIMEZONE
TZID:Europe/Bratislava
BEGIN:DAYLIGHT
TZOFFSETFROM:+0100
TZOFFSETTO:+0200
TZNAME:CEST
DTSTART:20250330T010000
END:DAYLIGHT
BEGIN:STANDARD
TZOFFSETFROM:+0200
TZOFFSETTO:+0100
TZNAME:CET
DTSTART:20251026T010000
END:STANDARD
BEGIN:DAYLIGHT
TZOFFSETFROM:+0100
TZOFFSETTO:+0200
TZNAME:CEST
DTSTART:20260329T010000
END:DAYLIGHT
BEGIN:STANDARD
TZOFFSETFROM:+0200
TZOFFSETTO:+0100
TZNAME:CET
DTSTART:20261025T010000
END:STANDARD
BEGIN:DAYLIGHT
TZOFFSETFROM:+0100
TZOFFSETTO:+0200
TZNAME:CEST
DTSTART:20270328T010000
END:DAYLIGHT
BEGIN:STANDARD
TZOFFSETFROM:+0200
TZOFFSETTO:+0100
TZNAME:CET
DTSTART:20271031T010000
END:STANDARD
END:VTIMEZONE
BEGIN:VEVENT
DTSTART;TZID=Europe/Bratislava:20260416T090000
DTEND;TZID=Europe/Bratislava:20260416T113000
DTSTAMP:20260425T140347
CREATED:20260325T104533Z
LAST-MODIFIED:20260325T104533Z
UID:49905-1776330000-1776339000@fsvladislava.sk
SUMMARY:OŠE 4.r. Bc. - SK Hygiena a preventívna medicína - Kinosála
DESCRIPTION:OŠE 4.r. Bc. – Skúška – Hygiena a preventívna medicína  PhDr. P. Hoppan – Kinosála
URL:https://fsvladislava.sk/rozvrh/ose-4-r-bc-sk-hygiena-a-preventivna-medicina-kinosala-2/
LOCATION:FNsP NZ  – Kinosála
CATEGORIES:Odbor Ošetrovateľstvo,OŠE - 4. ročník Bc.
END:VEVENT
BEGIN:VEVENT
DTSTART;TZID=Europe/Bratislava:20260416T090000
DTEND;TZID=Europe/Bratislava:20260416T153000
DTSTAMP:20260425T140347
CREATED:20260109T072328Z
LAST-MODIFIED:20260121T121934Z
UID:49029-1776330000-1776353400@fsvladislava.sk
SUMMARY:PA 1.r. Bc. - Pôrodná asistencia I. - Seminárna miestnosť
DESCRIPTION:PA 1.r. Bc. – Pôrodná asistencia I. – prof. Matulníková – Seminárna miestnosť
URL:https://fsvladislava.sk/rozvrh/pa-1-r-bc-porodna-asistencia-i-zasadacka-8/
LOCATION:FNsP NZ  – Seminárna miestnosť
CATEGORIES:Odbor Pôrodná asistencia,PA - 1. ročník Bc.
END:VEVENT
BEGIN:VEVENT
DTSTART;TZID=Europe/Bratislava:20260416T090000
DTEND;TZID=Europe/Bratislava:20260416T180000
DTSTAMP:20260425T140347
CREATED:20251126T132429Z
LAST-MODIFIED:20251126T132429Z
UID:48702-1776330000-1776362400@fsvladislava.sk
SUMMARY:PA 2.r. Bc. – Starostlivosť o novorodenca a dojča I. - Zasadačka
DESCRIPTION:PA 2.r. Bc. – Starostlivosť o novorodenca a dojča I. – Dr. Galková – Zasadačka
URL:https://fsvladislava.sk/rozvrh/pa-2-r-bc-starostlivost-o-novorodenca-a-dojca-i-zasadacka-2/
LOCATION:FNsP NZ – Zasadačka
CATEGORIES:Odbor Pôrodná asistencia,PA - 2. ročník Bc.
END:VEVENT
BEGIN:VEVENT
DTSTART;TZID=Europe/Bratislava:20260416T150000
DTEND;TZID=Europe/Bratislava:20260416T150000
DTSTAMP:20260425T140347
CREATED:20260409T052945Z
LAST-MODIFIED:20260409T052945Z
UID:49976-1776351600-1776351600@fsvladislava.sk
SUMMARY:OŠE 1.r. Bc. - SK ANF a Zdravotnícka terminológia  - Modrý dom SZŠ
DESCRIPTION:OŠE 1.r. Bc. – Skúška: ANF a Zdravotnícka terminológia – Dr. Kocsis – Modrý dom SZŠ
URL:https://fsvladislava.sk/rozvrh/ose-1-r-bc-sk-anf-a-zdravotnicka-terminologia-modry-dom-szs-29/
LOCATION:SZŠ EK – Modrý dom
CATEGORIES:Odbor Ošetrovateľstvo,OŠE - 1. ročník Bc.
END:VEVENT
END:VCALENDAR