BEGIN:VCALENDAR
VERSION:2.0
PRODID:-//Fakulta zdravotníctva a sociálnej práce sv. Ladislava, Nové Zámky - ECPv6.15.17//NONSGML v1.0//EN
CALSCALE:GREGORIAN
METHOD:PUBLISH
X-WR-CALNAME:Fakulta zdravotníctva a sociálnej práce sv. Ladislava, Nové Zámky
X-ORIGINAL-URL:https://fsvladislava.sk
X-WR-CALDESC:Udalosti pre Fakulta zdravotníctva a sociálnej práce sv. Ladislava, Nové Zámky
REFRESH-INTERVAL;VALUE=DURATION:PT1H
X-Robots-Tag:noindex
X-PUBLISHED-TTL:PT1H
BEGIN:VTIMEZONE
TZID:Europe/Bratislava
BEGIN:DAYLIGHT
TZOFFSETFROM:+0100
TZOFFSETTO:+0200
TZNAME:CEST
DTSTART:20250330T010000
END:DAYLIGHT
BEGIN:STANDARD
TZOFFSETFROM:+0200
TZOFFSETTO:+0100
TZNAME:CET
DTSTART:20251026T010000
END:STANDARD
BEGIN:DAYLIGHT
TZOFFSETFROM:+0100
TZOFFSETTO:+0200
TZNAME:CEST
DTSTART:20260329T010000
END:DAYLIGHT
BEGIN:STANDARD
TZOFFSETFROM:+0200
TZOFFSETTO:+0100
TZNAME:CET
DTSTART:20261025T010000
END:STANDARD
BEGIN:DAYLIGHT
TZOFFSETFROM:+0100
TZOFFSETTO:+0200
TZNAME:CEST
DTSTART:20270328T010000
END:DAYLIGHT
BEGIN:STANDARD
TZOFFSETFROM:+0200
TZOFFSETTO:+0100
TZNAME:CET
DTSTART:20271031T010000
END:STANDARD
END:VTIMEZONE
BEGIN:VEVENT
DTSTART;TZID=Europe/Bratislava:20260418T090000
DTEND;TZID=Europe/Bratislava:20260418T153000
DTSTAMP:20260425T140305
CREATED:20260202T132535Z
LAST-MODIFIED:20260202T134602Z
UID:49412-1776502800-1776526200@fsvladislava.sk
SUMMARY:SP 1.r. Bc. - Pediatria pre SP - Kinosála
DESCRIPTION:SP 1.r. Bc.  – Pediatria pre SP – prof. MUDr. Bartkovjak\, PhD. – Kinosála
URL:https://fsvladislava.sk/rozvrh/ose-1-r-bc-pediatria-pre-sp-kinosala/
LOCATION:FNsP NZ  – Kinosála
CATEGORIES:Odbor Sociálna práca,SP - 1. ročník Bc.
END:VEVENT
END:VCALENDAR