BEGIN:VCALENDAR
VERSION:2.0
PRODID:-//Fakulta zdravotníctva a sociálnej práce sv. Ladislava, Nové Zámky - ECPv6.15.17//NONSGML v1.0//EN
CALSCALE:GREGORIAN
METHOD:PUBLISH
X-ORIGINAL-URL:https://fsvladislava.sk
X-WR-CALDESC:Udalosti pre Fakulta zdravotníctva a sociálnej práce sv. Ladislava, Nové Zámky
REFRESH-INTERVAL;VALUE=DURATION:PT1H
X-Robots-Tag:noindex
X-PUBLISHED-TTL:PT1H
BEGIN:VTIMEZONE
TZID:Europe/Bratislava
BEGIN:DAYLIGHT
TZOFFSETFROM:+0100
TZOFFSETTO:+0200
TZNAME:CEST
DTSTART:20250330T010000
END:DAYLIGHT
BEGIN:STANDARD
TZOFFSETFROM:+0200
TZOFFSETTO:+0100
TZNAME:CET
DTSTART:20251026T010000
END:STANDARD
BEGIN:DAYLIGHT
TZOFFSETFROM:+0100
TZOFFSETTO:+0200
TZNAME:CEST
DTSTART:20260329T010000
END:DAYLIGHT
BEGIN:STANDARD
TZOFFSETFROM:+0200
TZOFFSETTO:+0100
TZNAME:CET
DTSTART:20261025T010000
END:STANDARD
BEGIN:DAYLIGHT
TZOFFSETFROM:+0100
TZOFFSETTO:+0200
TZNAME:CEST
DTSTART:20270328T010000
END:DAYLIGHT
BEGIN:STANDARD
TZOFFSETFROM:+0200
TZOFFSETTO:+0100
TZNAME:CET
DTSTART:20271031T010000
END:STANDARD
END:VTIMEZONE
BEGIN:VEVENT
DTSTART;TZID=Europe/Bratislava:20260504T100000
DTEND;TZID=Europe/Bratislava:20260508T150000
DTSTAMP:20260425T155947
CREATED:20251002T083413Z
LAST-MODIFIED:20251002T083413Z
UID:48283-1777888800-1778252400@fsvladislava.sk
SUMMARY:Fakulta sv. Ladislava - OŠE Bc. praktická ŠS - Zasadačka
DESCRIPTION:Fakulta sv. Ladislava – OŠE Bc. praktická ŠS – Zasadačka
URL:https://fsvladislava.sk/rozvrh/fakulta-sv-ladislava-ose-bc-prakticka-ss-zasadacka/
LOCATION:FNsP NZ – Zasadačka
CATEGORIES:Fakulta
END:VEVENT
BEGIN:VEVENT
DTSTART;TZID=Europe/Bratislava:20260504T100000
DTEND;TZID=Europe/Bratislava:20260508T150000
DTSTAMP:20260425T155947
CREATED:20251002T083441Z
LAST-MODIFIED:20251002T083441Z
UID:48282-1777888800-1778252400@fsvladislava.sk
SUMMARY:Fakulta sv. Ladislava - OŠE Bc. praktická ŠS - Seminárna miestnosť
DESCRIPTION:Fakulta sv. Ladislava – OŠE Bc. praktická ŠS – Seminárna miestnosť
URL:https://fsvladislava.sk/rozvrh/fakulta-sv-ladislava-ose-bc-prakticka-ss-seminarna-miestnost/
LOCATION:FNsP NZ  – Seminárna miestnosť
CATEGORIES:Fakulta
END:VEVENT
BEGIN:VEVENT
DTSTART;TZID=Europe/Bratislava:20260505T083000
DTEND;TZID=Europe/Bratislava:20260505T100000
DTSTAMP:20260425T155947
CREATED:20250903T060859Z
LAST-MODIFIED:20250903T060859Z
UID:47779-1777969800-1777975200@fsvladislava.sk
SUMMARY:FNsP NZ - Operatívna porada vedúcich zamestnancov - Zasadačka
DESCRIPTION:FNsP NZ – Operatívna porada vedúcich zamestnancov – Zasadačka
URL:https://fsvladislava.sk/rozvrh/fnsp-nz-operativna-porada-veducich-zamestnancov-zasadacka-67/
LOCATION:FNsP NZ – Zasadačka
CATEGORIES:FNsP NZ
END:VEVENT
BEGIN:VEVENT
DTSTART;TZID=Europe/Bratislava:20260505T130000
DTEND;TZID=Europe/Bratislava:20260505T130000
DTSTAMP:20260425T155947
CREATED:20260105T125956Z
LAST-MODIFIED:20260105T125956Z
UID:48924-1777986000-1777986000@fsvladislava.sk
SUMMARY:PA 3.r. Bc. - Zber BP + iných písomností (celý ročník) - Seminárna miestnosť
DESCRIPTION:PA 3.r. Bc. – Zber BP + iných písomností  – Seminárna miestnosť
URL:https://fsvladislava.sk/rozvrh/pa-3-r-bc-zber-bp-inych-pisomnosti-cely-rocnik-seminarna-miestnost/
LOCATION:FNsP NZ  – Seminárna miestnosť
CATEGORIES:Odbor Pôrodná asistencia,PA - 3. ročník Bc.
END:VEVENT
BEGIN:VEVENT
DTSTART;TZID=Europe/Bratislava:20260505T183000
DTEND;TZID=Europe/Bratislava:20260505T183000
DTSTAMP:20260425T155947
CREATED:20260330T054001Z
LAST-MODIFIED:20260330T054001Z
UID:49915-1778005800-1778005800@fsvladislava.sk
SUMMARY:SP 1.r. Mgr. - SK Sociálne poradenstvo - Online
DESCRIPTION:SP 1.r. Mgr. – Skúška: Sociálne poradenstvo – doc. Mgr. Ludvigh Cintulová\, PhD. univ. prof. – Online
URL:https://fsvladislava.sk/rozvrh/sp-1-r-mgr-sk-socialne-poradenstvo-online/
LOCATION:Online
CATEGORIES:Odbor Sociálna práca,SP - 1. ročník Mgr.
END:VEVENT
END:VCALENDAR