BEGIN:VCALENDAR
VERSION:2.0
PRODID:-//Fakulta zdravotníctva a sociálnej práce sv. Ladislava, Nové Zámky - ECPv6.15.17//NONSGML v1.0//EN
CALSCALE:GREGORIAN
METHOD:PUBLISH
X-WR-CALNAME:Fakulta zdravotníctva a sociálnej práce sv. Ladislava, Nové Zámky
X-ORIGINAL-URL:https://fsvladislava.sk
X-WR-CALDESC:Udalosti pre Fakulta zdravotníctva a sociálnej práce sv. Ladislava, Nové Zámky
REFRESH-INTERVAL;VALUE=DURATION:PT1H
X-Robots-Tag:noindex
X-PUBLISHED-TTL:PT1H
BEGIN:VTIMEZONE
TZID:Europe/Bratislava
BEGIN:DAYLIGHT
TZOFFSETFROM:+0100
TZOFFSETTO:+0200
TZNAME:CEST
DTSTART:20250330T010000
END:DAYLIGHT
BEGIN:STANDARD
TZOFFSETFROM:+0200
TZOFFSETTO:+0100
TZNAME:CET
DTSTART:20251026T010000
END:STANDARD
BEGIN:DAYLIGHT
TZOFFSETFROM:+0100
TZOFFSETTO:+0200
TZNAME:CEST
DTSTART:20260329T010000
END:DAYLIGHT
BEGIN:STANDARD
TZOFFSETFROM:+0200
TZOFFSETTO:+0100
TZNAME:CET
DTSTART:20261025T010000
END:STANDARD
BEGIN:DAYLIGHT
TZOFFSETFROM:+0100
TZOFFSETTO:+0200
TZNAME:CEST
DTSTART:20270328T010000
END:DAYLIGHT
BEGIN:STANDARD
TZOFFSETFROM:+0200
TZOFFSETTO:+0100
TZNAME:CET
DTSTART:20271031T010000
END:STANDARD
END:VTIMEZONE
BEGIN:VEVENT
DTSTART;TZID=Europe/Bratislava:20260504T100000
DTEND;TZID=Europe/Bratislava:20260508T150000
DTSTAMP:20260425T155741
CREATED:20251002T083413Z
LAST-MODIFIED:20251002T083413Z
UID:48283-1777888800-1778252400@fsvladislava.sk
SUMMARY:Fakulta sv. Ladislava - OŠE Bc. praktická ŠS - Zasadačka
DESCRIPTION:Fakulta sv. Ladislava – OŠE Bc. praktická ŠS – Zasadačka
URL:https://fsvladislava.sk/rozvrh/fakulta-sv-ladislava-ose-bc-prakticka-ss-zasadacka/
LOCATION:FNsP NZ – Zasadačka
CATEGORIES:Fakulta
END:VEVENT
BEGIN:VEVENT
DTSTART;TZID=Europe/Bratislava:20260504T100000
DTEND;TZID=Europe/Bratislava:20260508T150000
DTSTAMP:20260425T155741
CREATED:20251002T083441Z
LAST-MODIFIED:20251002T083441Z
UID:48282-1777888800-1778252400@fsvladislava.sk
SUMMARY:Fakulta sv. Ladislava - OŠE Bc. praktická ŠS - Seminárna miestnosť
DESCRIPTION:Fakulta sv. Ladislava – OŠE Bc. praktická ŠS – Seminárna miestnosť
URL:https://fsvladislava.sk/rozvrh/fakulta-sv-ladislava-ose-bc-prakticka-ss-seminarna-miestnost/
LOCATION:FNsP NZ  – Seminárna miestnosť
CATEGORIES:Fakulta
END:VEVENT
BEGIN:VEVENT
DTSTART;TZID=Europe/Bratislava:20260507T090000
DTEND;TZID=Europe/Bratislava:20260507T110000
DTSTAMP:20260425T155741
CREATED:20260409T094016Z
LAST-MODIFIED:20260409T094016Z
UID:49984-1778144400-1778151600@fsvladislava.sk
SUMMARY:Fakulta sv. Ladislava - Zbieranie Bc. prác a podkladov k štátnej skúške - Seminárna miestnosť
DESCRIPTION:Fakulta sv. Ladislava – Zbieranie Bc. prác a podkladov k štátnej skúške – Seminárna miestnosť
URL:https://fsvladislava.sk/rozvrh/fakulta-sv-ladislava-zbieranie-bc-prac-a-podkladov-k-statnej-skuske-seminarna-miestnost/
LOCATION:FNsP NZ  – Seminárna miestnosť
CATEGORIES:Fakulta
END:VEVENT
BEGIN:VEVENT
DTSTART;TZID=Europe/Bratislava:20260507T090000
DTEND;TZID=Europe/Bratislava:20260507T153000
DTSTAMP:20260425T155741
CREATED:20260122T061746Z
LAST-MODIFIED:20260122T061746Z
UID:49313-1778144400-1778167800@fsvladislava.sk
SUMMARY:PA 2.r. Bc. - Pôrodná asistencia III.  - Kinosála
DESCRIPTION:PA 2.r. Bc. – Pôrodná asistencia III.   – prof. Matulníková – Kinosála
URL:https://fsvladislava.sk/rozvrh/pa-2-r-bc-porodna-asistencia-iii-kinosala/
LOCATION:FNsP NZ  – Kinosála
CATEGORIES:Odbor Pôrodná asistencia,PA - 2. ročník Bc.
END:VEVENT
BEGIN:VEVENT
DTSTART;TZID=Europe/Bratislava:20260507T153000
DTEND;TZID=Europe/Bratislava:20260507T183000
DTSTAMP:20260425T155741
CREATED:20260122T061659Z
LAST-MODIFIED:20260122T061659Z
UID:49311-1778167800-1778178600@fsvladislava.sk
SUMMARY:PA 2.r. Bc. - Oše. proces v PA II. - Kinosála
DESCRIPTION:PA 2.r. Bc. – Oše. proces v PA II.  – prof. Matulníková – Kinosála
URL:https://fsvladislava.sk/rozvrh/pa-2-r-bc-ose-proces-v-pa-ii-kinosala-3/
LOCATION:FNsP NZ  – Kinosála
CATEGORIES:Odbor Pôrodná asistencia,PA - 2. ročník Bc.
END:VEVENT
END:VCALENDAR