BEGIN:VCALENDAR
VERSION:2.0
PRODID:-//Fakulta zdravotníctva a sociálnej práce sv. Ladislava, Nové Zámky - ECPv6.15.17//NONSGML v1.0//EN
CALSCALE:GREGORIAN
METHOD:PUBLISH
X-WR-CALNAME:Fakulta zdravotníctva a sociálnej práce sv. Ladislava, Nové Zámky
X-ORIGINAL-URL:https://fsvladislava.sk
X-WR-CALDESC:Udalosti pre Fakulta zdravotníctva a sociálnej práce sv. Ladislava, Nové Zámky
REFRESH-INTERVAL;VALUE=DURATION:PT1H
X-Robots-Tag:noindex
X-PUBLISHED-TTL:PT1H
BEGIN:VTIMEZONE
TZID:Europe/Bratislava
BEGIN:DAYLIGHT
TZOFFSETFROM:+0100
TZOFFSETTO:+0200
TZNAME:CEST
DTSTART:20250330T010000
END:DAYLIGHT
BEGIN:STANDARD
TZOFFSETFROM:+0200
TZOFFSETTO:+0100
TZNAME:CET
DTSTART:20251026T010000
END:STANDARD
BEGIN:DAYLIGHT
TZOFFSETFROM:+0100
TZOFFSETTO:+0200
TZNAME:CEST
DTSTART:20260329T010000
END:DAYLIGHT
BEGIN:STANDARD
TZOFFSETFROM:+0200
TZOFFSETTO:+0100
TZNAME:CET
DTSTART:20261025T010000
END:STANDARD
BEGIN:DAYLIGHT
TZOFFSETFROM:+0100
TZOFFSETTO:+0200
TZNAME:CEST
DTSTART:20270328T010000
END:DAYLIGHT
BEGIN:STANDARD
TZOFFSETFROM:+0200
TZOFFSETTO:+0100
TZNAME:CET
DTSTART:20271031T010000
END:STANDARD
END:VTIMEZONE
BEGIN:VEVENT
DTSTART;TZID=Europe/Bratislava:20260103T080000
DTEND;TZID=Europe/Bratislava:20260103T080000
DTSTAMP:20260425T175311
CREATED:20251210T073950Z
LAST-MODIFIED:20251210T073950Z
UID:48811-1767427200-1767427200@fsvladislava.sk
SUMMARY:OŠE 1.r. Mgr. - SK Transkultúrne ošetrovateľstvo - Online
DESCRIPTION:OŠE 1.r. Mgr. – Skúška: Transkultúrne ošetrovateľstvo – Dr. Dobsonyová – Online
URL:https://fsvladislava.sk/rozvrh/ose-1-r-mgr-sk-transkulturne-osetrovatelstvo-online/
LOCATION:Online
CATEGORIES:Odbor Ošetrovateľstvo,OŠE - 1. ročník Mgr.
END:VEVENT
BEGIN:VEVENT
DTSTART;TZID=Europe/Bratislava:20260105T080000
DTEND;TZID=Europe/Bratislava:20260105T150000
DTSTAMP:20260425T175311
CREATED:20251218T071000Z
LAST-MODIFIED:20251218T071000Z
UID:48869-1767600000-1767625200@fsvladislava.sk
SUMMARY:FNsP NZ - OI - CES - Zasadačka
DESCRIPTION:FNsP NZ – OI – CES – Zasadačka
URL:https://fsvladislava.sk/rozvrh/fnsp-nz-oi-ces-zasadacka/
LOCATION:FNsP NZ – Zasadačka
CATEGORIES:FNsP NZ
END:VEVENT
BEGIN:VEVENT
DTSTART;TZID=Europe/Bratislava:20260105T180000
DTEND;TZID=Europe/Bratislava:20260105T200000
DTSTAMP:20260425T175311
CREATED:20251020T055326Z
LAST-MODIFIED:20251020T055326Z
UID:48406-1767636000-1767643200@fsvladislava.sk
SUMMARY:SP 3.r. Bc. - SK Sociálna prevencia - Elix
DESCRIPTION:SP 3.r. Bc. – Skúška: Sociálna prevencia – doc. Ludvigh Cintulová – Online – Elix
URL:https://fsvladislava.sk/rozvrh/sp-3-r-bc-sk-socialna-prevencia-elix/
LOCATION:Online – Elix
CATEGORIES:Odbor Sociálna práca,SP - 3. ročník Bc.
END:VEVENT
BEGIN:VEVENT
DTSTART;TZID=Europe/Bratislava:20260107T080000
DTEND;TZID=Europe/Bratislava:20260107T090000
DTSTAMP:20260425T175311
CREATED:20250911T080441Z
LAST-MODIFIED:20250911T080441Z
UID:47947-1767772800-1767776400@fsvladislava.sk
SUMMARY:FNsP NZ - Školenie HER - Zasadačka
DESCRIPTION:FNsP NZ – Školenie HER – Zasadačka
URL:https://fsvladislava.sk/rozvrh/fnsp-nz-skolenie-her-zasadacka-31/
LOCATION:FNsP NZ – Zasadačka
CATEGORIES:FNsP NZ
END:VEVENT
BEGIN:VEVENT
DTSTART;TZID=Europe/Bratislava:20260107T080000
DTEND;TZID=Europe/Bratislava:20260107T160000
DTSTAMP:20260425T175311
CREATED:20251210T074354Z
LAST-MODIFIED:20251210T074354Z
UID:48817-1767772800-1767801600@fsvladislava.sk
SUMMARY:OŠE 1.r. Mgr. - SK Ošetrovateľstvo v zdraví pri práci - Elix
DESCRIPTION:OŠE 1.r. Mgr. – Skúška: Ošetrovateľstvo v zdraví pri práci – Brodanská – Elix
URL:https://fsvladislava.sk/rozvrh/ose-1-r-mgr-sk-osetrovatelstvo-v-zdravi-pri-praci-elix/
LOCATION:Online – Elix
CATEGORIES:Odbor Ošetrovateľstvo,OŠE - 1. ročník Mgr.
END:VEVENT
BEGIN:VEVENT
DTSTART;TZID=Europe/Bratislava:20260107T130000
DTEND;TZID=Europe/Bratislava:20260107T150000
DTSTAMP:20260425T175311
CREATED:20251218T070719Z
LAST-MODIFIED:20251218T070719Z
UID:48867-1767790800-1767798000@fsvladislava.sk
SUMMARY:FNsP NZ - DRG - Zasadačka
DESCRIPTION:FNsP NZ – DRG – Zasadačka
URL:https://fsvladislava.sk/rozvrh/fnsp-nz-drg-zasadacka-3/
LOCATION:FNsP NZ – Zasadačka
CATEGORIES:FNsP NZ
END:VEVENT
BEGIN:VEVENT
DTSTART;TZID=Europe/Bratislava:20260107T150000
DTEND;TZID=Europe/Bratislava:20260107T150000
DTSTAMP:20260425T175311
CREATED:20251210T073354Z
LAST-MODIFIED:20251210T073354Z
UID:48807-1767798000-1767798000@fsvladislava.sk
SUMMARY:PA 2.r. Bc. - SK Výživa novorodencov a dojčiat   - Neonatol. kln.
DESCRIPTION:PA 2.r. Bc. –  Skúška: Výživa novorodencov a dojčiat  – doc. PhDr. Gabriela Magyarová Szencziová\, PhD. – Neonatol. kln.
URL:https://fsvladislava.sk/rozvrh/pa-2-r-bc-sk-vyziva-novorodencov-a-dojciat-neonatol-kln/
LOCATION:Neonatologická kln. 3.p. zasadačka
CATEGORIES:Odbor Pôrodná asistencia,PA - 2. ročník Bc.
END:VEVENT
BEGIN:VEVENT
DTSTART;TZID=Europe/Bratislava:20260108T120000
DTEND;TZID=Europe/Bratislava:20260108T120000
DTSTAMP:20260425T175311
CREATED:20251009T103236Z
LAST-MODIFIED:20260107T053806Z
UID:48344-1767873600-1767873600@fsvladislava.sk
SUMMARY:SP 4.r. Bc. - SK Prognóza sociálneho vývoja - Zasadačka
DESCRIPTION:SP 4.r. Bc. – Skúška: Prognóza sociálneho vývoja – univ. prof. doc. Lucia Ludvigh Cintulová\, PhD. – Zasadačka
URL:https://fsvladislava.sk/rozvrh/sp-4-r-bc-sk-prognoza-socialneho-vyvoja-zoom-2/
LOCATION:FNsP NZ – Zasadačka
CATEGORIES:Odbor Sociálna práca,SP - 4. ročník Bc.
END:VEVENT
BEGIN:VEVENT
DTSTART;TZID=Europe/Bratislava:20260108T150000
DTEND;TZID=Europe/Bratislava:20260108T150000
DTSTAMP:20260425T175311
CREATED:20251219T061841Z
LAST-MODIFIED:20251219T061841Z
UID:48873-1767884400-1767884400@fsvladislava.sk
SUMMARY:OŠE 1.r. Bc. - SK ANF a Zdravotnícka terminológia  - Modrý dom SZŠ
DESCRIPTION:OŠE 1.r. Bc. – Skúška: ANF a Zdravotnícka terminológia – Dr. Kocsis – Modrý dom SZŠ
URL:https://fsvladislava.sk/rozvrh/ose-1-r-bc-sk-anf-a-zdravotnicka-terminologia-modry-dom-szs/
LOCATION:SZŠ EK – Modrý dom
CATEGORIES:Odbor Ošetrovateľstvo,OŠE - 1. ročník Bc.
END:VEVENT
BEGIN:VEVENT
DTSTART;TZID=Europe/Bratislava:20260108T180000
DTEND;TZID=Europe/Bratislava:20260108T180000
DTSTAMP:20260425T175311
CREATED:20250910T051215Z
LAST-MODIFIED:20251125T061444Z
UID:47882-1767895200-1767895200@fsvladislava.sk
SUMMARY:SP 1.r. Bc. - SK Úvod do štúdia a dejiny SP - Elix
DESCRIPTION:SP 1.r. Bc. – Skúška: Úvod do štúdia a dejiny SP – prof. Radková – Elix
URL:https://fsvladislava.sk/rozvrh/sp-1-r-bc-test-uvod-do-studia-a-dejiny-sp-kinosala/
LOCATION:elix
CATEGORIES:Odbor Sociálna práca,SP - 1. ročník Bc.
ORGANIZER;CN="prof. Radkov%C3%A1":MAILTO:libusa.radkova@gmail.com
END:VEVENT
BEGIN:VEVENT
DTSTART;TZID=Europe/Bratislava:20260109T140000
DTEND;TZID=Europe/Bratislava:20260109T140000
DTSTAMP:20260425T175311
CREATED:20251119T114630Z
LAST-MODIFIED:20251202T112829Z
UID:48627-1767967200-1767967200@fsvladislava.sk
SUMMARY:SP 1.r. Mgr. - SK Etika v SP - Kinosála
DESCRIPTION:SP 1.r. Mgr. – SK Etika v SP – Dr. Moravík – Kinosála
URL:https://fsvladislava.sk/rozvrh/sp-1-r-mgr-sk-etika-v-sp-elix/
LOCATION:FNsP NZ  – Kinosála
CATEGORIES:Odbor Sociálna práca,SP - 1. ročník Mgr.
END:VEVENT
BEGIN:VEVENT
DTSTART;TZID=Europe/Bratislava:20260109T150000
DTEND;TZID=Europe/Bratislava:20260109T150000
DTSTAMP:20260425T175311
CREATED:20250916T121349Z
LAST-MODIFIED:20260107T112634Z
UID:48146-1767970800-1767970800@fsvladislava.sk
SUMMARY:SP 3.r. Bc. - Seminár k bakalárskej práci - Online
DESCRIPTION:SP 3.r. Bc. –  Seminár k bakalárskej práci – doc. Radi – Online
URL:https://fsvladislava.sk/rozvrh/sp-3-r-bc-seminar-k-bakalarskej-praci-online/
LOCATION:Online
CATEGORIES:Odbor Sociálna práca,SP - 3. ročník Bc.
END:VEVENT
BEGIN:VEVENT
DTSTART;TZID=Europe/Bratislava:20260109T150000
DTEND;TZID=Europe/Bratislava:20260109T150000
DTSTAMP:20260425T175311
CREATED:20251219T061856Z
LAST-MODIFIED:20251219T061856Z
UID:48875-1767970800-1767970800@fsvladislava.sk
SUMMARY:OŠE 1.r. Bc. - SK ANF a Zdravotnícka terminológia  - Modrý dom SZŠ
DESCRIPTION:OŠE 1.r. Bc. – Skúška: ANF a Zdravotnícka terminológia – Dr. Kocsis – Modrý dom SZŠ
URL:https://fsvladislava.sk/rozvrh/ose-1-r-bc-sk-anf-a-zdravotnicka-terminologia-modry-dom-szs-2/
LOCATION:SZŠ EK – Modrý dom
CATEGORIES:Odbor Ošetrovateľstvo,OŠE - 1. ročník Bc.
END:VEVENT
BEGIN:VEVENT
DTSTART;TZID=Europe/Bratislava:20260109T190000
DTEND;TZID=Europe/Bratislava:20260109T200000
DTSTAMP:20260425T175311
CREATED:20260102T053712Z
LAST-MODIFIED:20260102T053712Z
UID:48909-1767985200-1767988800@fsvladislava.sk
SUMMARY:OŠE 1.r. Mgr. - OT SK Nozokomiálne infekcie\, infektológia a oše. - Elix
DESCRIPTION:OŠE 1.r. Mgr. – OT Skúška: Nozokomiálne infekcie\, infektológia a oše. – Dr. Cipková – Online – Elix
URL:https://fsvladislava.sk/rozvrh/ose-1-r-mgr-ot-sk-nozokomialne-infekcie-infektologia-a-ose-elix/
LOCATION:Online – Elix
CATEGORIES:Odbor Ošetrovateľstvo,OŠE - 1. ročník Mgr.
END:VEVENT
BEGIN:VEVENT
DTSTART;TZID=Europe/Bratislava:20260110T080000
DTEND;TZID=Europe/Bratislava:20260110T080000
DTSTAMP:20260425T175311
CREATED:20230927T195747Z
LAST-MODIFIED:20250916T121731Z
UID:41375-1768032000-1768032000@fsvladislava.sk
SUMMARY:SP 1.r. Mgr. - Metodológia výskumu v sociálnej práci - Zoom
DESCRIPTION:SP 1.r. Mgr. – Metodológia výskumu v sociálnej práci – prof. Radková – Zoom
URL:https://fsvladislava.sk/rozvrh/sp-1-r-mgr-metodologia-vyskumu-v-socialnej-praci-online/
LOCATION:Online – Zoom
CATEGORIES:Odbor Sociálna práca,SP - 1. ročník Mgr.
ORGANIZER;CN="prof. Radkov%C3%A1":MAILTO:libusa.radkova@gmail.com
END:VEVENT
BEGIN:VEVENT
DTSTART;TZID=Europe/Bratislava:20260110T080000
DTEND;TZID=Europe/Bratislava:20260110T160000
DTSTAMP:20260425T175311
CREATED:20251210T074414Z
LAST-MODIFIED:20251210T074414Z
UID:48819-1768032000-1768060800@fsvladislava.sk
SUMMARY:OŠE 1.r. Mgr. - SK Ošetrovateľstvo v zdraví pri práci - Elix
DESCRIPTION:OŠE 1.r. Mgr. – Skúška: Ošetrovateľstvo v zdraví pri práci – Brodanská – Elix
URL:https://fsvladislava.sk/rozvrh/ose-1-r-mgr-sk-osetrovatelstvo-v-zdravi-pri-praci-elix-2/
LOCATION:Online – Elix
CATEGORIES:Odbor Ošetrovateľstvo,OŠE - 1. ročník Mgr.
END:VEVENT
BEGIN:VEVENT
DTSTART;TZID=Europe/Bratislava:20260110T090000
DTEND;TZID=Europe/Bratislava:20260110T090000
DTSTAMP:20260425T175311
CREATED:20230927T185902Z
LAST-MODIFIED:20251202T123356Z
UID:41299-1768035600-1768035600@fsvladislava.sk
SUMMARY:SP 1.r. Bc. - Základy filozofie - Kinosála
DESCRIPTION:SP 1.r. Bc. – Základy filozofie – Dr. Moravík – Kinosála
URL:https://fsvladislava.sk/rozvrh/sp-1-r-bc-zaklady-filozofie-kinosala/
LOCATION:FNsP NZ  – Kinosála
CATEGORIES:Odbor Sociálna práca,SP - 1. ročník Bc.
END:VEVENT
BEGIN:VEVENT
DTSTART;TZID=Europe/Bratislava:20260110T120000
DTEND;TZID=Europe/Bratislava:20260110T120000
DTSTAMP:20260425T175311
CREATED:20251127T101455Z
LAST-MODIFIED:20260109T102130Z
UID:48714-1768046400-1768046400@fsvladislava.sk
SUMMARY:SP 2.r. Mgr. - SK Penitenciárna a postpenitenciárna SP - SKÚŠKA ZRUŠENÁ ! - Zasadačka
DESCRIPTION:SP 2.r. Mgr. – Skúška: Penitenciárna a postpenitenciárna SP – SKÚŠKA ZRUŠENÁ !– Dr. Lobodáš – Zasadačka
URL:https://fsvladislava.sk/rozvrh/sp-2-r-mgr-sk-penitenciarna-a-postpenitenciarna-sp-zasadacka-4/
LOCATION:FNsP NZ – Zasadačka
CATEGORIES:Odbor Sociálna práca,SP - 2. ročník Mgr.
END:VEVENT
BEGIN:VEVENT
DTSTART;TZID=Europe/Bratislava:20260112T130000
DTEND;TZID=Europe/Bratislava:20260112T140000
DTSTAMP:20260425T175311
CREATED:20251216T085614Z
LAST-MODIFIED:20251216T085614Z
UID:48855-1768222800-1768226400@fsvladislava.sk
SUMMARY:FNsP NZ - prof. Rudinský - Zasadačka
DESCRIPTION:FNsP NZ – prof. Rudinský – Zasadačka
URL:https://fsvladislava.sk/rozvrh/fnsp-nz-prof-rudinsky-zasadacka/
LOCATION:FNsP NZ – Zasadačka
CATEGORIES:FNsP NZ
END:VEVENT
BEGIN:VEVENT
DTSTART;TZID=Europe/Bratislava:20260112T150000
DTEND;TZID=Europe/Bratislava:20260112T150000
DTSTAMP:20260425T175311
CREATED:20251219T061909Z
LAST-MODIFIED:20251219T061909Z
UID:48877-1768230000-1768230000@fsvladislava.sk
SUMMARY:OŠE 1.r. Bc. - SK ANF a Zdravotnícka terminológia  - Modrý dom SZŠ
DESCRIPTION:OŠE 1.r. Bc. – Skúška: ANF a Zdravotnícka terminológia – Dr. Kocsis – Modrý dom SZŠ
URL:https://fsvladislava.sk/rozvrh/ose-1-r-bc-sk-anf-a-zdravotnicka-terminologia-modry-dom-szs-3/
LOCATION:SZŠ EK – Modrý dom
CATEGORIES:Odbor Ošetrovateľstvo,OŠE - 1. ročník Bc.
END:VEVENT
BEGIN:VEVENT
DTSTART;TZID=Europe/Bratislava:20260112T160000
DTEND;TZID=Europe/Bratislava:20260112T160000
DTSTAMP:20260425T175311
CREATED:20230927T191005Z
LAST-MODIFIED:20251119T115208Z
UID:41313-1768233600-1768233600@fsvladislava.sk
SUMMARY:SP 1.r. Bc. - SK Somatológia - Elix
DESCRIPTION:SP 1.r. Bc. – Skúška: Somatológia – prof. Bartkovjak – Elix
URL:https://fsvladislava.sk/rozvrh/sp-1-r-bc-somatologia-pv-zasadacka/
LOCATION:Online – Elix
CATEGORIES:Odbor Sociálna práca,SP - 1. ročník Bc.
END:VEVENT
BEGIN:VEVENT
DTSTART;TZID=Europe/Bratislava:20260112T161800
DTEND;TZID=Europe/Bratislava:20260112T171800
DTSTAMP:20260425T175311
CREATED:20251201T065536Z
LAST-MODIFIED:20251201T065939Z
UID:48730-1768234680-1768238280@fsvladislava.sk
SUMMARY:OŠE 1.r. Bc. - SK Rádiológia - Elix
DESCRIPTION:OŠE 1.r. Bc. – Skúška: Rádiológia – MUDr. Macáková – Elix
URL:https://fsvladislava.sk/rozvrh/ose-1-r-bc-radiologia-elix-3/
LOCATION:Online – Elix
CATEGORIES:Odbor Ošetrovateľstvo,OŠE - 1. ročník Bc.
END:VEVENT
BEGIN:VEVENT
DTSTART;TZID=Europe/Bratislava:20260113T070000
DTEND;TZID=Europe/Bratislava:20260113T150000
DTSTAMP:20260425T175311
CREATED:20251020T064226Z
LAST-MODIFIED:20251020T064226Z
UID:48432-1768287600-1768316400@fsvladislava.sk
SUMMARY:OŠE 4.r. Bc. - SK Paliatívna a hospicová starostlivosť (všetci) - Seminárna miestnosť
DESCRIPTION:OŠE 4.r. Bc. – Sk: Paliatívna a hospicová starostlivosť (všetci) – Dr. Bystrická – Seminárna miestnosť
URL:https://fsvladislava.sk/rozvrh/ose-4-r-bc-sk-paliativna-a-hospicova-starostlivost-vsetci-seminarna-miestnost/
LOCATION:FNsP NZ  – Seminárna miestnosť
CATEGORIES:Odbor Ošetrovateľstvo,OŠE - 4. ročník Bc.
END:VEVENT
BEGIN:VEVENT
DTSTART;TZID=Europe/Bratislava:20260113T083000
DTEND;TZID=Europe/Bratislava:20260113T100000
DTSTAMP:20260425T175311
CREATED:20250903T055931Z
LAST-MODIFIED:20250903T055931Z
UID:47749-1768293000-1768298400@fsvladislava.sk
SUMMARY:FNsP NZ - Operatívna porada vedúcich zamestnancov - Zasadačka
DESCRIPTION:FNsP NZ – Operatívna porada vedúcich zamestnancov – Zasadačka
URL:https://fsvladislava.sk/rozvrh/fnsp-nz-operativna-porada-veducich-zamestnancov-zasadacka-28/
LOCATION:FNsP NZ – Zasadačka
CATEGORIES:FNsP NZ
END:VEVENT
BEGIN:VEVENT
DTSTART;TZID=Europe/Bratislava:20260113T100000
DTEND;TZID=Europe/Bratislava:20260113T150000
DTSTAMP:20260425T175311
CREATED:20260113T075331Z
LAST-MODIFIED:20260113T075331Z
UID:49127-1768298400-1768316400@fsvladislava.sk
SUMMARY:FNsP NZ - Oddelenia energetického hospodárstva - Zasadačka
DESCRIPTION:FNsP NZ -Oddelenia energetického hospodárstva  – Zasadačka
URL:https://fsvladislava.sk/rozvrh/fnsp-nz-oddelenia-energetickeho-hospodarstva-zasadacka/
LOCATION:FNsP NZ – Zasadačka
CATEGORIES:FNsP NZ
END:VEVENT
BEGIN:VEVENT
DTSTART;TZID=Europe/Bratislava:20260113T143000
DTEND;TZID=Europe/Bratislava:20260113T143000
DTSTAMP:20260425T175311
CREATED:20250113T191001Z
LAST-MODIFIED:20260108T102623Z
UID:46522-1768314600-1768314600@fsvladislava.sk
SUMMARY:UZS 4.r. Bc. - SK Ošetrovanie chronických rán - 12. poschodie
DESCRIPTION:UZS 4.r. Bc.  – Skúška – Ošetrovanie chronických rán – PhDr. A. Barteková – 12. poschodie
URL:https://fsvladislava.sk/rozvrh/uzs-4-r-bc-nz-pe-osetrovanie-chronickych-ran-kvl-ii-12-posch-3/
LOCATION:12. poschodie
CATEGORIES:Odbor Urgentná zdravotná starostlivosť,UZS – 4. ročník Bc.
END:VEVENT
BEGIN:VEVENT
DTSTART;TZID=Europe/Bratislava:20260113T150000
DTEND;TZID=Europe/Bratislava:20260113T150000
DTSTAMP:20260425T175311
CREATED:20251219T061921Z
LAST-MODIFIED:20251219T061921Z
UID:48879-1768316400-1768316400@fsvladislava.sk
SUMMARY:OŠE 1.r. Bc. - SK ANF a Zdravotnícka terminológia  - Modrý dom SZŠ
DESCRIPTION:OŠE 1.r. Bc. – Skúška: ANF a Zdravotnícka terminológia – Dr. Kocsis – Modrý dom SZŠ
URL:https://fsvladislava.sk/rozvrh/ose-1-r-bc-sk-anf-a-zdravotnicka-terminologia-modry-dom-szs-4/
LOCATION:SZŠ EK – Modrý dom
CATEGORIES:Odbor Ošetrovateľstvo,OŠE - 1. ročník Bc.
END:VEVENT
BEGIN:VEVENT
DTSTART;TZID=Europe/Bratislava:20260114T080000
DTEND;TZID=Europe/Bratislava:20260114T090000
DTSTAMP:20260425T175311
CREATED:20250911T080458Z
LAST-MODIFIED:20250911T080458Z
UID:47949-1768377600-1768381200@fsvladislava.sk
SUMMARY:FNsP NZ - Školenie HER - Zasadačka
DESCRIPTION:FNsP NZ – Školenie HER – Zasadačka
URL:https://fsvladislava.sk/rozvrh/fnsp-nz-skolenie-her-zasadacka-32/
LOCATION:FNsP NZ – Zasadačka
CATEGORIES:FNsP NZ
END:VEVENT
BEGIN:VEVENT
DTSTART;TZID=Europe/Bratislava:20260114T083000
DTEND;TZID=Europe/Bratislava:20260114T083000
DTSTAMP:20260425T175311
CREATED:20251121T070448Z
LAST-MODIFIED:20251121T070448Z
UID:48669-1768379400-1768379400@fsvladislava.sk
SUMMARY:OŠE 4.r. Bc. - SK Oše. v pediatrii II. - suterén FNsP NZ
DESCRIPTION:OŠE 4.r. Bc. – Skúška: Oše. v pediatrii II. – PhDr. I. Nagyová\, PhD. – suterén FNsP NZ
URL:https://fsvladislava.sk/rozvrh/ose-4-r-bc-sk-ose-v-pediatrii-ii-suteren-fnsp-nz-2/
LOCATION:suterén FNsP NZ
CATEGORIES:Odbor Ošetrovateľstvo,OŠE - 4. ročník Bc.
END:VEVENT
BEGIN:VEVENT
DTSTART;TZID=Europe/Bratislava:20260114T090000
DTEND;TZID=Europe/Bratislava:20260114T150000
DTSTAMP:20260425T175311
CREATED:20260113T075350Z
LAST-MODIFIED:20260113T075350Z
UID:49129-1768381200-1768402800@fsvladislava.sk
SUMMARY:FNsP NZ - Oddelenia energetického hospodárstva - Zasadačka
DESCRIPTION:FNsP NZ -Oddelenia energetického hospodárstva  – Zasadačka
URL:https://fsvladislava.sk/rozvrh/fnsp-nz-oddelenia-energetickeho-hospodarstva-zasadacka-2/
LOCATION:FNsP NZ – Zasadačka
CATEGORIES:FNsP NZ
END:VEVENT
END:VCALENDAR