BEGIN:VCALENDAR
VERSION:2.0
PRODID:-//Fakulta zdravotníctva a sociálnej práce sv. Ladislava, Nové Zámky - ECPv6.15.17//NONSGML v1.0//EN
CALSCALE:GREGORIAN
METHOD:PUBLISH
X-WR-CALNAME:Fakulta zdravotníctva a sociálnej práce sv. Ladislava, Nové Zámky
X-ORIGINAL-URL:https://fsvladislava.sk
X-WR-CALDESC:Udalosti pre Fakulta zdravotníctva a sociálnej práce sv. Ladislava, Nové Zámky
REFRESH-INTERVAL;VALUE=DURATION:PT1H
X-Robots-Tag:noindex
X-PUBLISHED-TTL:PT1H
BEGIN:VTIMEZONE
TZID:Europe/Bratislava
BEGIN:DAYLIGHT
TZOFFSETFROM:+0100
TZOFFSETTO:+0200
TZNAME:CEST
DTSTART:20240331T010000
END:DAYLIGHT
BEGIN:STANDARD
TZOFFSETFROM:+0200
TZOFFSETTO:+0100
TZNAME:CET
DTSTART:20241027T010000
END:STANDARD
BEGIN:DAYLIGHT
TZOFFSETFROM:+0100
TZOFFSETTO:+0200
TZNAME:CEST
DTSTART:20250330T010000
END:DAYLIGHT
BEGIN:STANDARD
TZOFFSETFROM:+0200
TZOFFSETTO:+0100
TZNAME:CET
DTSTART:20251026T010000
END:STANDARD
BEGIN:DAYLIGHT
TZOFFSETFROM:+0100
TZOFFSETTO:+0200
TZNAME:CEST
DTSTART:20260329T010000
END:DAYLIGHT
BEGIN:STANDARD
TZOFFSETFROM:+0200
TZOFFSETTO:+0100
TZNAME:CET
DTSTART:20261025T010000
END:STANDARD
END:VTIMEZONE
BEGIN:VEVENT
DTSTART;TZID=Europe/Bratislava:20251204T160000
DTEND;TZID=Europe/Bratislava:20251204T190000
DTSTAMP:20260426T005801
CREATED:20250526T060053Z
LAST-MODIFIED:20250924T121102Z
UID:47380-1764864000-1764874800@fsvladislava.sk
SUMMARY:PA 1.r. Bc. - ANJ - Zoom
DESCRIPTION:PA 1.r. Bc. –  ANJ – dr. Sádovská – Online-Zoom
URL:https://fsvladislava.sk/rozvrh/pa-1-r-bc-sk-anj-ii-online/
LOCATION:Online – Zoom
CATEGORIES:Odbor Pôrodná asistencia,PA - 1. ročník Bc.
END:VEVENT
BEGIN:VEVENT
DTSTART;TZID=Europe/Bratislava:20251204T153000
DTEND;TZID=Europe/Bratislava:20251204T190000
DTSTAMP:20260426T005801
CREATED:20251016T053231Z
LAST-MODIFIED:20251030T102023Z
UID:48383-1764862200-1764874800@fsvladislava.sk
SUMMARY:UZS 4.r. Bc. PE - Multikultúrne OŠE - Kinosála
DESCRIPTION:UZS 4.r. Bc. PE – Multikultúrne OŠE  – PhDr. Bc. Barborka\, MBA\, LL.M – Kinosála
URL:https://fsvladislava.sk/rozvrh/uzs-4-r-bc-pe-geriatria-a-paliativna-starostlivost-kinosala/
LOCATION:FNsP NZ  – Kinosála
CATEGORIES:Odbor Urgentná zdravotná starostlivosť,UZS – 4. ročník Bc.
END:VEVENT
BEGIN:VEVENT
DTSTART;TZID=Europe/Bratislava:20251204T153000
DTEND;TZID=Europe/Bratislava:20251204T153000
DTSTAMP:20260426T005801
CREATED:20251121T063321Z
LAST-MODIFIED:20251121T070731Z
UID:48644-1764862200-1764862200@fsvladislava.sk
SUMMARY:OŠE 2.r. Bc. - OŠE postupy a techniky III - Neonatológia  - Webex
DESCRIPTION:OŠE 2.r. Bc. – OŠE postupy a techniky III – Neonatológia – doc. G. Magyarová\, PhD. – Webex
URL:https://fsvladislava.sk/rozvrh/ose-2-r-bc-ose-postupy-a-techniky-iii-neonatologia-webex/
LOCATION:Online – Webex
CATEGORIES:Odbor Ošetrovateľstvo,OŠE - 2. ročník Bc.
END:VEVENT
BEGIN:VEVENT
DTSTART;TZID=Europe/Bratislava:20251204T140000
DTEND;TZID=Europe/Bratislava:20251204T140000
DTSTAMP:20260426T005801
CREATED:20251210T074650Z
LAST-MODIFIED:20251210T074650Z
UID:48821-1764856800-1764856800@fsvladislava.sk
SUMMARY:OŠE 2.r. Mgr. - SK Manažment ošetrovateľstva I. - Koffice dr. Kollárovej
DESCRIPTION:OŠE 2.r. Mgr. – Skúška: Manažment ošetrovateľstva I. – Dr. Kollárová – office dr. Kollárovej
URL:https://fsvladislava.sk/rozvrh/ose-2-r-mgr-sk-manazment-osetrovatelstva-i-koffice-dr-kollarovej/
LOCATION:office dr. Kollárovej
CATEGORIES:Odbor Ošetrovateľstvo,OŠE - 2. ročník Mgr.
END:VEVENT
BEGIN:VEVENT
DTSTART;TZID=Europe/Bratislava:20251204T120000
DTEND;TZID=Europe/Bratislava:20251204T120000
DTSTAMP:20260426T005801
CREATED:20251128T092559Z
LAST-MODIFIED:20251202T075021Z
UID:48722-1764849600-1764849600@fsvladislava.sk
SUMMARY:FNsP NZ - DRG - Zasadačka
DESCRIPTION:FNsP NZ – DRG – Zasadačka
URL:https://fsvladislava.sk/rozvrh/fnsp-nz-drg-zasadacka-2/
LOCATION:FNsP NZ – Zasadačka
CATEGORIES:FNsP NZ
END:VEVENT
BEGIN:VEVENT
DTSTART;TZID=Europe/Bratislava:20251204T080000
DTEND;TZID=Europe/Bratislava:20251204T090000
DTSTAMP:20260426T005801
CREATED:20251114T131021Z
LAST-MODIFIED:20251114T131021Z
UID:48580-1764835200-1764838800@fsvladislava.sk
SUMMARY:OŠE 4.r. Bc. - Právne aspekty ošetrovateľstva -  Kinosála
DESCRIPTION:OŠE 4.r. Bc. – Právne aspekty ošetrovateľstva – prof. Simoňák – Kinosála
URL:https://fsvladislava.sk/rozvrh/ose-4-r-bc-pravne-aspekty-osetrovatelstva-kinosala/
LOCATION:FNsP NZ  – Kinosála
CATEGORIES:Odbor Ošetrovateľstvo,OŠE - 4. ročník Bc.
END:VEVENT
BEGIN:VEVENT
DTSTART;TZID=Europe/Bratislava:20251203T180000
DTEND;TZID=Europe/Bratislava:20251203T200000
DTSTAMP:20260426T005801
CREATED:20251210T071958Z
LAST-MODIFIED:20251210T071958Z
UID:48799-1764784800-1764792000@fsvladislava.sk
SUMMARY:PA 1.r. Bc. - SK Filozofia - Elix
DESCRIPTION:PA 1.r. Bc. – Skúška: Filozofia – doc. Mojžešová – Online-Elix
URL:https://fsvladislava.sk/rozvrh/pa-1-r-bc-sk-filozofia-elix/
LOCATION:Online – Elix
CATEGORIES:Odbor Pôrodná asistencia,PA - 1. ročník Bc.
END:VEVENT
BEGIN:VEVENT
DTSTART;TZID=Europe/Bratislava:20251203T180000
DTEND;TZID=Europe/Bratislava:20251203T180000
DTSTAMP:20260426T005801
CREATED:20251121T063054Z
LAST-MODIFIED:20251121T065901Z
UID:48642-1764784800-1764784800@fsvladislava.sk
SUMMARY:OŠE 2.r. Bc. - SK Farmakológia  - Elix
DESCRIPTION:OŠE 2.r. Bc. – Skúška: Farmakológia – prof. Novotný- Elix
URL:https://fsvladislava.sk/rozvrh/ose-2-r-bc-farmakologia-elix/
LOCATION:Online – Elix
CATEGORIES:Odbor Ošetrovateľstvo,OŠE - 2. ročník Bc.
END:VEVENT
BEGIN:VEVENT
DTSTART;TZID=Europe/Bratislava:20251203T080000
DTEND;TZID=Europe/Bratislava:20251203T150000
DTSTAMP:20260426T005801
CREATED:20241024T083810Z
LAST-MODIFIED:20250922T052209Z
UID:45755-1764748800-1764774000@fsvladislava.sk
SUMMARY:OŠE 1.r. Bc. - História ošetrovateľstva- Kinosála
DESCRIPTION:OŠE 1.r. Bc. –  História ošetrovateľstva – Dr. Dobsonyová – Kinosála
URL:https://fsvladislava.sk/rozvrh/ose-1-r-bc-partizanske-skuska-historia-osetrovatelstva-osetrovatelstvo-i-zasadacka-2/
LOCATION:FNsP NZ  – Kinosála
CATEGORIES:Odbor Ošetrovateľstvo,OŠE - 1. ročník Bc.
END:VEVENT
BEGIN:VEVENT
DTSTART;TZID=Europe/Bratislava:20251203T080000
DTEND;TZID=Europe/Bratislava:20251203T090000
DTSTAMP:20260426T005801
CREATED:20241204T115835Z
LAST-MODIFIED:20241204T115835Z
UID:46279-1764748800-1764752400@fsvladislava.sk
SUMMARY:FNsP NZ - Školenie HER - Zasadačka
DESCRIPTION:FNsP NZ – Školenie HER – Zasadačka
URL:https://fsvladislava.sk/rozvrh/fnsp-nz-skolenie-her-zasadacka-28/
LOCATION:FNsP NZ – Zasadačka
CATEGORIES:FNsP NZ
END:VEVENT
BEGIN:VEVENT
DTSTART;TZID=Europe/Bratislava:20251202T140000
DTEND;TZID=Europe/Bratislava:20251202T140000
DTSTAMP:20260426T005801
CREATED:20251021T104232Z
LAST-MODIFIED:20251024T131900Z
UID:48438-1764684000-1764684000@fsvladislava.sk
SUMMARY:FNsP NZ - Gynekológia - Zasadačka
DESCRIPTION:FNsP NZ – Gynekológia – Zasadačka
URL:https://fsvladislava.sk/rozvrh/fnsp-nz-gynekologia-zasadacka/
LOCATION:FNsP NZ – Zasadačka
CATEGORIES:FNsP NZ
END:VEVENT
BEGIN:VEVENT
DTSTART;TZID=Europe/Bratislava:20251202T110000
DTEND;TZID=Europe/Bratislava:20251202T150000
DTSTAMP:20260426T005801
CREATED:20251017T100647Z
LAST-MODIFIED:20251017T100647Z
UID:48395-1764673200-1764687600@fsvladislava.sk
SUMMARY:FNsP NZ - Odborný seminár - Convatec - Kinosála
DESCRIPTION:FNsP NZ – Odborný seminár – Convatec – Kinosála
URL:https://fsvladislava.sk/rozvrh/fnsp-nz-odborny-seminar-convatec-kinosala/
LOCATION:FNsP NZ  – Kinosála
CATEGORIES:FNsP NZ
END:VEVENT
BEGIN:VEVENT
DTSTART;TZID=Europe/Bratislava:20251202T090000
DTEND;TZID=Europe/Bratislava:20251202T140000
DTSTAMP:20260426T005801
CREATED:20251020T061932Z
LAST-MODIFIED:20251020T061932Z
UID:48415-1764666000-1764684000@fsvladislava.sk
SUMMARY:OŠE 4.r. Bc. - SK Oše. v gyn.-pôr. II. - Seminárna miestnosť
DESCRIPTION:OŠE 4.r. Bc. – Skúška: Oše. v gyn.-pôr. II. – prof. Libová – Seminárna miestnosť
URL:https://fsvladislava.sk/rozvrh/ose-4-r-bc-sk-ose-v-gyn-por-ii-seminarna-miestnost-5/
LOCATION:FNsP NZ  – Seminárna miestnosť
CATEGORIES:Odbor Ošetrovateľstvo,OŠE - 4. ročník Bc.
END:VEVENT
BEGIN:VEVENT
DTSTART;TZID=Europe/Bratislava:20251202T083000
DTEND;TZID=Europe/Bratislava:20251202T100000
DTSTAMP:20260426T005801
CREATED:20240725T061400Z
LAST-MODIFIED:20240725T061400Z
UID:44887-1764664200-1764669600@fsvladislava.sk
SUMMARY:FNsP NZ - Operatívna porada vedúcich zamestnancov - Zasadačka
DESCRIPTION:FNsP NZ – Operatívna porada vedúcich zamestnancov – Zasadačka
URL:https://fsvladislava.sk/rozvrh/fnsp-nz-operativna-porada-veducich-zamestnancov-zasadacka-43/
LOCATION:FNsP NZ – Zasadačka
CATEGORIES:FNsP NZ
END:VEVENT
BEGIN:VEVENT
DTSTART;TZID=Europe/Bratislava:20251201T090000
DTEND;TZID=Europe/Bratislava:20251201T153000
DTSTAMP:20260426T005801
CREATED:20250910T053350Z
LAST-MODIFIED:20250910T053350Z
UID:47906-1764579600-1764603000@fsvladislava.sk
SUMMARY:PA 2.r. Bc. - Pôrodná asistencia II. - Zasadačka
DESCRIPTION:PA 2.r. Bc. – Pôrodná asistencia II. – prof. Matulníková – Zasadačka
URL:https://fsvladislava.sk/rozvrh/pa-2-r-bc-porodna-asistencia-ii-zasadacka-8/
LOCATION:FNsP NZ – Zasadačka
CATEGORIES:Odbor Pôrodná asistencia,PA - 2. ročník Bc.
END:VEVENT
BEGIN:VEVENT
DTSTART;TZID=Europe/Bratislava:20251201T090000
DTEND;TZID=Europe/Bratislava:20251201T140000
DTSTAMP:20260426T005801
CREATED:20251020T061803Z
LAST-MODIFIED:20251020T061803Z
UID:48413-1764579600-1764597600@fsvladislava.sk
SUMMARY:OŠE 4.r. Bc. - SK Oše. v gyn.-pôr. II. - Seminárna miestnosť
DESCRIPTION:OŠE 4.r. Bc. – Skúška: Oše. v gyn.-pôr. II. – prof. Libová – Seminárna miestnosť
URL:https://fsvladislava.sk/rozvrh/ose-4-r-bc-sk-ose-v-gyn-por-ii-seminarna-miestnost-4/
LOCATION:FNsP NZ  – Seminárna miestnosť
CATEGORIES:Odbor Ošetrovateľstvo,OŠE - 4. ročník Bc.
END:VEVENT
BEGIN:VEVENT
DTSTART;TZID=Europe/Bratislava:20251201T080000
DTEND;TZID=Europe/Bratislava:20251201T090000
DTSTAMP:20260426T005801
CREATED:20251120T063658Z
LAST-MODIFIED:20251120T063658Z
UID:48632-1764576000-1764579600@fsvladislava.sk
SUMMARY:FNsP NZ - BOZP - Zasadačka
DESCRIPTION:FNsP NZ – BOZP – Zasadačka
URL:https://fsvladislava.sk/rozvrh/fnsp-nz-bozp-zasadacka-10/
LOCATION:FNsP NZ – Zasadačka
CATEGORIES:FNsP NZ
END:VEVENT
BEGIN:VEVENT
DTSTART;TZID=Europe/Bratislava:20251129T190000
DTEND;TZID=Europe/Bratislava:20251129T190000
DTSTAMP:20260426T005801
CREATED:20251113T141345Z
LAST-MODIFIED:20251113T141345Z
UID:48572-1764442800-1764442800@fsvladislava.sk
SUMMARY:OŠE 1.r. Mgr. - SK Nozokomiálne infekcie\, infektológia a oše. - Elix
DESCRIPTION:OŠE 1.r. Mgr. – Skúška: Nozokomiálne infekcie\, infektológia a oše. – Dr. Cipková – Online – Elix
URL:https://fsvladislava.sk/rozvrh/ose-1-r-mgr-sk-nozokomialne-infekcie-infektologia-a-ose-elix/
LOCATION:Online – Elix
CATEGORIES:Odbor Ošetrovateľstvo,OŠE - 1. ročník Mgr.
END:VEVENT
BEGIN:VEVENT
DTSTART;TZID=Europe/Bratislava:20251129T090000
DTEND;TZID=Europe/Bratislava:20251129T180000
DTSTAMP:20260426T005801
CREATED:20251027T063353Z
LAST-MODIFIED:20251027T063353Z
UID:48467-1764406800-1764439200@fsvladislava.sk
SUMMARY:PA 1.r. Bc. - Ošetrovateľské techniky - SZŠ EK - Modrý dom
DESCRIPTION:PA 1.r. Bc. – Ošetrovateľské techniky – Dr. Molnárová – SZŠ EK – Modrý dom – 2. skupina
URL:https://fsvladislava.sk/rozvrh/pa-1-r-bc-osetrovatelske-techniky-szs-ek-modry-dom-7/
LOCATION:SZŠ EK – Modrý dom
CATEGORIES:Odbor Pôrodná asistencia,PA - 1. ročník Bc.
END:VEVENT
BEGIN:VEVENT
DTSTART;TZID=Europe/Bratislava:20251129T080000
DTEND;TZID=Europe/Bratislava:20251129T080000
DTSTAMP:20260426T005801
CREATED:20251008T095655Z
LAST-MODIFIED:20251118T101452Z
UID:48333-1764403200-1764403200@fsvladislava.sk
SUMMARY:SP 2.r. Mgr. - Animácia v SP - Online
DESCRIPTION:SP 2.r. Mgr. – Animácia v SP – doc. Vitálová – Online
URL:https://fsvladislava.sk/rozvrh/sp-2-r-mgr-animacia-v-sp-online/
LOCATION:Online
CATEGORIES:Odbor Sociálna práca,SP - 2. ročník Mgr.
END:VEVENT
BEGIN:VEVENT
DTSTART;TZID=Europe/Bratislava:20251128T150000
DTEND;TZID=Europe/Bratislava:20251128T150000
DTSTAMP:20260426T005801
CREATED:20251008T095451Z
LAST-MODIFIED:20251008T095451Z
UID:48331-1764342000-1764342000@fsvladislava.sk
SUMMARY:SP 2.r. Mgr. - Komunitná SP - Online
DESCRIPTION:SP 2.r. Mgr. –  Komunitná SP – doc. Bundzelová – Online
URL:https://fsvladislava.sk/rozvrh/sp-2-r-mgr-komunitna-sp-online-2/
LOCATION:Online
CATEGORIES:Odbor Sociálna práca,SP - 2. ročník Mgr.
END:VEVENT
BEGIN:VEVENT
DTSTART;TZID=Europe/Bratislava:20251128T130000
DTEND;TZID=Europe/Bratislava:20251128T180000
DTSTAMP:20260426T005801
CREATED:20251112T115118Z
LAST-MODIFIED:20251112T115132Z
UID:48549-1764334800-1764352800@fsvladislava.sk
SUMMARY:FNsP NZ - Odbor Financií a majetku - Zasadačka
DESCRIPTION:FNsP NZ – Odbor Financií a majetku – Zasadačka
URL:https://fsvladislava.sk/rozvrh/fnsp-nz-odbor-financii-a-majetku-zasadacka/
LOCATION:FNsP NZ – Zasadačka
CATEGORIES:FNsP NZ
END:VEVENT
BEGIN:VEVENT
DTSTART;TZID=Europe/Bratislava:20251128T100000
DTEND;TZID=Europe/Bratislava:20251128T120000
DTSTAMP:20260426T005801
CREATED:20251127T070334Z
LAST-MODIFIED:20251127T070334Z
UID:48704-1764324000-1764331200@fsvladislava.sk
SUMMARY:FNsP NZ - Odbor informatiky - Zasadačka
DESCRIPTION:FNsP NZ – Odbor informatiky – Zasadačka
URL:https://fsvladislava.sk/rozvrh/fnsp-nz-odbor-informatiky-zasadacka/
LOCATION:FNsP NZ – Zasadačka
CATEGORIES:FNsP NZ
END:VEVENT
BEGIN:VEVENT
DTSTART;TZID=Europe/Bratislava:20251128T080000
DTEND;TZID=Europe/Bratislava:20251128T160000
DTSTAMP:20260426T005801
CREATED:20251016T052956Z
LAST-MODIFIED:20251016T052956Z
UID:48380-1764316800-1764345600@fsvladislava.sk
SUMMARY:OŠE 1.r. Bc.  - ANF  III. - ANF  IV. - Kinosála
DESCRIPTION:OŠE 1.r. Bc. – ANF  III. – ANF IV. – Dr. Kocsis – Kinosála
URL:https://fsvladislava.sk/rozvrh/ose-1-r-bc-anf-iii-anf-iv-kinosala/
LOCATION:FNsP NZ  – Kinosála
CATEGORIES:Odbor Ošetrovateľstvo,OŠE - 1. ročník Bc.
END:VEVENT
BEGIN:VEVENT
DTSTART;TZID=Europe/Bratislava:20251128T080000
DTEND;TZID=Europe/Bratislava:20251128T160000
DTSTAMP:20260426T005801
CREATED:20251002T125206Z
LAST-MODIFIED:20251002T125206Z
UID:48314-1764316800-1764345600@fsvladislava.sk
SUMMARY:PA 1.r. Bc.  - ANF  III. - ANF  IV.- Kinosála
DESCRIPTION:PA 1.r. Bc. – ANF  III. – ANF  IV. – Dr. Kocsis – Kinosála
URL:https://fsvladislava.sk/rozvrh/pa-1-r-bc-anf-iii-anf-iv-kinosala/
LOCATION:FNsP NZ  – Kinosála
CATEGORIES:Odbor Pôrodná asistencia,PA - 1. ročník Bc.
END:VEVENT
BEGIN:VEVENT
DTSTART;TZID=Europe/Bratislava:20251127T170000
DTEND;TZID=Europe/Bratislava:20251127T183000
DTSTAMP:20260426T005801
CREATED:20251104T113211Z
LAST-MODIFIED:20251104T113240Z
UID:48506-1764262800-1764268200@fsvladislava.sk
SUMMARY:SP 2.r. Bc. - Terénna SP - Zoom
DESCRIPTION:SP 2.r. Bc. – Terénna SP – univ. doc. PhDr. Szilvia Buzalova\, PhD. – Online – Zoom
URL:https://fsvladislava.sk/rozvrh/sp-2-r-bc-terenna-sp-zoom/
LOCATION:Online – Zoom
CATEGORIES:Odbor Sociálna práca,SP - 2. ročník Bc.
END:VEVENT
BEGIN:VEVENT
DTSTART;TZID=Europe/Bratislava:20251127T130000
DTEND;TZID=Europe/Bratislava:20251127T140000
DTSTAMP:20260426T005801
CREATED:20251124T130320Z
LAST-MODIFIED:20251124T130320Z
UID:48687-1764248400-1764252000@fsvladislava.sk
SUMMARY:FNsP NZ - Zasadnutie EK - Zasadačka
DESCRIPTION:FNsP NZ – Zasadnutie EK – Zasadačka
URL:https://fsvladislava.sk/rozvrh/fnsp-nz-zasadnutie-ek-zasadacka-2/
LOCATION:FNsP NZ – Zasadačka
CATEGORIES:FNsP NZ
END:VEVENT
BEGIN:VEVENT
DTSTART;TZID=Europe/Bratislava:20251127T090000
DTEND;TZID=Europe/Bratislava:20251127T090000
DTSTAMP:20260426T005801
CREATED:20231016T074703Z
LAST-MODIFIED:20250925T062131Z
UID:41653-1764234000-1764234000@fsvladislava.sk
SUMMARY:UZS 4.r. Bc. - Právo a legislatíva v zdravotníctve - Kinosála
DESCRIPTION:UZS 4.r. Bc.  – Právo a legislatíva v zdravotníctve – prof. Šimoňák – Kinosála
URL:https://fsvladislava.sk/rozvrh/uzs-4-r-bc-prednaska-multikulturne-osetrovatelstvo-partizanske/
LOCATION:FNsP NZ  – Kinosála
CATEGORIES:Odbor Urgentná zdravotná starostlivosť,UZS – 4. ročník Bc.
END:VEVENT
BEGIN:VEVENT
DTSTART;TZID=Europe/Bratislava:20251127T080000
DTEND;TZID=Europe/Bratislava:20251127T080000
DTSTAMP:20260426T005801
CREATED:20251121T064026Z
LAST-MODIFIED:20251121T070921Z
UID:48650-1764230400-1764230400@fsvladislava.sk
SUMMARY:OŠE 3.r. Bc. - SK Prevencia drogovej závislosti - Elix
DESCRIPTION:OŠE 3.r. Bc.  – Skúška: Prevencia drogovej závislosti – PhDr. Nagy Gažová – Online-Elix
URL:https://fsvladislava.sk/rozvrh/ose-3-r-bc-prevencia-drogovej-zavislosti-elix/
LOCATION:Online – Elix
CATEGORIES:Odbor Ošetrovateľstvo,OŠE - 3. ročník Bc.
END:VEVENT
BEGIN:VEVENT
DTSTART;TZID=Europe/Bratislava:20251126T200000
DTEND;TZID=Europe/Bratislava:20251126T200000
DTSTAMP:20260426T005801
CREATED:20251121T062701Z
LAST-MODIFIED:20251121T065817Z
UID:48640-1764187200-1764187200@fsvladislava.sk
SUMMARY:OŠE 2.r. Bc. - SK Ošetrovateľstvo III. - Elix
DESCRIPTION:OŠE 2.r. Bc. – Skúška: Ošetrovateľstvo III. – doc. Koňošová – Elix
URL:https://fsvladislava.sk/rozvrh/ose-2-r-bc-osetrovatelstvo-iii-elix/
LOCATION:Online – Elix
CATEGORIES:Odbor Ošetrovateľstvo,OŠE - 2. ročník Bc.
END:VEVENT
END:VCALENDAR