BEGIN:VCALENDAR
VERSION:2.0
PRODID:-//Fakulta zdravotníctva a sociálnej práce sv. Ladislava, Nové Zámky - ECPv6.15.17//NONSGML v1.0//EN
CALSCALE:GREGORIAN
METHOD:PUBLISH
X-WR-CALNAME:Fakulta zdravotníctva a sociálnej práce sv. Ladislava, Nové Zámky
X-ORIGINAL-URL:https://fsvladislava.sk
X-WR-CALDESC:Udalosti pre Fakulta zdravotníctva a sociálnej práce sv. Ladislava, Nové Zámky
REFRESH-INTERVAL;VALUE=DURATION:PT1H
X-Robots-Tag:noindex
X-PUBLISHED-TTL:PT1H
BEGIN:VTIMEZONE
TZID:Europe/Bratislava
BEGIN:DAYLIGHT
TZOFFSETFROM:+0100
TZOFFSETTO:+0200
TZNAME:CEST
DTSTART:20240331T010000
END:DAYLIGHT
BEGIN:STANDARD
TZOFFSETFROM:+0200
TZOFFSETTO:+0100
TZNAME:CET
DTSTART:20241027T010000
END:STANDARD
BEGIN:DAYLIGHT
TZOFFSETFROM:+0100
TZOFFSETTO:+0200
TZNAME:CEST
DTSTART:20250330T010000
END:DAYLIGHT
BEGIN:STANDARD
TZOFFSETFROM:+0200
TZOFFSETTO:+0100
TZNAME:CET
DTSTART:20251026T010000
END:STANDARD
BEGIN:DAYLIGHT
TZOFFSETFROM:+0100
TZOFFSETTO:+0200
TZNAME:CEST
DTSTART:20260329T010000
END:DAYLIGHT
BEGIN:STANDARD
TZOFFSETFROM:+0200
TZOFFSETTO:+0100
TZNAME:CET
DTSTART:20261025T010000
END:STANDARD
END:VTIMEZONE
BEGIN:VEVENT
DTSTART;TZID=Europe/Bratislava:20250812T083000
DTEND;TZID=Europe/Bratislava:20250812T100000
DTSTAMP:20260426T051344
CREATED:20240725T060906Z
LAST-MODIFIED:20240725T060906Z
UID:44855-1754987400-1754992800@fsvladislava.sk
SUMMARY:FNsP NZ - Operatívna porada vedúcich zamestnancov - Zasadačka
DESCRIPTION:FNsP NZ – Operatívna porada vedúcich zamestnancov – Zasadačka
URL:https://fsvladislava.sk/rozvrh/fnsp-nz-operativna-porada-veducich-zamestnancov-zasadacka-27/
LOCATION:FNsP NZ – Zasadačka
CATEGORIES:FNsP NZ
END:VEVENT
BEGIN:VEVENT
DTSTART;TZID=Europe/Bratislava:20250812T103000
DTEND;TZID=Europe/Bratislava:20250812T130000
DTSTAMP:20260426T051344
CREATED:20250806T072355Z
LAST-MODIFIED:20250806T072355Z
UID:47623-1754994600-1755003600@fsvladislava.sk
SUMMARY:FNsP NZ - Porada - Zasadačka
DESCRIPTION:FNsP NZ – Porada – Zasadačka
URL:https://fsvladislava.sk/rozvrh/fnsp-nz-porada-zasadacka/
LOCATION:FNsP NZ – Zasadačka
CATEGORIES:FNsP NZ
END:VEVENT
BEGIN:VEVENT
DTSTART;TZID=Europe/Bratislava:20250812T143000
DTEND;TZID=Europe/Bratislava:20250812T143000
DTSTAMP:20260426T051344
CREATED:20250331T124720Z
LAST-MODIFIED:20250805T041519Z
UID:47204-1755009000-1755009000@fsvladislava.sk
SUMMARY:PA 2.r. Bc. - Rektorského termínu - Pôrodná asistencia III.  - Zasadačka
DESCRIPTION:PA 2.r. Bc. –  Rektorského termínu  – Pôrodná asistencia III. – prof. Matulníková – Zasadačka
URL:https://fsvladislava.sk/rozvrh/pa-2-r-bc-sk-porodna-asistencia-iii-seminarna-miestnost-2/
LOCATION:FNsP NZ – Zasadačka
CATEGORIES:Odbor Pôrodná asistencia,PA - 2. ročník Bc.
END:VEVENT
BEGIN:VEVENT
DTSTART;TZID=Europe/Bratislava:20250813T080000
DTEND;TZID=Europe/Bratislava:20250813T090000
DTSTAMP:20260426T051344
CREATED:20241204T115557Z
LAST-MODIFIED:20241204T115557Z
UID:46261-1755072000-1755075600@fsvladislava.sk
SUMMARY:FNsP NZ - Školenie HER - Zasadačka
DESCRIPTION:FNsP NZ – Školenie HER – Zasadačka
URL:https://fsvladislava.sk/rozvrh/fnsp-nz-skolenie-her-zasadacka-19/
LOCATION:FNsP NZ – Zasadačka
CATEGORIES:FNsP NZ
END:VEVENT
BEGIN:VEVENT
DTSTART;TZID=Europe/Bratislava:20250814T090000
DTEND;TZID=Europe/Bratislava:20250814T150000
DTSTAMP:20260426T051344
CREATED:20250812T042306Z
LAST-MODIFIED:20250812T042306Z
UID:47637-1755162000-1755183600@fsvladislava.sk
SUMMARY:FNsP NZ - Odbor informatiky - Zasadačka
DESCRIPTION:FNsP NZ – Odbor informatiky – Zasadačka
URL:https://fsvladislava.sk/rozvrh/fnsp-nz-odbor-informatiky-zasadacka-8/
LOCATION:FNsP NZ – Zasadačka
CATEGORIES:FNsP NZ
END:VEVENT
BEGIN:VEVENT
DTSTART;TZID=Europe/Bratislava:20250815T123000
DTEND;TZID=Europe/Bratislava:20250815T150000
DTSTAMP:20260426T051344
CREATED:20250806T093035Z
LAST-MODIFIED:20250806T122209Z
UID:47632-1755261000-1755270000@fsvladislava.sk
SUMMARY:UZS 3.r. Bc. - Kontrola záznamníkov odb. praxe\, zápis do indexov - Zasadačka
DESCRIPTION:UZS 3.r. Bc.  – Kontrola záznamníkov odb. praxe\, zápis do indexov – Mgr. Bc. R. Száz – Zasadačka
URL:https://fsvladislava.sk/rozvrh/uzs-3-r-bc-kontrola-zaznamnikov-odb-praxe-zapis-do-indexov-zasadacka/
LOCATION:FNsP NZ – Zasadačka
CATEGORIES:Fakulta,Odbor Urgentná zdravotná starostlivosť,UZS – 3. ročník Bc.
END:VEVENT
BEGIN:VEVENT
DTSTART;TZID=Europe/Bratislava:20250818T080000
DTEND;TZID=Europe/Bratislava:20250818T090000
DTSTAMP:20260426T051344
CREATED:20250801T041739Z
LAST-MODIFIED:20250801T041739Z
UID:47612-1755504000-1755507600@fsvladislava.sk
SUMMARY:FNsP NZ - BOZP - Zasadačka
DESCRIPTION:FNsP NZ – BOZP – Zasadačka
URL:https://fsvladislava.sk/rozvrh/fnsp-nz-bozp-zasadacka-5/
LOCATION:FNsP NZ – Zasadačka
CATEGORIES:FNsP NZ
END:VEVENT
BEGIN:VEVENT
DTSTART;TZID=Europe/Bratislava:20250819T070000
DTEND;TZID=Europe/Bratislava:20250819T180000
DTSTAMP:20260426T051344
CREATED:20250805T085641Z
LAST-MODIFIED:20250805T085641Z
UID:47621-1755586800-1755626400@fsvladislava.sk
SUMMARY:Fakulta sv. Ladislava - OŠE Bc.\, Mgr. náhradný a opravný termín ŠS - Zasadačka
DESCRIPTION:Fakulta sv. Ladislava – OŠE Bc.\, Mgr. náhradný a opravný termín ŠS– Zasadačka
URL:https://fsvladislava.sk/rozvrh/fakulta-sv-ladislava-ose-bc-mgr-nahradny-a-opravny-termin-ss-zasadacka/
LOCATION:FNsP NZ – Zasadačka
CATEGORIES:Fakulta
END:VEVENT
BEGIN:VEVENT
DTSTART;TZID=Europe/Bratislava:20250820T080000
DTEND;TZID=Europe/Bratislava:20250820T090000
DTSTAMP:20260426T051344
CREATED:20241204T115612Z
LAST-MODIFIED:20241204T115612Z
UID:46263-1755676800-1755680400@fsvladislava.sk
SUMMARY:FNsP NZ - Školenie HER - Zasadačka
DESCRIPTION:FNsP NZ – Školenie HER – Zasadačka
URL:https://fsvladislava.sk/rozvrh/fnsp-nz-skolenie-her-zasadacka-20/
LOCATION:FNsP NZ – Zasadačka
CATEGORIES:FNsP NZ
END:VEVENT
BEGIN:VEVENT
DTSTART;TZID=Europe/Bratislava:20250820T090000
DTEND;TZID=Europe/Bratislava:20250820T160000
DTSTAMP:20260426T051344
CREATED:20250527T054832Z
LAST-MODIFIED:20250801T041329Z
UID:47400-1755680400-1755705600@fsvladislava.sk
SUMMARY:Fakulta sv. Ladislava - príprava miestnosti na UZS opravné ŠS - Zasadačka
DESCRIPTION:Fakulta sv. Ladislava – príprava miestnosti na UZS opravné ŠS – Zasadačka
URL:https://fsvladislava.sk/rozvrh/fakulta-sv-ladislava-porada-zasadacka/
LOCATION:FNsP NZ – Zasadačka
CATEGORIES:Fakulta
END:VEVENT
BEGIN:VEVENT
DTSTART;TZID=Europe/Bratislava:20250821T070000
DTEND;TZID=Europe/Bratislava:20250821T200000
DTSTAMP:20260426T051344
CREATED:20250714T044118Z
LAST-MODIFIED:20250804T103904Z
UID:47577-1755759600-1755806400@fsvladislava.sk
SUMMARY:Fakulta sv. Ladislava - UZS opravné ŠS - Zasadačka
DESCRIPTION:Fakulta sv. Ladislava – UZS opravné ŠS – Zasadačka
URL:https://fsvladislava.sk/rozvrh/fakulta-sv-ladislava-uzs-opravne-ss-zasadacka/
LOCATION:FNsP NZ – Zasadačka
CATEGORIES:Fakulta
END:VEVENT
BEGIN:VEVENT
DTSTART;TZID=Europe/Bratislava:20250825T080000
DTEND;TZID=Europe/Bratislava:20250825T090000
DTSTAMP:20260426T051344
CREATED:20250806T073458Z
LAST-MODIFIED:20250806T073458Z
UID:47625-1756108800-1756112400@fsvladislava.sk
SUMMARY:FNsP NZ - BOZP - Zasadačka
DESCRIPTION:FNsP NZ – BOZP – Zasadačka
URL:https://fsvladislava.sk/rozvrh/fnsp-nz-bozp-zasadacka-6/
LOCATION:FNsP NZ – Zasadačka
CATEGORIES:FNsP NZ
END:VEVENT
BEGIN:VEVENT
DTSTART;TZID=Europe/Bratislava:20250826T083000
DTEND;TZID=Europe/Bratislava:20250826T100000
DTSTAMP:20260426T051344
CREATED:20240725T060934Z
LAST-MODIFIED:20240725T060934Z
UID:44859-1756197000-1756202400@fsvladislava.sk
SUMMARY:FNsP NZ - Operatívna porada vedúcich zamestnancov - Zasadačka
DESCRIPTION:FNsP NZ – Operatívna porada vedúcich zamestnancov – Zasadačka
URL:https://fsvladislava.sk/rozvrh/fnsp-nz-operativna-porada-veducich-zamestnancov-zasadacka-29/
LOCATION:FNsP NZ – Zasadačka
CATEGORIES:FNsP NZ
END:VEVENT
BEGIN:VEVENT
DTSTART;TZID=Europe/Bratislava:20250827T080000
DTEND;TZID=Europe/Bratislava:20250827T090000
DTSTAMP:20260426T051344
CREATED:20241204T115630Z
LAST-MODIFIED:20241204T115630Z
UID:46265-1756281600-1756285200@fsvladislava.sk
SUMMARY:FNsP NZ - Školenie HER - Zasadačka
DESCRIPTION:FNsP NZ – Školenie HER – Zasadačka
URL:https://fsvladislava.sk/rozvrh/fnsp-nz-skolenie-her-zasadacka-21/
LOCATION:FNsP NZ – Zasadačka
CATEGORIES:FNsP NZ
END:VEVENT
BEGIN:VEVENT
DTSTART;TZID=Europe/Bratislava:20250827T093000
DTEND;TZID=Europe/Bratislava:20250827T103000
DTSTAMP:20260426T051344
CREATED:20250806T073524Z
LAST-MODIFIED:20250806T073524Z
UID:47627-1756287000-1756290600@fsvladislava.sk
SUMMARY:FNsP NZ - BOZP - Zasadačka
DESCRIPTION:FNsP NZ – BOZP – Zasadačka
URL:https://fsvladislava.sk/rozvrh/fnsp-nz-bozp-zasadacka-7/
LOCATION:FNsP NZ – Zasadačka
CATEGORIES:FNsP NZ
END:VEVENT
BEGIN:VEVENT
DTSTART;TZID=Europe/Bratislava:20250902T083000
DTEND;TZID=Europe/Bratislava:20250902T100000
DTSTAMP:20260426T051344
CREATED:20240725T061003Z
LAST-MODIFIED:20240725T061003Z
UID:44861-1756801800-1756807200@fsvladislava.sk
SUMMARY:FNsP NZ - Operatívna porada vedúcich zamestnancov - Zasadačka
DESCRIPTION:FNsP NZ – Operatívna porada vedúcich zamestnancov – Zasadačka
URL:https://fsvladislava.sk/rozvrh/fnsp-nz-operativna-porada-veducich-zamestnancov-zasadacka-30/
LOCATION:FNsP NZ – Zasadačka
CATEGORIES:FNsP NZ
END:VEVENT
BEGIN:VEVENT
DTSTART;TZID=Europe/Bratislava:20250902T090000
DTEND;TZID=Europe/Bratislava:20250902T100000
DTSTAMP:20260426T051344
CREATED:20250821T042220Z
LAST-MODIFIED:20250821T042220Z
UID:47665-1756803600-1756807200@fsvladislava.sk
SUMMARY:PA 3.r. Bc. - rezervácia - Seminárna miestnosť
DESCRIPTION:PA 3.r. Bc. – rezervácia – Seminárna miestnosť
URL:https://fsvladislava.sk/rozvrh/pa-3-r-bc-rezervacia-seminarna-miestnost/
LOCATION:FNsP NZ  – Seminárna miestnosť
CATEGORIES:Odbor Pôrodná asistencia,PA - 3. ročník Bc.
END:VEVENT
BEGIN:VEVENT
DTSTART;TZID=Europe/Bratislava:20250902T150000
DTEND;TZID=Europe/Bratislava:20250902T150000
DTSTAMP:20260426T051344
CREATED:20240828T051143Z
LAST-MODIFIED:20250826T094906Z
UID:44998-1756825200-1756825200@fsvladislava.sk
SUMMARY:UZS 3.r. Bc. - Opravný termín skúšky - Zasadačka
DESCRIPTION:UZS 3.r. Bc. – Opravný termín skúšky – MUDr. Karol Hajnovič – Zasadačka
URL:https://fsvladislava.sk/rozvrh/uzs-3-r-bc-opravny-termin-skusky-zasadacka/
LOCATION:FNsP NZ – Zasadačka
CATEGORIES:Fakulta,Odbor Urgentná zdravotná starostlivosť,UZS – 3. ročník Bc.
END:VEVENT
BEGIN:VEVENT
DTSTART;TZID=Europe/Bratislava:20250903T080000
DTEND;TZID=Europe/Bratislava:20250903T090000
DTSTAMP:20260426T051344
CREATED:20241204T115647Z
LAST-MODIFIED:20241204T115647Z
UID:46267-1756886400-1756890000@fsvladislava.sk
SUMMARY:FNsP NZ - Školenie HER - Zasadačka
DESCRIPTION:FNsP NZ – Školenie HER – Zasadačka
URL:https://fsvladislava.sk/rozvrh/fnsp-nz-skolenie-her-zasadacka-22/
LOCATION:FNsP NZ – Zasadačka
CATEGORIES:FNsP NZ
END:VEVENT
BEGIN:VEVENT
DTSTART;TZID=Europe/Bratislava:20250905T080000
DTEND;TZID=Europe/Bratislava:20250905T120000
DTSTAMP:20260426T051344
CREATED:20250609T114751Z
LAST-MODIFIED:20250609T114751Z
UID:47465-1757059200-1757073600@fsvladislava.sk
SUMMARY:Fakulta sv. Ladislava - OBP SZŠ - Kinosála
DESCRIPTION:Fakulta sv. Ladislava – OBP SZŠ – doc. Otrubová – Kinosála
URL:https://fsvladislava.sk/rozvrh/fakulta-sv-ladislava-obp-szs-kinosala/
LOCATION:FNsP NZ  – Kinosála
CATEGORIES:Fakulta
END:VEVENT
BEGIN:VEVENT
DTSTART;TZID=Europe/Bratislava:20250908T080000
DTEND;TZID=Europe/Bratislava:20250908T120000
DTSTAMP:20260426T051344
CREATED:20250609T114810Z
LAST-MODIFIED:20250609T114810Z
UID:47467-1757318400-1757332800@fsvladislava.sk
SUMMARY:Fakulta sv. Ladislava - OBP SZŠ - Kinosála
DESCRIPTION:Fakulta sv. Ladislava – OBP SZŠ – doc. Otrubová – Kinosála
URL:https://fsvladislava.sk/rozvrh/fakulta-sv-ladislava-obp-szs-kinosala-2/
LOCATION:FNsP NZ  – Kinosála
CATEGORIES:Fakulta
END:VEVENT
BEGIN:VEVENT
DTSTART;TZID=Europe/Bratislava:20250908T130000
DTEND;TZID=Europe/Bratislava:20250908T143000
DTSTAMP:20260426T051344
CREATED:20250821T042118Z
LAST-MODIFIED:20250924T114456Z
UID:47663-1757336400-1757341800@fsvladislava.sk
SUMMARY:OŠE 2.r. Mgr. - rezervácia - Kinosála
DESCRIPTION:OŠE 2.r. Mgr. – rezervácia – Kinosála
URL:https://fsvladislava.sk/rozvrh/ose-2-r-mgr-rezervacia-kinosala/
LOCATION:FNsP NZ  – Kinosála
CATEGORIES:Odbor Ošetrovateľstvo,OŠE - 2. ročník Mgr.
END:VEVENT
BEGIN:VEVENT
DTSTART;TZID=Europe/Bratislava:20250909T070000
DTEND;TZID=Europe/Bratislava:20250909T150000
DTSTAMP:20260426T051344
CREATED:20250804T103956Z
LAST-MODIFIED:20250813T091909Z
UID:47618-1757401200-1757430000@fsvladislava.sk
SUMMARY:Fakulta sv. Ladislava - UZS / OŠE\, zápis 1 roč. - Kinosála
DESCRIPTION:Fakulta sv. Ladislava – UZS / OŠE\, zápis 1 roč. – Kinosála
URL:https://fsvladislava.sk/rozvrh/fakulta-sv-ladislava-zapis-1-roc-kinosala/
LOCATION:FNsP NZ  – Kinosála
CATEGORIES:Fakulta
END:VEVENT
BEGIN:VEVENT
DTSTART;TZID=Europe/Bratislava:20250909T083000
DTEND;TZID=Europe/Bratislava:20250909T100000
DTSTAMP:20260426T051344
CREATED:20240725T061027Z
LAST-MODIFIED:20240725T061027Z
UID:44863-1757406600-1757412000@fsvladislava.sk
SUMMARY:FNsP NZ - Operatívna porada vedúcich zamestnancov - Zasadačka
DESCRIPTION:FNsP NZ – Operatívna porada vedúcich zamestnancov – Zasadačka
URL:https://fsvladislava.sk/rozvrh/fnsp-nz-operativna-porada-veducich-zamestnancov-zasadacka-31/
LOCATION:FNsP NZ – Zasadačka
CATEGORIES:FNsP NZ
END:VEVENT
BEGIN:VEVENT
DTSTART;TZID=Europe/Bratislava:20250909T110000
DTEND;TZID=Europe/Bratislava:20250909T140000
DTSTAMP:20260426T051344
CREATED:20250909T052315Z
LAST-MODIFIED:20250909T052330Z
UID:47871-1757415600-1757426400@fsvladislava.sk
SUMMARY:Fakulta sv. Ladislava - Zasadačka
DESCRIPTION:Fakulta sv. Ladislava – Zasadačka
URL:https://fsvladislava.sk/rozvrh/fakulta-sv-ladislava-zasadacka-6/
LOCATION:FNsP NZ – Zasadačka
CATEGORIES:Fakulta
END:VEVENT
BEGIN:VEVENT
DTSTART;TZID=Europe/Bratislava:20250910T080000
DTEND;TZID=Europe/Bratislava:20250910T090000
DTSTAMP:20260426T051344
CREATED:20241204T115703Z
LAST-MODIFIED:20241204T115703Z
UID:46269-1757491200-1757494800@fsvladislava.sk
SUMMARY:FNsP NZ - Školenie HER - Zasadačka
DESCRIPTION:FNsP NZ – Školenie HER – Zasadačka
URL:https://fsvladislava.sk/rozvrh/fnsp-nz-skolenie-her-zasadacka-23/
LOCATION:FNsP NZ – Zasadačka
CATEGORIES:FNsP NZ
END:VEVENT
BEGIN:VEVENT
DTSTART;TZID=Europe/Bratislava:20250910T080000
DTEND;TZID=Europe/Bratislava:20250910T120000
DTSTAMP:20260426T051344
CREATED:20250813T091719Z
LAST-MODIFIED:20250813T091840Z
UID:47640-1757491200-1757505600@fsvladislava.sk
SUMMARY:Fakulta sv. Ladislava - SP Zápis 1.r.  Mgr. /Bc. - Kinosála
DESCRIPTION:Fakulta sv. Ladislava – SP Zápis 1.r. Mgr. /Bc. – Kinosála
URL:https://fsvladislava.sk/rozvrh/fakulta-sv-ladislava-zapis-1-r-mgr-bc-kinosala/
LOCATION:FNsP NZ  – Kinosála
CATEGORIES:Fakulta
END:VEVENT
BEGIN:VEVENT
DTSTART;TZID=Europe/Bratislava:20250910T093000
DTEND;TZID=Europe/Bratislava:20250910T123000
DTSTAMP:20260426T051344
CREATED:20250910T051809Z
LAST-MODIFIED:20250910T051930Z
UID:47886-1757496600-1757507400@fsvladislava.sk
SUMMARY:Fakulta sv. Ladislava - SZŠ - Zasadačka
DESCRIPTION:Fakulta sv. Ladislava – SZŠ – Zasadačka
URL:https://fsvladislava.sk/rozvrh/fakulta-sv-ladislava-szs-kinosala-3/
LOCATION:FNsP NZ – Zasadačka
CATEGORIES:Fakulta
END:VEVENT
BEGIN:VEVENT
DTSTART;TZID=Europe/Bratislava:20250911T080000
DTEND;TZID=Europe/Bratislava:20250911T123000
DTSTAMP:20260426T051344
CREATED:20250910T051752Z
LAST-MODIFIED:20250910T051922Z
UID:47884-1757577600-1757593800@fsvladislava.sk
SUMMARY:Fakulta sv. Ladislava - SZŠ - Zasadačka
DESCRIPTION:Fakulta sv. Ladislava – SZŠ – Zasadačka
URL:https://fsvladislava.sk/rozvrh/fakulta-sv-ladislava-szs-kinosala-2/
LOCATION:FNsP NZ – Zasadačka
CATEGORIES:Fakulta
END:VEVENT
BEGIN:VEVENT
DTSTART;TZID=Europe/Bratislava:20250912T080000
DTEND;TZID=Europe/Bratislava:20250912T123000
DTSTAMP:20260426T051344
CREATED:20250903T053713Z
LAST-MODIFIED:20250910T051738Z
UID:47745-1757664000-1757680200@fsvladislava.sk
SUMMARY:Fakulta sv. Ladislava - SZŠ - Kinosála
DESCRIPTION:Fakulta sv. Ladislava – SZŠ – Kinosála
URL:https://fsvladislava.sk/rozvrh/fakulta-sv-ladislava-szs-kinosala/
LOCATION:FNsP NZ  – Kinosála
CATEGORIES:Fakulta
END:VEVENT
END:VCALENDAR