BEGIN:VCALENDAR
VERSION:2.0
PRODID:-//Fakulta zdravotníctva a sociálnej práce sv. Ladislava, Nové Zámky - ECPv6.15.17//NONSGML v1.0//EN
CALSCALE:GREGORIAN
METHOD:PUBLISH
X-WR-CALNAME:Fakulta zdravotníctva a sociálnej práce sv. Ladislava, Nové Zámky
X-ORIGINAL-URL:https://fsvladislava.sk
X-WR-CALDESC:Udalosti pre Fakulta zdravotníctva a sociálnej práce sv. Ladislava, Nové Zámky
REFRESH-INTERVAL;VALUE=DURATION:PT1H
X-Robots-Tag:noindex
X-PUBLISHED-TTL:PT1H
BEGIN:VTIMEZONE
TZID:Europe/Bratislava
BEGIN:DAYLIGHT
TZOFFSETFROM:+0100
TZOFFSETTO:+0200
TZNAME:CEST
DTSTART:20250330T010000
END:DAYLIGHT
BEGIN:STANDARD
TZOFFSETFROM:+0200
TZOFFSETTO:+0100
TZNAME:CET
DTSTART:20251026T010000
END:STANDARD
BEGIN:DAYLIGHT
TZOFFSETFROM:+0100
TZOFFSETTO:+0200
TZNAME:CEST
DTSTART:20260329T010000
END:DAYLIGHT
BEGIN:STANDARD
TZOFFSETFROM:+0200
TZOFFSETTO:+0100
TZNAME:CET
DTSTART:20261025T010000
END:STANDARD
BEGIN:DAYLIGHT
TZOFFSETFROM:+0100
TZOFFSETTO:+0200
TZNAME:CEST
DTSTART:20270328T010000
END:DAYLIGHT
BEGIN:STANDARD
TZOFFSETFROM:+0200
TZOFFSETTO:+0100
TZNAME:CET
DTSTART:20271031T010000
END:STANDARD
END:VTIMEZONE
BEGIN:VEVENT
DTSTART;TZID=Europe/Bratislava:20260202T080000
DTEND;TZID=Europe/Bratislava:20260202T080000
DTSTAMP:20260425T175437
CREATED:20260114T114509Z
LAST-MODIFIED:20260114T114509Z
UID:49157-1770019200-1770019200@fsvladislava.sk
SUMMARY:Fakulta sv. Ladislava - SP zbieranie Bc. prác - Seminárna miestnosť
DESCRIPTION:Fakulta sv. Ladislava – SP zbieranie Bc. prác – Seminárna miestnosť
URL:https://fsvladislava.sk/rozvrh/fakulta-sv-ladislava-sp-zbieranie-bc-prac-seminarna-miestnost/
LOCATION:FNsP NZ  – Seminárna miestnosť
CATEGORIES:Fakulta
END:VEVENT
BEGIN:VEVENT
DTSTART;TZID=Europe/Bratislava:20260202T090000
DTEND;TZID=Europe/Bratislava:20260202T140000
DTSTAMP:20260425T175437
CREATED:20250121T070146Z
LAST-MODIFIED:20260109T071614Z
UID:46719-1770022800-1770040800@fsvladislava.sk
SUMMARY:PA 1.r. Bc. - Gynekológia I. - Zasadačka
DESCRIPTION:PA 1.r. Bc. – Gynekológia I. – Dr. Resutíková – Zasadačka
URL:https://fsvladislava.sk/rozvrh/pa-1-r-bc-gynekologia-i-zasadacka-6/
LOCATION:FNsP NZ – Zasadačka
CATEGORIES:Odbor Pôrodná asistencia,PA - 1. ročník Bc.
END:VEVENT
BEGIN:VEVENT
DTSTART;TZID=Europe/Bratislava:20260202T130000
DTEND;TZID=Europe/Bratislava:20260202T140000
DTSTAMP:20260425T175437
CREATED:20260119T140823Z
LAST-MODIFIED:20260119T140823Z
UID:49268-1770037200-1770040800@fsvladislava.sk
SUMMARY:PA 2.r. Bc. - SK Pôrodníctvo II. - Zasadačka
DESCRIPTION:PA 2.r. Bc. – Skúška: Pôrodníctvo II. – prof. Bartkovjak – Zasadačka
URL:https://fsvladislava.sk/rozvrh/pa-2-r-bc-sk-porodnictvo-ii-zasadacka-2/
LOCATION:FNsP NZ – Zasadačka
CATEGORIES:Odbor Pôrodná asistencia,PA - 2. ročník Bc.
END:VEVENT
BEGIN:VEVENT
DTSTART;TZID=Europe/Bratislava:20260202T140000
DTEND;TZID=Europe/Bratislava:20260202T183000
DTSTAMP:20260425T175437
CREATED:20260109T072448Z
LAST-MODIFIED:20260109T072448Z
UID:49035-1770040800-1770057000@fsvladislava.sk
SUMMARY:PA 1.r. Bc. - Pôrodníctvo I. - Zasadačka
DESCRIPTION:PA 1.r. Bc. – Pôrodníctvo I. – prof. Bartkovjak – Zasadačka
URL:https://fsvladislava.sk/rozvrh/pa-1-r-bc-porodnictvo-i-zasadacka-9/
LOCATION:FNsP NZ – Zasadačka
CATEGORIES:Odbor Pôrodná asistencia,PA - 1. ročník Bc.
END:VEVENT
BEGIN:VEVENT
DTSTART;TZID=Europe/Bratislava:20260202T150000
DTEND;TZID=Europe/Bratislava:20260202T150000
DTSTAMP:20260425T175437
CREATED:20260116T123641Z
LAST-MODIFIED:20260116T123641Z
UID:49233-1770044400-1770044400@fsvladislava.sk
SUMMARY:OŠE 1.r. Bc. - SK ANF II. - Modrý dom SZŠ
DESCRIPTION:OŠE 1.r. Bc. – Skúška – ANF II.  – Dr. Kocsis – Modrý dom SZŠ
URL:https://fsvladislava.sk/rozvrh/ose-1-r-bc-sk-anf-ii-modry-dom-szs/
LOCATION:SZŠ EK – Modrý dom
CATEGORIES:Odbor Ošetrovateľstvo,OŠE - 1. ročník Bc.
END:VEVENT
BEGIN:VEVENT
DTSTART;TZID=Europe/Bratislava:20260202T200000
DTEND;TZID=Europe/Bratislava:20260202T203000
DTSTAMP:20260425T175437
CREATED:20231026T063109Z
LAST-MODIFIED:20260202T054833Z
UID:41752-1770062400-1770064200@fsvladislava.sk
SUMMARY:UZS 4.r. Bc. - SK Geriatria a paliatívna starostlivosť - Elix
DESCRIPTION:UZS 4.r. Bc. – Skúška: Geriatria a paliatívna starostlivosť  – PhDr. Bc. Barborka\, MBA\, LL.M – Elix
URL:https://fsvladislava.sk/rozvrh/uzs-4-r-bc-geriatria-a-paliativna-starostlivost-elix/
LOCATION:elix
CATEGORIES:Odbor Urgentná zdravotná starostlivosť,UZS – 4. ročník Bc.
END:VEVENT
BEGIN:VEVENT
DTSTART;TZID=Europe/Bratislava:20260203T083000
DTEND;TZID=Europe/Bratislava:20260203T100000
DTSTAMP:20260425T175437
CREATED:20250903T060024Z
LAST-MODIFIED:20250903T060024Z
UID:47755-1770107400-1770112800@fsvladislava.sk
SUMMARY:FNsP NZ - Operatívna porada vedúcich zamestnancov - Zasadačka
DESCRIPTION:FNsP NZ – Operatívna porada vedúcich zamestnancov – Zasadačka
URL:https://fsvladislava.sk/rozvrh/fnsp-nz-operativna-porada-veducich-zamestnancov-zasadacka-55/
LOCATION:FNsP NZ – Zasadačka
CATEGORIES:FNsP NZ
END:VEVENT
BEGIN:VEVENT
DTSTART;TZID=Europe/Bratislava:20260203T100000
DTEND;TZID=Europe/Bratislava:20260203T130000
DTSTAMP:20260425T175437
CREATED:20260109T071633Z
LAST-MODIFIED:20260129T104403Z
UID:49007-1770112800-1770123600@fsvladislava.sk
SUMMARY:PA 1.r. Bc. - Gynekológia I. - Zasadačka
DESCRIPTION:PA 1.r. Bc. – Gynekológia I. – Dr. Resutíková – Zasadačka
URL:https://fsvladislava.sk/rozvrh/pa-1-r-bc-gynekologia-i-zasadacka-8/
LOCATION:FNsP NZ – Zasadačka
CATEGORIES:Odbor Pôrodná asistencia,PA - 1. ročník Bc.
END:VEVENT
BEGIN:VEVENT
DTSTART;TZID=Europe/Bratislava:20260203T130000
DTEND;TZID=Europe/Bratislava:20260203T150000
DTSTAMP:20260425T175437
CREATED:20260129T104334Z
LAST-MODIFIED:20260129T104334Z
UID:49388-1770123600-1770130800@fsvladislava.sk
SUMMARY:FNsP NZ - DRG - Zasadačka
DESCRIPTION:FNsP NZ – DRG – Zasadačka
URL:https://fsvladislava.sk/rozvrh/fnsp-nz-drg-zasadacka-6/
LOCATION:FNsP NZ – Zasadačka
CATEGORIES:FNsP NZ
END:VEVENT
BEGIN:VEVENT
DTSTART;TZID=Europe/Bratislava:20260203T140000
DTEND;TZID=Europe/Bratislava:20260203T183000
DTSTAMP:20260425T175437
CREATED:20260109T072500Z
LAST-MODIFIED:20260129T104351Z
UID:49037-1770127200-1770143400@fsvladislava.sk
SUMMARY:PA 1.r. Bc. - Pôrodníctvo I. - Seminárna miestnosť
DESCRIPTION:PA 1.r. Bc. – Pôrodníctvo I. – prof. Bartkovjak – Seminárna miestnosť
URL:https://fsvladislava.sk/rozvrh/pa-1-r-bc-porodnictvo-i-zasadacka-10/
LOCATION:FNsP NZ  – Seminárna miestnosť
CATEGORIES:Odbor Pôrodná asistencia,PA - 1. ročník Bc.
END:VEVENT
BEGIN:VEVENT
DTSTART;TZID=Europe/Bratislava:20260203T150000
DTEND;TZID=Europe/Bratislava:20260203T150000
DTSTAMP:20260425T175437
CREATED:20260116T123658Z
LAST-MODIFIED:20260116T123658Z
UID:49235-1770130800-1770130800@fsvladislava.sk
SUMMARY:OŠE 1.r. Bc. - SK ANF II. - Modrý dom SZŠ
DESCRIPTION:OŠE 1.r. Bc. – Skúška – ANF II.  – Dr. Kocsis – Modrý dom SZŠ
URL:https://fsvladislava.sk/rozvrh/ose-1-r-bc-sk-anf-ii-modry-dom-szs-2/
LOCATION:SZŠ EK – Modrý dom
CATEGORIES:Odbor Ošetrovateľstvo,OŠE - 1. ročník Bc.
END:VEVENT
BEGIN:VEVENT
DTSTART;TZID=Europe/Bratislava:20260204T080000
DTEND;TZID=Europe/Bratislava:20260204T090000
DTSTAMP:20260425T175437
CREATED:20250911T080541Z
LAST-MODIFIED:20250911T080541Z
UID:47951-1770192000-1770195600@fsvladislava.sk
SUMMARY:FNsP NZ - Školenie HER - Zasadačka
DESCRIPTION:FNsP NZ – Školenie HER – Zasadačka
URL:https://fsvladislava.sk/rozvrh/fnsp-nz-skolenie-her-zasadacka-33/
LOCATION:FNsP NZ – Zasadačka
CATEGORIES:FNsP NZ
END:VEVENT
BEGIN:VEVENT
DTSTART;TZID=Europe/Bratislava:20260204T083000
DTEND;TZID=Europe/Bratislava:20260204T120000
DTSTAMP:20260425T175437
CREATED:20250929T080306Z
LAST-MODIFIED:20260108T103906Z
UID:48254-1770193800-1770206400@fsvladislava.sk
SUMMARY:OŠE 1.r. Bc. - SK Súvislá prax - Seminárna miestnosť
DESCRIPTION:OŠE 1.r. Bc. – Skúška: súvislá prax – Dr. Nagyová – Seminárna miestnosť
URL:https://fsvladislava.sk/rozvrh/ose-1-r-bc-osetrovatelske-postupy-a-techniky-i-kinosala/
LOCATION:FNsP NZ  – Seminárna miestnosť
CATEGORIES:Odbor Ošetrovateľstvo,OŠE - 1. ročník Bc.
END:VEVENT
BEGIN:VEVENT
DTSTART;TZID=Europe/Bratislava:20260204T150000
DTEND;TZID=Europe/Bratislava:20260204T150000
DTSTAMP:20260425T175437
CREATED:20260116T123710Z
LAST-MODIFIED:20260116T123710Z
UID:49237-1770217200-1770217200@fsvladislava.sk
SUMMARY:OŠE 1.r. Bc. - SK ANF II. - Modrý dom SZŠ
DESCRIPTION:OŠE 1.r. Bc. – Skúška – ANF II.  – Dr. Kocsis – Modrý dom SZŠ
URL:https://fsvladislava.sk/rozvrh/ose-1-r-bc-sk-anf-ii-modry-dom-szs-3/
LOCATION:SZŠ EK – Modrý dom
CATEGORIES:Odbor Ošetrovateľstvo,OŠE - 1. ročník Bc.
END:VEVENT
BEGIN:VEVENT
DTSTART;TZID=Europe/Bratislava:20260205T180000
DTEND;TZID=Europe/Bratislava:20260205T180000
DTSTAMP:20260425T175437
CREATED:20260115T062121Z
LAST-MODIFIED:20260115T062121Z
UID:49184-1770314400-1770314400@fsvladislava.sk
SUMMARY:PA 2.r. Bc. - SK zápočet Neonatológia - Elix
DESCRIPTION:PA 2.r. Bc. –  Skúška: zápočet Neonatológia  – MUDr. Radvanská – Elix
URL:https://fsvladislava.sk/rozvrh/pa-2-r-bc-sk-zapocet-neonatologia-elix/
LOCATION:Online – Elix
CATEGORIES:Odbor Pôrodná asistencia,PA - 2. ročník Bc.
END:VEVENT
BEGIN:VEVENT
DTSTART;TZID=Europe/Bratislava:20260205T180000
DTEND;TZID=Europe/Bratislava:20260205T182000
DTSTAMP:20260425T175437
CREATED:20251211T083922Z
LAST-MODIFIED:20251211T084743Z
UID:48845-1770314400-1770315600@fsvladislava.sk
SUMMARY:SP 1.r. Mgr. - SK Metody SP so skupinou - Elix
DESCRIPTION:SP 1.r. Mgr. – Skúška: Metody SP so skupinou – doc. Bundzelová – Elix
URL:https://fsvladislava.sk/rozvrh/sp-1-r-mgr-sk-metody-sp-so-skupinou-webex/
LOCATION:Online – Elix
CATEGORIES:Odbor Sociálna práca,SP - 1. ročník Mgr.
END:VEVENT
BEGIN:VEVENT
DTSTART;TZID=Europe/Bratislava:20260205T200000
DTEND;TZID=Europe/Bratislava:20260205T202000
DTSTAMP:20260425T175437
CREATED:20260102T060714Z
LAST-MODIFIED:20260102T060714Z
UID:48911-1770321600-1770322800@fsvladislava.sk
SUMMARY:SP 3.r. Bc. - SK Metódy SP s jednotlivcom  - Elix
DESCRIPTION:SP 3.r. Bc. – Skúška: Metódy SP s jednotlivcom – doc. Bundzelová – Elix
URL:https://fsvladislava.sk/rozvrh/sp-3-r-bc-sk-metody-sp-s-jednotlivcom-elix-2/
LOCATION:Online – Elix
CATEGORIES:Odbor Sociálna práca,SP - 3. ročník Bc.
END:VEVENT
BEGIN:VEVENT
DTSTART;TZID=Europe/Bratislava:20260206T090000
DTEND;TZID=Europe/Bratislava:20260206T153000
DTSTAMP:20260425T175437
CREATED:20260202T133222Z
LAST-MODIFIED:20260202T133548Z
UID:49424-1770368400-1770391800@fsvladislava.sk
SUMMARY:SP 1.r. Bc. - SPV sebapoznanie\, sebahodnotenie - Zasadačka
DESCRIPTION:SP 1.r. Bc.  – SPV sebapoznanie\, sebahodnotenie – Dr. Pavlovičová\, Dr. Nagy Gažová\, Dr. Balážiová – Zasadačka
URL:https://fsvladislava.sk/rozvrh/ose-1-r-bc-spv-sebapoznanie-sebahodnotenie-zasadacka/
LOCATION:FNsP NZ – Zasadačka
CATEGORIES:Odbor Sociálna práca,SP - 1. ročník Bc.
END:VEVENT
BEGIN:VEVENT
DTSTART;TZID=Europe/Bratislava:20260206T120000
DTEND;TZID=Europe/Bratislava:20260206T120000
DTSTAMP:20260425T175437
CREATED:20260120T071538Z
LAST-MODIFIED:20260126T065049Z
UID:49270-1770379200-1770379200@fsvladislava.sk
SUMMARY:SP 2r. Bc. - SK - odborná prax  - Kinosála
DESCRIPTION:SP 2r. Bc. – Skúška: – odborná prax – Dr. Buzalová – Kinosála
URL:https://fsvladislava.sk/rozvrh/sp-2r-bc-sk-socialne-sluzby-kinosala/
LOCATION:FNsP NZ  – Kinosála
CATEGORIES:Odbor Sociálna práca,SP - 1. ročník Mgr.,SP - 2. ročník Bc.,SP - 3. ročník Bc.,SP - Ročníky 2. stupeň magistri
END:VEVENT
BEGIN:VEVENT
DTSTART;TZID=Europe/Bratislava:20260206T150000
DTEND;TZID=Europe/Bratislava:20260206T183000
DTSTAMP:20260425T175437
CREATED:20260202T141640Z
LAST-MODIFIED:20260202T141640Z
UID:49468-1770390000-1770402600@fsvladislava.sk
SUMMARY:SP 1.r. Mgr. - Teória SP - Online
DESCRIPTION:SP 1.r. Mgr. – Teória SP – prof. Ing. Mgr. Radková\, PhD. – Online
URL:https://fsvladislava.sk/rozvrh/sp-1-r-mgr-teoria-sp-online/
LOCATION:Online
CATEGORIES:Odbor Sociálna práca,SP - 1. ročník Mgr.
ORGANIZER;CN="prof. Radkov%C3%A1":MAILTO:libusa.radkova@gmail.com
END:VEVENT
BEGIN:VEVENT
DTSTART;TZID=Europe/Bratislava:20260207T080000
DTEND;TZID=Europe/Bratislava:20260207T113000
DTSTAMP:20260425T175437
CREATED:20260202T141709Z
LAST-MODIFIED:20260202T141709Z
UID:49470-1770451200-1770463800@fsvladislava.sk
SUMMARY:SP 1.r. Mgr. - Teória SP - Online
DESCRIPTION:SP 1.r. Mgr. – Teória SP – prof. Ing. Mgr. Radková\, PhD. – Online
URL:https://fsvladislava.sk/rozvrh/sp-1-r-mgr-teoria-sp-online-2/
LOCATION:Online
CATEGORIES:Odbor Sociálna práca,SP - 1. ročník Mgr.
ORGANIZER;CN="prof. Radkov%C3%A1":MAILTO:libusa.radkova@gmail.com
END:VEVENT
BEGIN:VEVENT
DTSTART;TZID=Europe/Bratislava:20260207T090000
DTEND;TZID=Europe/Bratislava:20260207T153000
DTSTAMP:20260425T175437
CREATED:20260202T133239Z
LAST-MODIFIED:20260202T133522Z
UID:49426-1770454800-1770478200@fsvladislava.sk
SUMMARY:SP 1.r. Bc. - SPV sebapoznanie\, sebahodnotenie - Zasadačka
DESCRIPTION:SP 1.r. Bc.  – SPV sebapoznanie\, sebahodnotenie – Dr. Pavlovičová\, Dr. Nagy Gažová\, Dr. Balážiová – Zasadačka
URL:https://fsvladislava.sk/rozvrh/ose-1-r-bc-spv-sebapoznanie-sebahodnotenie-zasadacka-2/
LOCATION:FNsP NZ – Zasadačka
CATEGORIES:Odbor Sociálna práca,SP - 1. ročník Bc.
END:VEVENT
BEGIN:VEVENT
DTSTART;TZID=Europe/Bratislava:20260207T100000
DTEND;TZID=Europe/Bratislava:20260207T102000
DTSTAMP:20260425T175437
CREATED:20260102T060835Z
LAST-MODIFIED:20260102T060835Z
UID:48913-1770458400-1770459600@fsvladislava.sk
SUMMARY:SP 3.r. Bc. - SK Metódy SP s jednotlivcom - aj pre rozdielových študentov  - Elix
DESCRIPTION:SP 3.r. Bc. – Skúška: Metódy SP s jednotlivcom – doc. Bundzelová – Elix \nTento termín bude okrem 3.r. Bc. aj pre rozdielových študentov.
URL:https://fsvladislava.sk/rozvrh/sp-3-r-bc-sk-metody-sp-s-jednotlivcom-aj-pre-rozdielovych-studentov-elix/
LOCATION:Online – Elix
CATEGORIES:Odbor Sociálna práca,SP - 3. ročník Bc.
END:VEVENT
BEGIN:VEVENT
DTSTART;TZID=Europe/Bratislava:20260207T110000
DTEND;TZID=Europe/Bratislava:20260207T110000
DTSTAMP:20260425T175437
CREATED:20260121T101111Z
LAST-MODIFIED:20260121T101113Z
UID:49290-1770462000-1770462000@fsvladislava.sk
SUMMARY:SP 3.r. Bc. - SP s nezamestnanými PV - Webex
DESCRIPTION:SP 3.r. Bc. – SP s nezamestnanými PV – PhDr. Ladislav Moravík\, PhD. – Webex
URL:https://fsvladislava.sk/rozvrh/sp-3-r-bc-sp-s-nezamestnanymi-pv-webex/
LOCATION:Online – Webex
CATEGORIES:Odbor Sociálna práca,SP - 3. ročník Bc.
END:VEVENT
BEGIN:VEVENT
DTSTART;TZID=Europe/Bratislava:20260209T080000
DTEND;TZID=Europe/Bratislava:20260209T090000
DTSTAMP:20260425T175437
CREATED:20260120T094943Z
LAST-MODIFIED:20260120T094943Z
UID:49275-1770624000-1770627600@fsvladislava.sk
SUMMARY:FNsP NZ - Rada kvality  - Zasadačka
DESCRIPTION:FNsP NZ – Rada kvality  – Zasadačka
URL:https://fsvladislava.sk/rozvrh/fnsp-nz-rada-kvality-zasadacka-5/
LOCATION:FNsP NZ – Zasadačka
CATEGORIES:FNsP NZ
END:VEVENT
BEGIN:VEVENT
DTSTART;TZID=Europe/Bratislava:20260209T090000
DTEND;TZID=Europe/Bratislava:20260209T140000
DTSTAMP:20260425T175437
CREATED:20260109T071701Z
LAST-MODIFIED:20260109T071701Z
UID:49009-1770627600-1770645600@fsvladislava.sk
SUMMARY:PA 1.r. Bc. - Gynekológia I. - Zasadačka
DESCRIPTION:PA 1.r. Bc. – Gynekológia I. – Dr. Resutíková – Zasadačka
URL:https://fsvladislava.sk/rozvrh/pa-1-r-bc-gynekologia-i-zasadacka-9/
LOCATION:FNsP NZ – Zasadačka
CATEGORIES:Odbor Pôrodná asistencia,PA - 1. ročník Bc.
END:VEVENT
BEGIN:VEVENT
DTSTART;TZID=Europe/Bratislava:20260209T140000
DTEND;TZID=Europe/Bratislava:20260209T183000
DTSTAMP:20260425T175437
CREATED:20260109T072514Z
LAST-MODIFIED:20260119T125139Z
UID:49039-1770645600-1770661800@fsvladislava.sk
SUMMARY:PA 1.r. Bc. - Pôrodníctvo I. - Seminárna miestnosť
DESCRIPTION:PA 1.r. Bc. – Pôrodníctvo I. – prof. Bartkovjak – Seminárna miestnosť
URL:https://fsvladislava.sk/rozvrh/pa-1-r-bc-porodnictvo-i-zasadacka-12/
LOCATION:FNsP NZ  – Seminárna miestnosť
CATEGORIES:Odbor Pôrodná asistencia,PA - 1. ročník Bc.
END:VEVENT
BEGIN:VEVENT
DTSTART;TZID=Europe/Bratislava:20260209T143000
DTEND;TZID=Europe/Bratislava:20260209T143000
DTSTAMP:20260425T175437
CREATED:20260119T125713Z
LAST-MODIFIED:20260119T125713Z
UID:49263-1770647400-1770647400@fsvladislava.sk
SUMMARY:PA 3.r. Bc. - SK Profesionálna komunikácia - Zasadačka
DESCRIPTION:PA 3.r. Bc. – Skúška: Profesionálna komunikácia – Dr. Borbélyová – Zasadačka
URL:https://fsvladislava.sk/rozvrh/pa-3-r-bc-sk-profesionalna-komunikacia-zasadacka/
LOCATION:FNsP NZ – Zasadačka
CATEGORIES:Odbor Pôrodná asistencia,PA - 3. ročník Bc.
END:VEVENT
BEGIN:VEVENT
DTSTART;TZID=Europe/Bratislava:20260209T150000
DTEND;TZID=Europe/Bratislava:20260209T180000
DTSTAMP:20260425T175437
CREATED:20260206T063517Z
LAST-MODIFIED:20260206T071905Z
UID:49557-1770649200-1770660000@fsvladislava.sk
SUMMARY:SP 1.r. Mgr. - Sociálne poradenstvo - 1. časť prednášky - Online
DESCRIPTION:SP 1.r. Mgr. – Sociálne poradenstvo – 1. časť prednášky- doc. Mgr. Ludvigh Cintulová\, PhD. univ. prof. – Online
URL:https://fsvladislava.sk/rozvrh/sp-1-r-mgr-socialne-poradenstvo-1-cast-prednasky-zasadacka/
LOCATION:Online
CATEGORIES:Odbor Sociálna práca,SP - 1. ročník Mgr.
END:VEVENT
BEGIN:VEVENT
DTSTART;TZID=Europe/Bratislava:20260209T153000
DTEND;TZID=Europe/Bratislava:20260209T153000
DTSTAMP:20260425T175437
CREATED:20260119T125805Z
LAST-MODIFIED:20260119T125805Z
UID:49265-1770651000-1770651000@fsvladislava.sk
SUMMARY:PA 3.r. Bc. – SK Pediatria - Zasadačka
DESCRIPTION:PA 3.r. Bc. – Skúška: Pediatria – MUDr. Radvanská – Zasadačka
URL:https://fsvladislava.sk/rozvrh/pa-3-r-bc-sk-pediatria-zasadacka/
LOCATION:FNsP NZ – Zasadačka
CATEGORIES:Odbor Pôrodná asistencia,PA - 3. ročník Bc.
END:VEVENT
END:VCALENDAR