BEGIN:VCALENDAR
VERSION:2.0
PRODID:-//Fakulta zdravotníctva a sociálnej práce sv. Ladislava, Nové Zámky - ECPv6.15.17//NONSGML v1.0//EN
CALSCALE:GREGORIAN
METHOD:PUBLISH
X-WR-CALNAME:Fakulta zdravotníctva a sociálnej práce sv. Ladislava, Nové Zámky
X-ORIGINAL-URL:https://fsvladislava.sk
X-WR-CALDESC:Udalosti pre Fakulta zdravotníctva a sociálnej práce sv. Ladislava, Nové Zámky
REFRESH-INTERVAL;VALUE=DURATION:PT1H
X-Robots-Tag:noindex
X-PUBLISHED-TTL:PT1H
BEGIN:VTIMEZONE
TZID:Europe/Bratislava
BEGIN:DAYLIGHT
TZOFFSETFROM:+0100
TZOFFSETTO:+0200
TZNAME:CEST
DTSTART:20250330T010000
END:DAYLIGHT
BEGIN:STANDARD
TZOFFSETFROM:+0200
TZOFFSETTO:+0100
TZNAME:CET
DTSTART:20251026T010000
END:STANDARD
BEGIN:DAYLIGHT
TZOFFSETFROM:+0100
TZOFFSETTO:+0200
TZNAME:CEST
DTSTART:20260329T010000
END:DAYLIGHT
BEGIN:STANDARD
TZOFFSETFROM:+0200
TZOFFSETTO:+0100
TZNAME:CET
DTSTART:20261025T010000
END:STANDARD
BEGIN:DAYLIGHT
TZOFFSETFROM:+0100
TZOFFSETTO:+0200
TZNAME:CEST
DTSTART:20270328T010000
END:DAYLIGHT
BEGIN:STANDARD
TZOFFSETFROM:+0200
TZOFFSETTO:+0100
TZNAME:CET
DTSTART:20271031T010000
END:STANDARD
END:VTIMEZONE
BEGIN:VEVENT
DTSTART;TZID=Europe/Bratislava:20260302T070000
DTEND;TZID=Europe/Bratislava:20260303T170000
DTSTAMP:20260425T161242
CREATED:20251002T083746Z
LAST-MODIFIED:20260216T120230Z
UID:48287-1772434800-1772557200@fsvladislava.sk
SUMMARY:Fakulta sv. Ladislava - SP Bc. štátnice - Zasadačka
DESCRIPTION:Fakulta sv. Ladislava – SP Bc. štátnice – Zasadačka
URL:https://fsvladislava.sk/rozvrh/fakulta-sv-ladislava-sp-bc-statnice-zasadacka/
LOCATION:FNsP NZ – Zasadačka
CATEGORIES:Fakulta
END:VEVENT
BEGIN:VEVENT
DTSTART;TZID=Europe/Bratislava:20260302T070000
DTEND;TZID=Europe/Bratislava:20260303T170000
DTSTAMP:20260425T161242
CREATED:20251002T083803Z
LAST-MODIFIED:20260216T120211Z
UID:48286-1772434800-1772557200@fsvladislava.sk
SUMMARY:Fakulta sv. Ladislava - SP Bc. štátnice - Seminárna miestnosť
DESCRIPTION:Fakulta sv. Ladislava – SP Bc. štátnice – Seminárna miestnosť
URL:https://fsvladislava.sk/rozvrh/fakulta-sv-ladislava-sp-bc-statnice-seminarna-miestnost/
LOCATION:FNsP NZ  – Seminárna miestnosť
CATEGORIES:Fakulta
END:VEVENT
BEGIN:VEVENT
DTSTART;TZID=Europe/Bratislava:20260302T090000
DTEND;TZID=Europe/Bratislava:20260302T150000
DTSTAMP:20260425T161242
CREATED:20241125T123226Z
LAST-MODIFIED:20260115T124657Z
UID:46102-1772442000-1772463600@fsvladislava.sk
SUMMARY:OŠE 4.r. Bc. - Zdravotnícka a sociálna psychológia - Kinosála
DESCRIPTION:OŠE 4.r. Bc. – Zdravotnícka a sociálna psychológia – doc. Šovčíková\, CSc. – Kinosála
URL:https://fsvladislava.sk/rozvrh/ose-4-r-bc-rezervacia-kinosala-2/
LOCATION:FNsP NZ  – Kinosála
CATEGORIES:Odbor Ošetrovateľstvo,OŠE - 4. ročník Bc.
END:VEVENT
BEGIN:VEVENT
DTSTART;TZID=Europe/Bratislava:20260302T090000
DTEND;TZID=Europe/Bratislava:20260302T153000
DTSTAMP:20260425T161242
CREATED:20260109T072115Z
LAST-MODIFIED:20260109T072115Z
UID:49022-1772442000-1772465400@fsvladislava.sk
SUMMARY:PA 1.r. Bc. - Postupy a techniky v PA - učebňa PA 2.posch.
DESCRIPTION:PA 1.r. Bc. – Postupy a techniky v PA  – prof. Hanušová – učebňa PA 2.posch.
URL:https://fsvladislava.sk/rozvrh/pa-1-r-bc-postupy-a-techniky-v-pa-ucebna-pa-2-posch-6/
LOCATION:FNsP NZ – učebňa PA 2. posch.
CATEGORIES:Odbor Pôrodná asistencia,PA - 1. ročník Bc.
END:VEVENT
BEGIN:VEVENT
DTSTART;TZID=Europe/Bratislava:20260302T150000
DTEND;TZID=Europe/Bratislava:20260302T150000
DTSTAMP:20260425T161242
CREATED:20260227T071446Z
LAST-MODIFIED:20260227T072255Z
UID:49681-1772463600-1772463600@fsvladislava.sk
SUMMARY:OŠE 1.r. Bc. - SK ANF a Zdravotnícka terminológia  - Modrý dom SZŠ
DESCRIPTION:OŠE 1.r. Bc. – Skúška:  ANF a Zdravotnícka terminológia – Dr. Kocsis – Modrý dom SZŠ
URL:https://fsvladislava.sk/rozvrh/ose-1-r-bc-sk-anf-a-zdravotnicka-terminologia-modry-dom-szs-16/
LOCATION:SZŠ EK – Modrý dom
CATEGORIES:Odbor Ošetrovateľstvo,OŠE - 1. ročník Bc.
END:VEVENT
BEGIN:VEVENT
DTSTART;TZID=Europe/Bratislava:20260303T083000
DTEND;TZID=Europe/Bratislava:20260303T100000
DTSTAMP:20260425T161242
CREATED:20250903T060350Z
LAST-MODIFIED:20250903T060350Z
UID:47763-1772526600-1772532000@fsvladislava.sk
SUMMARY:FNsP NZ - Operatívna porada vedúcich zamestnancov - Zasadačka
DESCRIPTION:FNsP NZ – Operatívna porada vedúcich zamestnancov – Zasadačka
URL:https://fsvladislava.sk/rozvrh/fnsp-nz-operativna-porada-veducich-zamestnancov-zasadacka-59/
LOCATION:FNsP NZ – Zasadačka
CATEGORIES:FNsP NZ
END:VEVENT
BEGIN:VEVENT
DTSTART;TZID=Europe/Bratislava:20260303T090000
DTEND;TZID=Europe/Bratislava:20260303T153000
DTSTAMP:20260425T161242
CREATED:20260109T072133Z
LAST-MODIFIED:20260109T072133Z
UID:49024-1772528400-1772551800@fsvladislava.sk
SUMMARY:PA 1.r. Bc. - Postupy a techniky v PA - učebňa PA 2.posch.
DESCRIPTION:PA 1.r. Bc. – Postupy a techniky v PA  – prof. Hanušová – učebňa PA 2.posch.
URL:https://fsvladislava.sk/rozvrh/pa-1-r-bc-postupy-a-techniky-v-pa-ucebna-pa-2-posch-7/
LOCATION:FNsP NZ – učebňa PA 2. posch.
CATEGORIES:Odbor Pôrodná asistencia,PA - 1. ročník Bc.
END:VEVENT
BEGIN:VEVENT
DTSTART;TZID=Europe/Bratislava:20260303T130000
DTEND;TZID=Europe/Bratislava:20260303T160000
DTSTAMP:20260425T161242
CREATED:20250210T063212Z
LAST-MODIFIED:20260126T063628Z
UID:46975-1772542800-1772553600@fsvladislava.sk
SUMMARY:PA 3.r. Bc. - Vých. k sexuálnemu životu a zodpovedné plánovanie rodiny - Teams
DESCRIPTION:PA 3.r. Bc. – Vých. k sexuálnemu životu a zodpovedné plánovanie rodiny – prof. Grey – Online-Teams
URL:https://fsvladislava.sk/rozvrh/pa-3-r-bc-vych-k-sexualnemu-zivotu-a-zodpovedne-planovanie-rodiny-elix-3/
LOCATION:Online – Microsoft Teams
CATEGORIES:Odbor Pôrodná asistencia,PA - 3. ročník Bc.
END:VEVENT
BEGIN:VEVENT
DTSTART;TZID=Europe/Bratislava:20260303T150000
DTEND;TZID=Europe/Bratislava:20260303T150000
DTSTAMP:20260425T161242
CREATED:20260227T071502Z
LAST-MODIFIED:20260227T072236Z
UID:49683-1772550000-1772550000@fsvladislava.sk
SUMMARY:OŠE 1.r. Bc. - SK ANF a Zdravotnícka terminológia  - Modrý dom SZŠ
DESCRIPTION:OŠE 1.r. Bc. –  Skúška: ANF a Zdravotnícka terminológia – Dr. Kocsis – Modrý dom SZŠ
URL:https://fsvladislava.sk/rozvrh/ose-1-r-bc-sk-anf-a-zdravotnicka-terminologia-modry-dom-szs-17/
LOCATION:SZŠ EK – Modrý dom
CATEGORIES:Odbor Ošetrovateľstvo,OŠE - 1. ročník Bc.
END:VEVENT
BEGIN:VEVENT
DTSTART;TZID=Europe/Bratislava:20260304T080000
DTEND;TZID=Europe/Bratislava:20260304T090000
DTSTAMP:20260425T161242
CREATED:20250911T080619Z
LAST-MODIFIED:20250911T080619Z
UID:47955-1772611200-1772614800@fsvladislava.sk
SUMMARY:FNsP NZ - Školenie HER - Zasadačka
DESCRIPTION:FNsP NZ – Školenie HER – Zasadačka
URL:https://fsvladislava.sk/rozvrh/fnsp-nz-skolenie-her-zasadacka-35/
LOCATION:FNsP NZ – Zasadačka
CATEGORIES:FNsP NZ
END:VEVENT
BEGIN:VEVENT
DTSTART;TZID=Europe/Bratislava:20260304T083000
DTEND;TZID=Europe/Bratislava:20260304T083000
DTSTAMP:20260425T161242
CREATED:20260202T144339Z
LAST-MODIFIED:20260202T144339Z
UID:49499-1772613000-1772613000@fsvladislava.sk
SUMMARY:OŠE 1.r. Bc. - OŠE postupy a techniky II. - Kinosála
DESCRIPTION:OŠE 1.r. Bc.  – OŠE postupy a techniky II. – PhDr. I. Nagyová\, PhD. – Kinosála
URL:https://fsvladislava.sk/rozvrh/ose-1-r-bc-ose-postupy-a-techniky-ii-kinosala/
LOCATION:FNsP NZ  – Kinosála
CATEGORIES:Odbor Ošetrovateľstvo,OŠE - 1. ročník Bc.
END:VEVENT
BEGIN:VEVENT
DTSTART;TZID=Europe/Bratislava:20260304T090000
DTEND;TZID=Europe/Bratislava:20260304T120000
DTSTAMP:20260425T161242
CREATED:20260225T125443Z
LAST-MODIFIED:20260225T125443Z
UID:49667-1772614800-1772625600@fsvladislava.sk
SUMMARY:FNsP NZ - Kamerové systémy a monitoring  pod tlakom GDPR - Zasadačka
DESCRIPTION:FNsP NZ – Kamerové systémy a monitoring  pod tlakom GDPR – Zasadačka
URL:https://fsvladislava.sk/rozvrh/fnsp-nz-kamerove-systemy-a-monitoring-pod-tlakom-gdpr-zasadacka/
LOCATION:FNsP NZ – Zasadačka
CATEGORIES:FNsP NZ
END:VEVENT
BEGIN:VEVENT
DTSTART;TZID=Europe/Bratislava:20260304T130000
DTEND;TZID=Europe/Bratislava:20260304T140000
DTSTAMP:20260425T161242
CREATED:20260217T115419Z
LAST-MODIFIED:20260217T115419Z
UID:49622-1772629200-1772632800@fsvladislava.sk
SUMMARY:FNsP NZ - Rada pre vedu a výskum - Zasadačka
DESCRIPTION:FNsP NZ – Rada pre vedu a výskum – Zasadačka
URL:https://fsvladislava.sk/rozvrh/fnsp-nz-rada-pre-vedu-a-vyskum-zasadacka-3/
LOCATION:FNsP NZ – Zasadačka
CATEGORIES:FNsP NZ
END:VEVENT
BEGIN:VEVENT
DTSTART;TZID=Europe/Bratislava:20260304T160000
DTEND;TZID=Europe/Bratislava:20260304T160000
DTSTAMP:20260425T161242
CREATED:20260227T071554Z
LAST-MODIFIED:20260303T100718Z
UID:49685-1772640000-1772640000@fsvladislava.sk
SUMMARY:OŠE 1.r. Bc. - SK ANF a Zdravotnícka terminológia  - Modrý dom SZŠ
DESCRIPTION:OŠE 1.r. Bc. – Skúška: ANF a Zdravotnícka terminológia – Dr. Kocsis – Modrý dom SZŠ
URL:https://fsvladislava.sk/rozvrh/ose-1-r-bc-sk-anf-a-zdravotnicka-terminologia-modry-dom-szs-18/
LOCATION:SZŠ EK – Modrý dom
CATEGORIES:Odbor Ošetrovateľstvo,OŠE - 1. ročník Bc.
END:VEVENT
BEGIN:VEVENT
DTSTART;TZID=Europe/Bratislava:20260305T080000
DTEND;TZID=Europe/Bratislava:20260305T120000
DTSTAMP:20260425T161242
CREATED:20240205T113109Z
LAST-MODIFIED:20260126T063808Z
UID:42828-1772697600-1772712000@fsvladislava.sk
SUMMARY:PA 3.r. Bc. – Verejné zdravie a kontrola infekčných chorôb - Webex
DESCRIPTION:PA 3.r. Bc. – Verejné zdravie a kontrola infekčných chorôb – Dr. Fialová – Online-Webex
URL:https://fsvladislava.sk/rozvrh/pa-3-r-bc-d-verejne-zdravie-a-kontrola-infekcnych-chorob-elix-2/
LOCATION:Online – Webex
CATEGORIES:Odbor Pôrodná asistencia,PA - 3. ročník Bc.
END:VEVENT
BEGIN:VEVENT
DTSTART;TZID=Europe/Bratislava:20260305T130000
DTEND;TZID=Europe/Bratislava:20260305T160000
DTSTAMP:20260425T161242
CREATED:20260126T063645Z
LAST-MODIFIED:20260126T063645Z
UID:49352-1772715600-1772726400@fsvladislava.sk
SUMMARY:PA 3.r. Bc. - Vých. k sexuálnemu životu a zodpovedné plánovanie rodiny - Teams
DESCRIPTION:PA 3.r. Bc. – Vých. k sexuálnemu životu a zodpovedné plánovanie rodiny – prof. Grey – Online-Teams
URL:https://fsvladislava.sk/rozvrh/pa-3-r-bc-vych-k-sexualnemu-zivotu-a-zodpovedne-planovanie-rodiny-teams/
LOCATION:Online – Microsoft Teams
CATEGORIES:Odbor Pôrodná asistencia,PA - 3. ročník Bc.
END:VEVENT
BEGIN:VEVENT
DTSTART;TZID=Europe/Bratislava:20260305T160000
DTEND;TZID=Europe/Bratislava:20260305T160000
DTSTAMP:20260425T161242
CREATED:20260227T071609Z
LAST-MODIFIED:20260303T100723Z
UID:49687-1772726400-1772726400@fsvladislava.sk
SUMMARY:OŠE 1.r. Bc. - SK ANF a Zdravotnícka terminológia  - Modrý dom SZŠ
DESCRIPTION:OŠE 1.r. Bc. – Skúška: ANF a Zdravotnícka terminológia – Dr. Kocsis – Modrý dom SZŠ
URL:https://fsvladislava.sk/rozvrh/ose-1-r-bc-sk-anf-a-zdravotnicka-terminologia-modry-dom-szs-19/
LOCATION:SZŠ EK – Modrý dom
CATEGORIES:Odbor Ošetrovateľstvo,OŠE - 1. ročník Bc.
END:VEVENT
BEGIN:VEVENT
DTSTART;TZID=Europe/Bratislava:20260305T163000
DTEND;TZID=Europe/Bratislava:20260305T193000
DTSTAMP:20260425T161242
CREATED:20260126T063845Z
LAST-MODIFIED:20260126T063845Z
UID:49355-1772728200-1772739000@fsvladislava.sk
SUMMARY:PA 3.r. Bc. – Verejné zdravie a kontrola infekčných chorôb - Webex
DESCRIPTION:PA 3.r. Bc. – Verejné zdravie a kontrola infekčných chorôb – Dr. Fialová – Online-Webex
URL:https://fsvladislava.sk/rozvrh/pa-3-r-bc-verejne-zdravie-a-kontrola-infekcnych-chorob-webex/
LOCATION:Online – Webex
CATEGORIES:Odbor Pôrodná asistencia,PA - 3. ročník Bc.
END:VEVENT
BEGIN:VEVENT
DTSTART;TZID=Europe/Bratislava:20260306T090000
DTEND;TZID=Europe/Bratislava:20260306T090000
DTSTAMP:20260425T161242
CREATED:20241128T093500Z
LAST-MODIFIED:20260113T105849Z
UID:46142-1772787600-1772787600@fsvladislava.sk
SUMMARY:OŠE 4.r. Bc. - OŠE v onkológii - Kinosála
DESCRIPTION:OŠE 4.r. Bc. – OŠE v onkológii – Mgr. Samuelová – Kinosála
URL:https://fsvladislava.sk/rozvrh/ose-4-r-bc-ose-v-onkologii-kinosala/
LOCATION:FNsP NZ  – Kinosála
CATEGORIES:Odbor Ošetrovateľstvo,OŠE - 4. ročník Bc.
END:VEVENT
BEGIN:VEVENT
DTSTART;TZID=Europe/Bratislava:20260306T090000
DTEND;TZID=Europe/Bratislava:20260306T090000
DTSTAMP:20260425T161242
CREATED:20260227T071919Z
LAST-MODIFIED:20260227T071919Z
UID:49701-1772787600-1772787600@fsvladislava.sk
SUMMARY:OŠE 1.r. Bc. - SK ANF a Zdravotnícka terminológia  - Seminárna miestnosť
DESCRIPTION:OŠE 1.r. Bc. – Skúška: ANF a Zdravotnícka terminológia – Dr. Kocsis – Seminárna miestnosť
URL:https://fsvladislava.sk/rozvrh/ose-1-r-bc-sk-anf-a-zdravotnicka-terminologia-seminarna-miestnost-3/
LOCATION:FNsP NZ  – Seminárna miestnosť
CATEGORIES:Odbor Ošetrovateľstvo,OŠE - 1. ročník Bc.
END:VEVENT
BEGIN:VEVENT
DTSTART;TZID=Europe/Bratislava:20260306T120000
DTEND;TZID=Europe/Bratislava:20260306T120000
DTSTAMP:20260425T161242
CREATED:20260120T071616Z
LAST-MODIFIED:20260128T075104Z
UID:49272-1772798400-1772798400@fsvladislava.sk
SUMMARY:SP 2r.\, 3.r Bc. - SK Sociálne služby - rozdieloví - Zasadačka
DESCRIPTION:SP 2r.\, 3.r Bc. – Skúška: Sociálne služby – rozdieloví – Dr. Buzalová – Zasadačka \n2.bc + 3.bc rozdieloví
URL:https://fsvladislava.sk/rozvrh/sp-2r-bc-sk-socialne-sluzby-zasadacka-2/
LOCATION:FNsP NZ – Zasadačka
CATEGORIES:Odbor Sociálna práca,SP - 2. ročník Bc.,SP - 3. ročník Bc.
END:VEVENT
BEGIN:VEVENT
DTSTART;TZID=Europe/Bratislava:20260306T150000
DTEND;TZID=Europe/Bratislava:20260306T150000
DTSTAMP:20260425T161242
CREATED:20260304T062944Z
LAST-MODIFIED:20260304T062944Z
UID:49724-1772809200-1772809200@fsvladislava.sk
SUMMARY:SP 1.r. Bc. - SK Občianske právo\, 2.termín  - Zasadačka
DESCRIPTION:SP 1.r. Bc. – Skúška: Občianske právo – Dr. Lobodáš – Zasadačka\nNZ – 2. termín
URL:https://fsvladislava.sk/rozvrh/sp-1-r-bc-sk-obcianske-pravo-2-termin-zasadacka/
LOCATION:FNsP NZ – Zasadačka
CATEGORIES:Odbor Sociálna práca,SP - 1. ročník Bc.
END:VEVENT
BEGIN:VEVENT
DTSTART;TZID=Europe/Bratislava:20260306T150000
DTEND;TZID=Europe/Bratislava:20260306T150000
DTSTAMP:20260425T161242
CREATED:20260305T150530Z
LAST-MODIFIED:20260305T150704Z
UID:49734-1772809200-1772809200@fsvladislava.sk
SUMMARY:SP 2.r. Mgr. - SK Penitenciarna a postpenitenciarna SP - Zasadačka
DESCRIPTION:SP 2.r. Mgr. –  Skúška: Penitenciarna a postpenitenciarna SP – Dr. Lobodáš – Zasadačka\nIba študenti\, ktorí neboli na skúške v pôvodných termínoch.
URL:https://fsvladislava.sk/rozvrh/sp-2-r-mgr-sk-penitenciarna-a-postpenitenciarna-sp-zasadacka-5/
LOCATION:FNsP NZ – Zasadačka
CATEGORIES:Odbor Sociálna práca,SP - 2. ročník Mgr.
END:VEVENT
BEGIN:VEVENT
DTSTART;TZID=Europe/Bratislava:20260306T150000
DTEND;TZID=Europe/Bratislava:20260306T150000
DTSTAMP:20260425T161242
CREATED:20260305T150532Z
LAST-MODIFIED:20260305T150532Z
UID:49733-1772809200-1772809200@fsvladislava.sk
SUMMARY:SP 2.r. Bc. - SK Rodinné právo - Zasadačka
DESCRIPTION:SP 2.r. Bc. – Skúška: Rodinné právo – Dr. Lobodáš – Zasadačka\nIba študenti\, ktorí neboli na skúške v pôvodných termínoch.
URL:https://fsvladislava.sk/rozvrh/sp-2-r-bc-sk-rodinne-pravo-zasadacka-2/
LOCATION:FNsP NZ – Zasadačka
CATEGORIES:Odbor Sociálna práca,SP - 2. ročník Bc.
END:VEVENT
BEGIN:VEVENT
DTSTART;TZID=Europe/Bratislava:20260307T090000
DTEND;TZID=Europe/Bratislava:20260307T160000
DTSTAMP:20260425T161242
CREATED:20240119T062407Z
LAST-MODIFIED:20260224T143515Z
UID:42637-1772874000-1772899200@fsvladislava.sk
SUMMARY:PA 3.r. Bc. – Ošetrovateľstvo v pediatrii  - Webex
DESCRIPTION:PA 3.r. Bc.  – Ošetrovateľstvo v pediatrii – doc. Szencziová Magyarová  – Webex
URL:https://fsvladislava.sk/rozvrh/pa-3-r-bc-d-ose-v-pediatrii-zasadacka-2/
LOCATION:Online – Webex
CATEGORIES:Odbor Pôrodná asistencia,PA - 3. ročník Bc.
END:VEVENT
BEGIN:VEVENT
DTSTART;TZID=Europe/Bratislava:20260309T090000
DTEND;TZID=Europe/Bratislava:20260309T150000
DTSTAMP:20260425T161242
CREATED:20250422T071230Z
LAST-MODIFIED:20260202T144148Z
UID:47273-1773046800-1773068400@fsvladislava.sk
SUMMARY:OŠE 3.r. Bc. - Ošetrovateľstvo v pediatrii I. - Kinosála
DESCRIPTION:OŠE 3.r. Bc.  – Ošetrovateľstvo v pediatrii I. – MUDr. Fekula – Kinosála
URL:https://fsvladislava.sk/rozvrh/ose-3-r-bc-sk-osetrovatelstvo-v-pediatrii-i-kinosala/
LOCATION:FNsP NZ  – Kinosála
CATEGORIES:Odbor Ošetrovateľstvo,OŠE - 3. ročník Bc.
END:VEVENT
BEGIN:VEVENT
DTSTART;TZID=Europe/Bratislava:20260309T090000
DTEND;TZID=Europe/Bratislava:20260309T153000
DTSTAMP:20260425T161242
CREATED:20241210T063153Z
LAST-MODIFIED:20251223T111158Z
UID:46335-1773046800-1773070200@fsvladislava.sk
SUMMARY:PA 2.r. Bc. - GYO III.  - Zasadačka
DESCRIPTION:PA 2.r. Bc. – GYO III.  – doc. Simočková – Zasadačka
URL:https://fsvladislava.sk/rozvrh/pa-2-r-bc-gyo-iii-zasadacka-2/
LOCATION:FNsP NZ – Zasadačka
CATEGORIES:Odbor Pôrodná asistencia,PA - 2. ročník Bc.
END:VEVENT
BEGIN:VEVENT
DTSTART;TZID=Europe/Bratislava:20260309T090000
DTEND;TZID=Europe/Bratislava:20260309T180000
DTSTAMP:20260425T161242
CREATED:20260109T071930Z
LAST-MODIFIED:20260109T071930Z
UID:49018-1773046800-1773079200@fsvladislava.sk
SUMMARY:PA 1.r. Bc. - Postupy a techniky v PA - Seminárna miestnosť
DESCRIPTION:PA 1.r. Bc. – Postupy a techniky v PA  – prof. Hanušová – Seminárna miestnosť
URL:https://fsvladislava.sk/rozvrh/pa-1-r-bc-postupy-a-techniky-v-pa-seminarna-miestnost-4/
LOCATION:FNsP NZ  – Seminárna miestnosť
CATEGORIES:Odbor Pôrodná asistencia,PA - 1. ročník Bc.
END:VEVENT
BEGIN:VEVENT
DTSTART;TZID=Europe/Bratislava:20260309T150000
DTEND;TZID=Europe/Bratislava:20260309T150000
DTSTAMP:20260425T161242
CREATED:20260227T071627Z
LAST-MODIFIED:20260227T071627Z
UID:49689-1773068400-1773068400@fsvladislava.sk
SUMMARY:OŠE 1.r. Bc. - SK ANF a Zdravotnícka terminológia  - Modrý dom SZŠ
DESCRIPTION:OŠE 1.r. Bc. – Skúška: ANF a Zdravotnícka terminológia – Dr. Kocsis – Modrý dom SZŠ
URL:https://fsvladislava.sk/rozvrh/ose-1-r-bc-sk-anf-a-zdravotnicka-terminologia-modry-dom-szs-20/
LOCATION:SZŠ EK – Modrý dom
CATEGORIES:Odbor Ošetrovateľstvo,OŠE - 1. ročník Bc.
END:VEVENT
BEGIN:VEVENT
DTSTART;TZID=Europe/Bratislava:20260309T150000
DTEND;TZID=Europe/Bratislava:20260309T190000
DTSTAMP:20260425T161242
CREATED:20260202T144450Z
LAST-MODIFIED:20260202T144450Z
UID:49501-1773068400-1773082800@fsvladislava.sk
SUMMARY:OŠE 1.r. Bc. - OŠE postupy a techniky II. - Kinosála
DESCRIPTION:OŠE 1.r. Bc.  – OŠE postupy a techniky II. – PhDr. A. Barteková – Kinosála
URL:https://fsvladislava.sk/rozvrh/ose-1-r-bc-ose-postupy-a-techniky-ii-kinosala-2/
LOCATION:FNsP NZ  – Kinosála
CATEGORIES:Odbor Ošetrovateľstvo,OŠE - 1. ročník Bc.
END:VEVENT
END:VCALENDAR