BEGIN:VCALENDAR
VERSION:2.0
PRODID:-//Fakulta zdravotníctva a sociálnej práce sv. Ladislava, Nové Zámky - ECPv6.15.17//NONSGML v1.0//EN
CALSCALE:GREGORIAN
METHOD:PUBLISH
X-WR-CALNAME:Fakulta zdravotníctva a sociálnej práce sv. Ladislava, Nové Zámky
X-ORIGINAL-URL:https://fsvladislava.sk
X-WR-CALDESC:Udalosti pre Fakulta zdravotníctva a sociálnej práce sv. Ladislava, Nové Zámky
REFRESH-INTERVAL;VALUE=DURATION:PT1H
X-Robots-Tag:noindex
X-PUBLISHED-TTL:PT1H
BEGIN:VTIMEZONE
TZID:Europe/Bratislava
BEGIN:DAYLIGHT
TZOFFSETFROM:+0100
TZOFFSETTO:+0200
TZNAME:CEST
DTSTART:20250330T010000
END:DAYLIGHT
BEGIN:STANDARD
TZOFFSETFROM:+0200
TZOFFSETTO:+0100
TZNAME:CET
DTSTART:20251026T010000
END:STANDARD
BEGIN:DAYLIGHT
TZOFFSETFROM:+0100
TZOFFSETTO:+0200
TZNAME:CEST
DTSTART:20260329T010000
END:DAYLIGHT
BEGIN:STANDARD
TZOFFSETFROM:+0200
TZOFFSETTO:+0100
TZNAME:CET
DTSTART:20261025T010000
END:STANDARD
BEGIN:DAYLIGHT
TZOFFSETFROM:+0100
TZOFFSETTO:+0200
TZNAME:CEST
DTSTART:20270328T010000
END:DAYLIGHT
BEGIN:STANDARD
TZOFFSETFROM:+0200
TZOFFSETTO:+0100
TZNAME:CET
DTSTART:20271031T010000
END:STANDARD
END:VTIMEZONE
BEGIN:VEVENT
DTSTART;TZID=Europe/Bratislava:20260311T080000
DTEND;TZID=Europe/Bratislava:20260311T090000
DTSTAMP:20260425T175624
CREATED:20250911T080639Z
LAST-MODIFIED:20250911T080639Z
UID:47957-1773216000-1773219600@fsvladislava.sk
SUMMARY:FNsP NZ - Školenie HER - Zasadačka
DESCRIPTION:FNsP NZ – Školenie HER – Zasadačka
URL:https://fsvladislava.sk/rozvrh/fnsp-nz-skolenie-her-zasadacka-36/
LOCATION:FNsP NZ – Zasadačka
CATEGORIES:FNsP NZ
END:VEVENT
BEGIN:VEVENT
DTSTART;TZID=Europe/Bratislava:20260311T083000
DTEND;TZID=Europe/Bratislava:20260311T083000
DTSTAMP:20260425T175624
CREATED:20260203T140457Z
LAST-MODIFIED:20260203T140457Z
UID:49515-1773217800-1773217800@fsvladislava.sk
SUMMARY:OŠE 1.r. Bc. - Ošetrovateľské postupy a techniky I. - Modrý dom
DESCRIPTION:OŠE 1.r. Bc. – Ošetrovateľské postupy a techniky I. – Dr. Nagyová – Modrý dom
URL:https://fsvladislava.sk/rozvrh/ose-1-r-bc-osetrovatelske-postupy-a-techniky-i-modry-dom-11/
LOCATION:SZŠ EK – Modrý dom
CATEGORIES:Odbor Ošetrovateľstvo,OŠE - 1. ročník Bc.
END:VEVENT
BEGIN:VEVENT
DTSTART;TZID=Europe/Bratislava:20260311T090000
DTEND;TZID=Europe/Bratislava:20260311T150000
DTSTAMP:20260425T175624
CREATED:20250121T125403Z
LAST-MODIFIED:20260115T124549Z
UID:46774-1773219600-1773241200@fsvladislava.sk
SUMMARY:OŠE 3.r. Bc. - Komunitné ošetrovateľstvo - Kinosála
DESCRIPTION:OŠE 3.r. Bc.  – Prednáška: Komunitné ošetrovateľstvo – PhDr. Nagyová\, PhD. – Kinosála
URL:https://fsvladislava.sk/rozvrh/ose-3-r-bc-prednaska-kinosala-7/
LOCATION:FNsP NZ  – Kinosála
CATEGORIES:Odbor Ošetrovateľstvo,OŠE - 3. ročník Bc.
END:VEVENT
BEGIN:VEVENT
DTSTART;TZID=Europe/Bratislava:20260311T090000
DTEND;TZID=Europe/Bratislava:20260311T153000
DTSTAMP:20260425T175624
CREATED:20240205T113237Z
LAST-MODIFIED:20260121T114039Z
UID:42831-1773219600-1773243000@fsvladislava.sk
SUMMARY:PA 3.r. Bc. – Infekčné choroby v tehotnosti a nozokomiálne nákazy - Google meet
DESCRIPTION:PA 3.r. Bc. – Infekčné choroby v tehotnosti a nozokomiálne nákazy – Dr. Cipková – Google meet
URL:https://fsvladislava.sk/rozvrh/pa-3-r-bc-infekcne-choroby-v-tehotnosti-a-nozokomialne-nakazy-google-meet/
LOCATION:Online – Google meet
CATEGORIES:Odbor Pôrodná asistencia,PA - 3. ročník Bc.
END:VEVENT
BEGIN:VEVENT
DTSTART;TZID=Europe/Bratislava:20260311T090000
DTEND;TZID=Europe/Bratislava:20260311T153000
DTSTAMP:20260425T175624
CREATED:20260109T071514Z
LAST-MODIFIED:20260309T105003Z
UID:49005-1773219600-1773243000@fsvladislava.sk
SUMMARY:PA 1.r. Bc. - Determinanty zdravia a výchova k zdraviu II. - Seminárna miestnosť
DESCRIPTION:PA 1.r. Bc. – Determinanty zdravia a výchova k zdraviu II. – prof. Matulníková – Seminárna miestnosť
URL:https://fsvladislava.sk/rozvrh/pa-1-r-bc-determinanty-zdravia-a-vychova-k-zdraviu-ii-zasadacka-6/
LOCATION:FNsP NZ  – Seminárna miestnosť
CATEGORIES:Odbor Pôrodná asistencia,PA - 1. ročník Bc.
END:VEVENT
BEGIN:VEVENT
DTSTART;TZID=Europe/Bratislava:20260311T090000
DTEND;TZID=Europe/Bratislava:20260311T153000
DTSTAMP:20260425T175624
CREATED:20260309T105331Z
LAST-MODIFIED:20260309T105331Z
UID:49756-1773219600-1773243000@fsvladislava.sk
SUMMARY:PA 2.r. Bc. - Metodológia výskumu I. - Zasadačka
DESCRIPTION:PA 2.r. Bc. – Metodológia výskumu I. – prof. Matulník  – Zasadačka
URL:https://fsvladislava.sk/rozvrh/pa-2-r-bc-metodologia-vyskumu-i-zasadacka/
LOCATION:FNsP NZ – Zasadačka
CATEGORIES:Odbor Pôrodná asistencia,PA - 2. ročník Bc.
END:VEVENT
BEGIN:VEVENT
DTSTART;TZID=Europe/Bratislava:20260311T150000
DTEND;TZID=Europe/Bratislava:20260311T150000
DTSTAMP:20260425T175624
CREATED:20260227T071722Z
LAST-MODIFIED:20260227T071722Z
UID:49693-1773241200-1773241200@fsvladislava.sk
SUMMARY:OŠE 1.r. Bc. - SK ANF a Zdravotnícka terminológia  - Modrý dom SZŠ
DESCRIPTION:OŠE 1.r. Bc. – Skúška: ANF a Zdravotnícka terminológia – Dr. Kocsis – Modrý dom SZŠ
URL:https://fsvladislava.sk/rozvrh/ose-1-r-bc-sk-anf-a-zdravotnicka-terminologia-modry-dom-szs-22/
LOCATION:SZŠ EK – Modrý dom
CATEGORIES:Odbor Ošetrovateľstvo,OŠE - 1. ročník Bc.
END:VEVENT
BEGIN:VEVENT
DTSTART;TZID=Europe/Bratislava:20260311T150000
DTEND;TZID=Europe/Bratislava:20260311T180000
DTSTAMP:20260425T175624
CREATED:20260126T120515Z
LAST-MODIFIED:20260226T123314Z
UID:49366-1773241200-1773252000@fsvladislava.sk
SUMMARY:FNsP NZ - Ortopedická klinika - Kinosála
DESCRIPTION:FNsP NZ – Ortopedická klinika – Kinosála
URL:https://fsvladislava.sk/rozvrh/fnsp-nz-ortopedicka-klinika-kinosala-2/
LOCATION:FNsP NZ  – Kinosála
CATEGORIES:FNsP NZ
END:VEVENT
BEGIN:VEVENT
DTSTART;TZID=Europe/Bratislava:20260311T180000
DTEND;TZID=Europe/Bratislava:20260311T180000
DTSTAMP:20260425T175624
CREATED:20260126T064154Z
LAST-MODIFIED:20260304T073846Z
UID:49357-1773252000-1773252000@fsvladislava.sk
SUMMARY:SP 2.r. Bc. - Kazuistický seminár 2. časť - Webex
DESCRIPTION:SP 2.r. Bc. – Kazuistický seminár – doc. Bundzelová – Webex\n2. časť  – plus prezentácie kazuistík
URL:https://fsvladislava.sk/rozvrh/sp-2-r-bc-kazuisticky-seminar-2-cast-webex/
LOCATION:Online – Webex
CATEGORIES:Odbor Sociálna práca,SP - 2. ročník Bc.
END:VEVENT
BEGIN:VEVENT
DTSTART;TZID=Europe/Bratislava:20260312T090000
DTEND;TZID=Europe/Bratislava:20260312T090000
DTSTAMP:20260425T175624
CREATED:20250121T151229Z
LAST-MODIFIED:20260113T132548Z
UID:46800-1773306000-1773306000@fsvladislava.sk
SUMMARY:OŠE 3.r. Bc. - Seminár k záverečnej práci I. - Kinosála
DESCRIPTION:OŠE 3.r. Bc. – Seminár k záverečnej práci I. – PhDr. M. Vavro\, PhD. – Kinosála
URL:https://fsvladislava.sk/rozvrh/ose-1-r-bc-prednaska-kinosala-6/
LOCATION:FNsP NZ  – Kinosála
CATEGORIES:Odbor Ošetrovateľstvo,OŠE - 3. ročník Bc.
END:VEVENT
BEGIN:VEVENT
DTSTART;TZID=Europe/Bratislava:20260312T090000
DTEND;TZID=Europe/Bratislava:20260312T153000
DTSTAMP:20260425T175624
CREATED:20240307T061554Z
LAST-MODIFIED:20260228T081854Z
UID:43488-1773306000-1773329400@fsvladislava.sk
SUMMARY:PA 3.r. Bc. – Základy manažmentu a organizácie zdravotníctva - Webex
DESCRIPTION:PA 3.r. Bc. – Základy manažmentu a organizácie zdravotníctva –  Mgr. Bc. Kosa Lucia – Online – Webex
URL:https://fsvladislava.sk/rozvrh/pa-3-r-bc-sk-zaklady-manazmentu-a-organizacie-zdravotnictva-zasadacka/
LOCATION:Online – Webex
CATEGORIES:Odbor Pôrodná asistencia,PA - 3. ročník Bc.
END:VEVENT
BEGIN:VEVENT
DTSTART;TZID=Europe/Bratislava:20260312T090000
DTEND;TZID=Europe/Bratislava:20260312T153000
DTSTAMP:20260425T175624
CREATED:20250526T125100Z
LAST-MODIFIED:20260109T072258Z
UID:47397-1773306000-1773329400@fsvladislava.sk
SUMMARY:PA 1.r. Bc. - Pôrodná asistencia I. - Zasadačka
DESCRIPTION:PA 1.r. Bc. – Pôrodná asistencia I. – prof. Matulníková – Zasadačka
URL:https://fsvladislava.sk/rozvrh/pa-1-r-bc-sk-porodna-asistencia-i-zasadacka/
LOCATION:FNsP NZ – Zasadačka
CATEGORIES:Odbor Pôrodná asistencia,PA - 1. ročník Bc.
END:VEVENT
BEGIN:VEVENT
DTSTART;TZID=Europe/Bratislava:20260312T090000
DTEND;TZID=Europe/Bratislava:20260312T153000
DTSTAMP:20260425T175624
CREATED:20260116T065953Z
LAST-MODIFIED:20260116T065953Z
UID:49218-1773306000-1773329400@fsvladislava.sk
SUMMARY:PA 2.r. Bc. - Poradenstvo a príprava na rod. a pôrod II. - Seminárna miestnosť
DESCRIPTION:PA 2.r. Bc. – Poradenstvo a príprava na rod. a pôrod II. – Mgr. Dorazilová PhD. – Seminárna miestnosť
URL:https://fsvladislava.sk/rozvrh/pa-2-r-bc-poradenstvo-a-priprava-na-rod-a-porod-ii-seminarna-miestnost/
LOCATION:FNsP NZ  – Seminárna miestnosť
CATEGORIES:Odbor Pôrodná asistencia,PA - 2. ročník Bc.
END:VEVENT
BEGIN:VEVENT
DTSTART;TZID=Europe/Bratislava:20260313T090000
DTEND;TZID=Europe/Bratislava:20260313T150000
DTSTAMP:20260425T175624
CREATED:20260123T105114Z
LAST-MODIFIED:20260123T105114Z
UID:49342-1773392400-1773414000@fsvladislava.sk
SUMMARY:OŠE 3.r. Bc. - Ošetrovateľstvo v starostlivosti o mentálne zdravie  v psychiatrii - Kinosála
DESCRIPTION:OŠE 3.r. Bc. – Ošetrovateľstvo v starostlivosti o mentálne zdravie v psychiatrii – Kinosála
URL:https://fsvladislava.sk/rozvrh/ose-3-r-bc-osetrovatelstvo-v-starostlivosti-o-mentalne-zdravie-v-psychiatrii-kinosala/
LOCATION:FNsP NZ  – Kinosála
CATEGORIES:Odbor Ošetrovateľstvo,OŠE - 3. ročník Bc.
END:VEVENT
BEGIN:VEVENT
DTSTART;TZID=Europe/Bratislava:20260313T090000
DTEND;TZID=Europe/Bratislava:20260313T153000
DTSTAMP:20260425T175624
CREATED:20260116T070013Z
LAST-MODIFIED:20260116T070013Z
UID:49220-1773392400-1773415800@fsvladislava.sk
SUMMARY:PA 2.r. Bc. - Poradenstvo a príprava na rod. a pôrod II. - Seminárna miestnosť
DESCRIPTION:PA 2.r. Bc. – Poradenstvo a príprava na rod. a pôrod II. – Mgr. Dorazilová PhD. – Seminárna miestnosť
URL:https://fsvladislava.sk/rozvrh/pa-2-r-bc-poradenstvo-a-priprava-na-rod-a-porod-ii-seminarna-miestnost-2/
LOCATION:FNsP NZ  – Seminárna miestnosť
CATEGORIES:Odbor Pôrodná asistencia,PA - 2. ročník Bc.
END:VEVENT
BEGIN:VEVENT
DTSTART;TZID=Europe/Bratislava:20260313T120000
DTEND;TZID=Europe/Bratislava:20260313T183000
DTSTAMP:20260425T175624
CREATED:20260202T132652Z
LAST-MODIFIED:20260202T134133Z
UID:49414-1773403200-1773426600@fsvladislava.sk
SUMMARY:SP 1.r. Bc. - Seminárna práca - Online
DESCRIPTION:SP 1.r. Bc.  – Seminárna práca – doc. PhDr. Radi\, PhD. – Online
URL:https://fsvladislava.sk/rozvrh/ose-1-r-bc-seminarna-praca-online/
LOCATION:Online
CATEGORIES:Odbor Sociálna práca,SP - 1. ročník Bc.
END:VEVENT
BEGIN:VEVENT
DTSTART;TZID=Europe/Bratislava:20260313T120000
DTEND;TZID=Europe/Bratislava:20260313T203000
DTSTAMP:20260425T175624
CREATED:20260202T142008Z
LAST-MODIFIED:20260202T142008Z
UID:49476-1773403200-1773433800@fsvladislava.sk
SUMMARY:SP 1.r. Mgr. - Politika zamestnanosti - Online
DESCRIPTION:SP 1.r. Mgr. – Politika zamestnanosti – doc. Mgr. Ludvigh Cintulová\, PhD. univ. prof. – Online
URL:https://fsvladislava.sk/rozvrh/sp-1-r-mgr-politika-zamestnanosti-online/
LOCATION:Online
CATEGORIES:Odbor Sociálna práca,SP - 1. ročník Mgr.
END:VEVENT
BEGIN:VEVENT
DTSTART;TZID=Europe/Bratislava:20260313T170000
DTEND;TZID=Europe/Bratislava:20260313T183000
DTSTAMP:20260425T175624
CREATED:20260202T135558Z
LAST-MODIFIED:20260202T135558Z
UID:49444-1773421200-1773426600@fsvladislava.sk
SUMMARY:SP 2.r. Bc. - Sociálna patológia 1. časť - Online
DESCRIPTION:SP 2.r. Bc. – Sociálna patológia 1. časť – doc. PhDr. Špánik\, PhD. – Online
URL:https://fsvladislava.sk/rozvrh/sp-2-r-bc-socialna-patologia-1-cast-online/
LOCATION:Online
CATEGORIES:Odbor Sociálna práca,SP - 2. ročník Bc.
END:VEVENT
BEGIN:VEVENT
DTSTART;TZID=Europe/Bratislava:20260314T080000
DTEND;TZID=Europe/Bratislava:20260314T143000
DTSTAMP:20260425T175624
CREATED:20260202T142141Z
LAST-MODIFIED:20260202T142141Z
UID:49478-1773475200-1773498600@fsvladislava.sk
SUMMARY:SP 1.r. Mgr. - Mediácia - Zasadačka
DESCRIPTION:SP 1.r. Mgr. – Mediácia – PhDr. Demčák\, PhD. – Zasadačka
URL:https://fsvladislava.sk/rozvrh/sp-1-r-mgr-mediacia-zasadacka/
LOCATION:FNsP NZ – Zasadačka
CATEGORIES:Odbor Sociálna práca,SP - 1. ročník Mgr.
END:VEVENT
BEGIN:VEVENT
DTSTART;TZID=Europe/Bratislava:20260314T090000
DTEND;TZID=Europe/Bratislava:20260314T090000
DTSTAMP:20260425T175624
CREATED:20260126T082438Z
LAST-MODIFIED:20260126T082438Z
UID:49360-1773478800-1773478800@fsvladislava.sk
SUMMARY:SP 2.r. Bc. - Prezentácie kazuistík - Webex
DESCRIPTION:SP 2.r. Bc. – Prezentácie kazuistík – doc. Bundzelová – Webex
URL:https://fsvladislava.sk/rozvrh/sp-2-r-bc-prezentacie-kazuistik-webex/
LOCATION:Online – Webex
CATEGORIES:Odbor Sociálna práca,SP - 2. ročník Bc.
END:VEVENT
BEGIN:VEVENT
DTSTART;TZID=Europe/Bratislava:20260314T090000
DTEND;TZID=Europe/Bratislava:20260314T153000
DTSTAMP:20260425T175624
CREATED:20260202T132019Z
LAST-MODIFIED:20260202T134305Z
UID:49404-1773478800-1773502200@fsvladislava.sk
SUMMARY:SP 1.r. Bc. - Vývinová psychológia - Kinosála
DESCRIPTION:SP 1.r. Bc.  – Vývinová psychológia – doc. PhDr. Šovčíková\, CSc. – Kinosála
URL:https://fsvladislava.sk/rozvrh/ose-1-r-bc-vyvinova-psychologia-kinosala/
LOCATION:FNsP NZ  – Kinosála
CATEGORIES:Odbor Sociálna práca,SP - 1. ročník Bc.
END:VEVENT
BEGIN:VEVENT
DTSTART;TZID=Europe/Bratislava:20260316T090000
DTEND;TZID=Europe/Bratislava:20260316T100000
DTSTAMP:20260425T175624
CREATED:20260224T134414Z
LAST-MODIFIED:20260224T134414Z
UID:49645-1773651600-1773655200@fsvladislava.sk
SUMMARY:OŠE 4.r. Bc. - OŠE vo vybraných med. odboroch - Predtermín - Kinosála
DESCRIPTION:OŠE 4.r. Bc. – OŠE vo vybraných med. odboroch – Predtermín – Dr. Vadkertiová – Kinosála
URL:https://fsvladislava.sk/rozvrh/ose-4-r-bc-ose-vo-vybranych-med-odboroch-predtermin-kinosala/
LOCATION:FNsP NZ  – Kinosála
CATEGORIES:Odbor Ošetrovateľstvo,OŠE - 4. ročník Bc.
END:VEVENT
BEGIN:VEVENT
DTSTART;TZID=Europe/Bratislava:20260316T090000
DTEND;TZID=Europe/Bratislava:20260316T140000
DTSTAMP:20260425T175624
CREATED:20240124T064437Z
LAST-MODIFIED:20260109T072923Z
UID:42703-1773651600-1773669600@fsvladislava.sk
SUMMARY:PA 1.r. Bc. - Gynekológia I. - Zasadačka
DESCRIPTION:PA 1.r. Bc. – Gynekológia I. – Zasadačka
URL:https://fsvladislava.sk/rozvrh/pa-1-r-bc-gynekologia-i-urogynekologia-zasadacka/
LOCATION:FNsP NZ – Zasadačka
CATEGORIES:Odbor Pôrodná asistencia,PA - 1. ročník Bc.
END:VEVENT
BEGIN:VEVENT
DTSTART;TZID=Europe/Bratislava:20260316T100000
DTEND;TZID=Europe/Bratislava:20260316T160000
DTSTAMP:20260425T175624
CREATED:20260226T062458Z
LAST-MODIFIED:20260226T062458Z
UID:49669-1773655200-1773676800@fsvladislava.sk
SUMMARY:OŠE 2.r. Bc. -  Komunikácia v ošetrovateľstve - Kinosála
DESCRIPTION:OŠE 2.r. Bc. – Komunikácia v ošetrovateľstve – PhDr. E. Molnárová – Kinosála
URL:https://fsvladislava.sk/rozvrh/ose-2-r-bc-komunikacia-v-osetrovatelstve-kinosala/
LOCATION:FNsP NZ  – Kinosála
CATEGORIES:Odbor Ošetrovateľstvo,OŠE - 2. ročník Bc.
END:VEVENT
BEGIN:VEVENT
DTSTART;TZID=Europe/Bratislava:20260316T140000
DTEND;TZID=Europe/Bratislava:20260316T183000
DTSTAMP:20260425T175624
CREATED:20260108T064308Z
LAST-MODIFIED:20260108T064308Z
UID:48951-1773669600-1773685800@fsvladislava.sk
SUMMARY:PA 1.r. Bc. - Pôrodníctvo I. - Zasadačka
DESCRIPTION:PA 1.r. Bc. – Pôrodníctvo I. – prof. Bartkovjak – Zasadačka
URL:https://fsvladislava.sk/rozvrh/pa-1-r-bc-porodnictvo-i-zasadacka-13/
LOCATION:FNsP NZ – Zasadačka
CATEGORIES:Odbor Pôrodná asistencia,PA - 1. ročník Bc.
END:VEVENT
BEGIN:VEVENT
DTSTART;TZID=Europe/Bratislava:20260317T083000
DTEND;TZID=Europe/Bratislava:20260317T100000
DTSTAMP:20260425T175624
CREATED:20250903T060420Z
LAST-MODIFIED:20250903T060420Z
UID:47767-1773736200-1773741600@fsvladislava.sk
SUMMARY:FNsP NZ - Operatívna porada vedúcich zamestnancov - Zasadačka
DESCRIPTION:FNsP NZ – Operatívna porada vedúcich zamestnancov – Zasadačka
URL:https://fsvladislava.sk/rozvrh/fnsp-nz-operativna-porada-veducich-zamestnancov-zasadacka-61/
LOCATION:FNsP NZ – Zasadačka
CATEGORIES:FNsP NZ
END:VEVENT
BEGIN:VEVENT
DTSTART;TZID=Europe/Bratislava:20260317T090000
DTEND;TZID=Europe/Bratislava:20260317T153000
DTSTAMP:20260425T175624
CREATED:20250123T064032Z
LAST-MODIFIED:20260202T054607Z
UID:46807-1773738000-1773761400@fsvladislava.sk
SUMMARY:OŠE 2.r. Bc. - Dietetika  - Kinosála
DESCRIPTION:OŠE 2.r. Bc. – Prednáška: Dietetika – PhDr. Bystrická\, PhD. – Kinosála
URL:https://fsvladislava.sk/rozvrh/ose-2-r-bc-prednaska-kinosala/
LOCATION:FNsP NZ  – Kinosála
CATEGORIES:Odbor Ošetrovateľstvo,OŠE - 2. ročník Bc.
END:VEVENT
BEGIN:VEVENT
DTSTART;TZID=Europe/Bratislava:20260317T100000
DTEND;TZID=Europe/Bratislava:20260317T150000
DTSTAMP:20260425T175624
CREATED:20260310T090738Z
LAST-MODIFIED:20260310T090738Z
UID:49778-1773741600-1773759600@fsvladislava.sk
SUMMARY:FNsP NZ - DRG - Zasadačka
DESCRIPTION:FNsP NZ – DRG – Zasadačka
URL:https://fsvladislava.sk/rozvrh/fnsp-nz-drg-zasadacka-9/
LOCATION:FNsP NZ – Zasadačka
CATEGORIES:FNsP NZ
END:VEVENT
BEGIN:VEVENT
DTSTART;TZID=Europe/Bratislava:20260317T150000
DTEND;TZID=Europe/Bratislava:20260317T150000
DTSTAMP:20260425T175624
CREATED:20260227T071733Z
LAST-MODIFIED:20260227T071733Z
UID:49695-1773759600-1773759600@fsvladislava.sk
SUMMARY:OŠE 1.r. Bc. - SK ANF a Zdravotnícka terminológia  - Modrý dom SZŠ
DESCRIPTION:OŠE 1.r. Bc. – Skúška: ANF a Zdravotnícka terminológia – Dr. Kocsis – Modrý dom SZŠ
URL:https://fsvladislava.sk/rozvrh/ose-1-r-bc-sk-anf-a-zdravotnicka-terminologia-modry-dom-szs-23/
LOCATION:SZŠ EK – Modrý dom
CATEGORIES:Odbor Ošetrovateľstvo,OŠE - 1. ročník Bc.
END:VEVENT
BEGIN:VEVENT
DTSTART;TZID=Europe/Bratislava:20260318T090000
DTEND;TZID=Europe/Bratislava:20260318T150000
DTSTAMP:20260425T175624
CREATED:20260121T064708Z
LAST-MODIFIED:20260121T064708Z
UID:49286-1773824400-1773846000@fsvladislava.sk
SUMMARY:OŠE 2.r. Bc. - Interná medicína a ošetrovateľstvo v internej medicíne I. - Kinosála
DESCRIPTION:OŠE 2.r. Bc. – Interná medicína a ošetrovateľstvo v internej medicíne I. – MUDr. Borbély\, PhD. – Kinosála
URL:https://fsvladislava.sk/rozvrh/ose-2-r-bc-interna-medicina-a-osetrovatelstvo-v-internej-medicine-i-kinosala/
LOCATION:FNsP NZ  – Kinosála
CATEGORIES:Odbor Ošetrovateľstvo,OŠE - 2. ročník Bc.
END:VEVENT
END:VCALENDAR