BEGIN:VCALENDAR
VERSION:2.0
PRODID:-//Fakulta zdravotníctva a sociálnej práce sv. Ladislava, Nové Zámky - ECPv6.15.17//NONSGML v1.0//EN
CALSCALE:GREGORIAN
METHOD:PUBLISH
X-WR-CALNAME:Fakulta zdravotníctva a sociálnej práce sv. Ladislava, Nové Zámky
X-ORIGINAL-URL:https://fsvladislava.sk
X-WR-CALDESC:Udalosti pre Fakulta zdravotníctva a sociálnej práce sv. Ladislava, Nové Zámky
REFRESH-INTERVAL;VALUE=DURATION:PT1H
X-Robots-Tag:noindex
X-PUBLISHED-TTL:PT1H
BEGIN:VTIMEZONE
TZID:Europe/Bratislava
BEGIN:DAYLIGHT
TZOFFSETFROM:+0100
TZOFFSETTO:+0200
TZNAME:CEST
DTSTART:20250330T010000
END:DAYLIGHT
BEGIN:STANDARD
TZOFFSETFROM:+0200
TZOFFSETTO:+0100
TZNAME:CET
DTSTART:20251026T010000
END:STANDARD
BEGIN:DAYLIGHT
TZOFFSETFROM:+0100
TZOFFSETTO:+0200
TZNAME:CEST
DTSTART:20260329T010000
END:DAYLIGHT
BEGIN:STANDARD
TZOFFSETFROM:+0200
TZOFFSETTO:+0100
TZNAME:CET
DTSTART:20261025T010000
END:STANDARD
BEGIN:DAYLIGHT
TZOFFSETFROM:+0100
TZOFFSETTO:+0200
TZNAME:CEST
DTSTART:20270328T010000
END:DAYLIGHT
BEGIN:STANDARD
TZOFFSETFROM:+0200
TZOFFSETTO:+0100
TZNAME:CET
DTSTART:20271031T010000
END:STANDARD
END:VTIMEZONE
BEGIN:VEVENT
DTSTART;TZID=Europe/Bratislava:20260331T080000
DTEND;TZID=Europe/Bratislava:20260331T090000
DTSTAMP:20260425T161239
CREATED:20260312T133549Z
LAST-MODIFIED:20260312T133549Z
UID:49788-1774944000-1774947600@fsvladislava.sk
SUMMARY:OŠE 3.r. Bc. - SK Ošetrovateľstvo v pediatrii I. - Kinosála
DESCRIPTION:OŠE 3.r. Bc.  – Skúška: Ošetrovateľstvo v pediatrii I. – MUDr. Fekula – Kinosála
URL:https://fsvladislava.sk/rozvrh/ose-3-r-bc-sk-osetrovatelstvo-v-pediatrii-i-kinosala-2/
LOCATION:FNsP NZ  – Kinosála
CATEGORIES:Odbor Ošetrovateľstvo,OŠE - 3. ročník Bc.
END:VEVENT
BEGIN:VEVENT
DTSTART;TZID=Europe/Bratislava:20260331T083000
DTEND;TZID=Europe/Bratislava:20260331T100000
DTSTAMP:20260425T161239
CREATED:20250903T060500Z
LAST-MODIFIED:20250903T060500Z
UID:47771-1774945800-1774951200@fsvladislava.sk
SUMMARY:FNsP NZ - Operatívna porada vedúcich zamestnancov - Zasadačka
DESCRIPTION:FNsP NZ – Operatívna porada vedúcich zamestnancov – Zasadačka
URL:https://fsvladislava.sk/rozvrh/fnsp-nz-operativna-porada-veducich-zamestnancov-zasadacka-63/
LOCATION:FNsP NZ – Zasadačka
CATEGORIES:FNsP NZ
END:VEVENT
BEGIN:VEVENT
DTSTART;TZID=Europe/Bratislava:20260331T090000
DTEND;TZID=Europe/Bratislava:20260331T140000
DTSTAMP:20260425T161239
CREATED:20260108T064657Z
LAST-MODIFIED:20260108T064657Z
UID:48958-1774947600-1774965600@fsvladislava.sk
SUMMARY:PA 2.r. Bc. - Gynekológia III. - Seminárna miestnosť
DESCRIPTION:PA 2.r. Bc. – Gynekológia III. – Dr. Resutíková – Seminárna miestnosť
URL:https://fsvladislava.sk/rozvrh/pa-2-r-bc-gynekologia-iii-seminarna-miestnost-3/
LOCATION:FNsP NZ  – Seminárna miestnosť
CATEGORIES:Odbor Pôrodná asistencia,PA - 2. ročník Bc.
END:VEVENT
BEGIN:VEVENT
DTSTART;TZID=Europe/Bratislava:20260331T090000
DTEND;TZID=Europe/Bratislava:20260331T150000
DTSTAMP:20260425T161239
CREATED:20250203T072848Z
LAST-MODIFIED:20260127T105407Z
UID:46911-1774947600-1774969200@fsvladislava.sk
SUMMARY:OŠE 1.r. Bc. - Potreby pacientov a ošetrovateľský proces I. - Kinosála
DESCRIPTION:OŠE 1.r. Bc. – Prednáška: Potreby pacientov a ošetrovateľský proces I. – PhDr. Zuzana Bystrická\, PhD. – Kinosála
URL:https://fsvladislava.sk/rozvrh/ose-3-r-bc-potreby-pacientov-a-osetrovatelsky-proces-i-kinosala/
LOCATION:FNsP NZ  – Kinosála
CATEGORIES:Odbor Ošetrovateľstvo,OŠE - 1. ročník Bc.
END:VEVENT
BEGIN:VEVENT
DTSTART;TZID=Europe/Bratislava:20260331T140000
DTEND;TZID=Europe/Bratislava:20260331T140000
DTSTAMP:20260425T161239
CREATED:20260203T141344Z
LAST-MODIFIED:20260203T142357Z
UID:49519-1774965600-1774965600@fsvladislava.sk
SUMMARY:OŠE 1.r. Bc. - SK Ošetrovateľské postupy a techniky I. - Modrý dom
DESCRIPTION:OŠE 1.r. Bc. – Skúśka: Ošetrovateľské postupy a techniky I. – PhDr. Barteková – Modrý dom
URL:https://fsvladislava.sk/rozvrh/ose-1-r-bc-sk-osetrovatelske-postupy-a-techniky-i-modry-dom-2/
LOCATION:SZŠ EK – Modrý dom
CATEGORIES:Odbor Ošetrovateľstvo,OŠE - 1. ročník Bc.
END:VEVENT
BEGIN:VEVENT
DTSTART;TZID=Europe/Bratislava:20260331T140000
DTEND;TZID=Europe/Bratislava:20260331T183000
DTSTAMP:20260425T161239
CREATED:20260108T065747Z
LAST-MODIFIED:20260108T065747Z
UID:48967-1774965600-1774981800@fsvladislava.sk
SUMMARY:PA 2.r. Bc. - Pôrodníctvo III. - Seminárna miestnosť
DESCRIPTION:PA 2.r. Bc. – Pôrodníctvo III. – prof. Bartkovjak – Seminárna miestnosť
URL:https://fsvladislava.sk/rozvrh/pa-2-r-bc-porodnictvo-iii-seminarna-miestnost-4/
LOCATION:FNsP NZ  – Seminárna miestnosť
CATEGORIES:Odbor Pôrodná asistencia,PA - 2. ročník Bc.
END:VEVENT
BEGIN:VEVENT
DTSTART;TZID=Europe/Bratislava:20260331T233000
DTEND;TZID=Europe/Bratislava:20260331T233000
DTSTAMP:20260425T161239
CREATED:20260217T051650Z
LAST-MODIFIED:20260217T051748Z
UID:49617-1774999800-1774999800@fsvladislava.sk
SUMMARY:UZS 4.r. Bc. - Vloženie Bc. práce do EZP systému - Online
DESCRIPTION:UZS 4.r. Bc.  – Zber Bc. prác\, dokladov – Online
URL:https://fsvladislava.sk/rozvrh/uzs-4-r-bc-vlozenie-bc-prace-do-ezp-systemu-online/
LOCATION:Online
CATEGORIES:Odbor Urgentná zdravotná starostlivosť,UZS – 4. ročník Bc.
END:VEVENT
BEGIN:VEVENT
DTSTART;TZID=Europe/Bratislava:20260401T080000
DTEND;TZID=Europe/Bratislava:20260401T090000
DTSTAMP:20260425T161240
CREATED:20250911T080658Z
LAST-MODIFIED:20250911T080658Z
UID:47959-1775030400-1775034000@fsvladislava.sk
SUMMARY:FNsP NZ - Školenie HER - Zasadačka
DESCRIPTION:FNsP NZ – Školenie HER – Zasadačka
URL:https://fsvladislava.sk/rozvrh/fnsp-nz-skolenie-her-zasadacka-37/
LOCATION:FNsP NZ – Zasadačka
CATEGORIES:FNsP NZ
END:VEVENT
BEGIN:VEVENT
DTSTART;TZID=Europe/Bratislava:20260401T090000
DTEND;TZID=Europe/Bratislava:20260401T100000
DTSTAMP:20260425T161240
CREATED:20260318T100258Z
LAST-MODIFIED:20260318T100341Z
UID:49826-1775034000-1775037600@fsvladislava.sk
SUMMARY:FNsP NZ - BOZP - Zasadačka
DESCRIPTION:FNsP NZ – BOZP – Zasadačka
URL:https://fsvladislava.sk/rozvrh/fnsp-nz-bozp-zasadacka-13/
LOCATION:FNsP NZ – Zasadačka
CATEGORIES:FNsP NZ
END:VEVENT
BEGIN:VEVENT
DTSTART;TZID=Europe/Bratislava:20260401T190000
DTEND;TZID=Europe/Bratislava:20260401T190000
DTSTAMP:20260425T161240
CREATED:20260401T120027Z
LAST-MODIFIED:20260401T120027Z
UID:49936-1775070000-1775070000@fsvladislava.sk
SUMMARY:OŠE 2.r. Mgr. - OT SK Oše. starostlivosť o postihnutých - Elix
DESCRIPTION:OŠE 2.r. Mgr. –   OT Skúška: Oše. starostlivosť o postihnutých –  Dr. Fialová – Online – Elix
URL:https://fsvladislava.sk/rozvrh/ose-2-r-mgr-ot-sk-ose-starostlivost-o-postihnutych-elix-3/
LOCATION:Online – Elix
CATEGORIES:Odbor Ošetrovateľstvo,OŠE - 2. ročník Mgr.
END:VEVENT
BEGIN:VEVENT
DTSTART;TZID=Europe/Bratislava:20260401T190000
DTEND;TZID=Europe/Bratislava:20260401T190000
DTSTAMP:20260425T161240
CREATED:20260401T120147Z
LAST-MODIFIED:20260401T120147Z
UID:49938-1775070000-1775070000@fsvladislava.sk
SUMMARY:PA 3.r. Bc. – OT SK Verejné zdravie a kontrola infekčných chorôb - Elix
DESCRIPTION:PA 3.r. Bc. –  OT Skúška: Verejné zdravie a kontrola infekčných chorôb – Dr. Fialová – Online-Elix
URL:https://fsvladislava.sk/rozvrh/pa-3-r-bc-ot-sk-verejne-zdravie-a-kontrola-infekcnych-chorob-elix/
LOCATION:Online – Elix
CATEGORIES:Odbor Pôrodná asistencia,PA - 3. ročník Bc.
END:VEVENT
BEGIN:VEVENT
DTSTART;TZID=Europe/Bratislava:20260407T070000
DTEND;TZID=Europe/Bratislava:20260407T160000
DTSTAMP:20260425T161240
CREATED:20260323T113548Z
LAST-MODIFIED:20260323T113548Z
UID:49865-1775545200-1775577600@fsvladislava.sk
SUMMARY:OŠE 4.r. Bc. - SK Klinické cvičenia - Seminárna miestnosť
DESCRIPTION:OŠE 4.r. Bc. – Skúška: Klinické cvičenia – Dr. Bystrická – Seminárna miestnosť
URL:https://fsvladislava.sk/rozvrh/ose-4-r-bc-sk-klinicke-cvicenia-seminarna-miestnost/
LOCATION:FNsP NZ  – Seminárna miestnosť
CATEGORIES:Odbor Ošetrovateľstvo,OŠE - 4. ročník Bc.
END:VEVENT
BEGIN:VEVENT
DTSTART;TZID=Europe/Bratislava:20260407T083000
DTEND;TZID=Europe/Bratislava:20260407T100000
DTSTAMP:20260425T161240
CREATED:20250903T060801Z
LAST-MODIFIED:20250903T060801Z
UID:47773-1775550600-1775556000@fsvladislava.sk
SUMMARY:FNsP NZ - Operatívna porada vedúcich zamestnancov - Zasadačka
DESCRIPTION:FNsP NZ – Operatívna porada vedúcich zamestnancov – Zasadačka
URL:https://fsvladislava.sk/rozvrh/fnsp-nz-operativna-porada-veducich-zamestnancov-zasadacka-64/
LOCATION:FNsP NZ – Zasadačka
CATEGORIES:FNsP NZ
END:VEVENT
BEGIN:VEVENT
DTSTART;TZID=Europe/Bratislava:20260407T090000
DTEND;TZID=Europe/Bratislava:20260407T113000
DTSTAMP:20260425T161240
CREATED:20260325T104514Z
LAST-MODIFIED:20260325T104514Z
UID:49903-1775552400-1775561400@fsvladislava.sk
SUMMARY:OŠE 4.r. Bc. - SK Hygiena a preventívna medicína - Kinosála
DESCRIPTION:OŠE 4.r. Bc. – Skúška – Hygiena a preventívna medicína  PhDr. P. Hoppan – Kinosála
URL:https://fsvladislava.sk/rozvrh/ose-4-r-bc-sk-hygiena-a-preventivna-medicina-kinosala/
LOCATION:FNsP NZ  – Kinosála
CATEGORIES:Odbor Ošetrovateľstvo,OŠE - 4. ročník Bc.
END:VEVENT
BEGIN:VEVENT
DTSTART;TZID=Europe/Bratislava:20260407T100000
DTEND;TZID=Europe/Bratislava:20260407T160000
DTSTAMP:20260425T161240
CREATED:20260223T082224Z
LAST-MODIFIED:20260320T091346Z
UID:49631-1775556000-1775577600@fsvladislava.sk
SUMMARY:FNsP NZ -DRG - Zasadačka
DESCRIPTION:FNsP NZ – DRG – Zasadačka
URL:https://fsvladislava.sk/rozvrh/fnsp-nz-drg-zasadacka-8/
LOCATION:FNsP NZ – Zasadačka
CATEGORIES:FNsP NZ
END:VEVENT
BEGIN:VEVENT
DTSTART;TZID=Europe/Bratislava:20260408T080000
DTEND;TZID=Europe/Bratislava:20260408T090000
DTSTAMP:20260425T161240
CREATED:20250911T080714Z
LAST-MODIFIED:20250911T080714Z
UID:47961-1775635200-1775638800@fsvladislava.sk
SUMMARY:FNsP NZ - Školenie HER - Zasadačka
DESCRIPTION:FNsP NZ – Školenie HER – Zasadačka
URL:https://fsvladislava.sk/rozvrh/fnsp-nz-skolenie-her-zasadacka-38/
LOCATION:FNsP NZ – Zasadačka
CATEGORIES:FNsP NZ
END:VEVENT
BEGIN:VEVENT
DTSTART;TZID=Europe/Bratislava:20260408T090000
DTEND;TZID=Europe/Bratislava:20260408T153000
DTSTAMP:20260425T161240
CREATED:20260122T122751Z
LAST-MODIFIED:20260122T122751Z
UID:49328-1775638800-1775662200@fsvladislava.sk
SUMMARY:PA 1.r. Bc. - Profesijná etika - Zasadačka
DESCRIPTION:PA 1.r. Bc. – Profesijná etika – MUDr. Urban – Zasadačka
URL:https://fsvladislava.sk/rozvrh/pa-1-r-bc-profesijna-etika-zasadacka-2/
LOCATION:FNsP NZ – Zasadačka
CATEGORIES:Odbor Pôrodná asistencia,PA - 1. ročník Bc.
END:VEVENT
BEGIN:VEVENT
DTSTART;TZID=Europe/Bratislava:20260408T160000
DTEND;TZID=Europe/Bratislava:20260408T190000
DTSTAMP:20260425T161240
CREATED:20251112T123531Z
LAST-MODIFIED:20260126T063031Z
UID:48565-1775664000-1775674800@fsvladislava.sk
SUMMARY:PA 2.r. Bc. - ANU - ZOOM
DESCRIPTION:PA 2.r. Bc. – ANU – dr. Sádovská  – Online-ZOOM
URL:https://fsvladislava.sk/rozvrh/pa-2-r-bc-sk-cj-anj-iii-zoom/
LOCATION:Online – Zoom
CATEGORIES:Odbor Pôrodná asistencia,PA - 2. ročník Bc.
END:VEVENT
BEGIN:VEVENT
DTSTART;TZID=Europe/Bratislava:20260408T190000
DTEND;TZID=Europe/Bratislava:20260408T190000
DTSTAMP:20260425T161240
CREATED:20260319T063048Z
LAST-MODIFIED:20260319T063048Z
UID:49839-1775674800-1775674800@fsvladislava.sk
SUMMARY:OŠE 2.r. Mgr. - SK Manažment kvality zdravotníckych služieb - Elix
DESCRIPTION:OŠE 2.r. Mgr. – Skúška: Manažment kvality zdravotníckych služieb –  doc. Dubovcová – Online – Elix
URL:https://fsvladislava.sk/rozvrh/ose-2-r-mgr-sk-manazment-kvality-zdravotnickych-sluzieb-elix-3/
LOCATION:Online – Elix
CATEGORIES:Odbor Ošetrovateľstvo,OŠE - 2. ročník Mgr.
END:VEVENT
BEGIN:VEVENT
DTSTART;TZID=Europe/Bratislava:20260409T090000
DTEND;TZID=Europe/Bratislava:20260409T150000
DTSTAMP:20260425T161240
CREATED:20260317T103023Z
LAST-MODIFIED:20260317T103023Z
UID:49815-1775725200-1775746800@fsvladislava.sk
SUMMARY:FNsP NZ - Referát projektového manažérstva (školenie - VIOLET) - Kinosála
DESCRIPTION:FNsP NZ – Referát projektového manažérstva (školenie – VIOLET) – Kinosála
URL:https://fsvladislava.sk/rozvrh/fnsp-nz-referat-projektoveho-manazerstva-skolenie-violet-kinosala-2/
LOCATION:FNsP NZ  – Kinosála
CATEGORIES:FNsP NZ
END:VEVENT
BEGIN:VEVENT
DTSTART;TZID=Europe/Bratislava:20260409T090000
DTEND;TZID=Europe/Bratislava:20260409T153000
DTSTAMP:20260425T161240
CREATED:20260122T122809Z
LAST-MODIFIED:20260408T110902Z
UID:49330-1775725200-1775748600@fsvladislava.sk
SUMMARY:PA 1.r. Bc. - Profesijná etika - Webex
DESCRIPTION:PA 1.r. Bc. – Profesijná etika – MUDr. Urban – Webex
URL:https://fsvladislava.sk/rozvrh/pa-1-r-bc-profesijna-etika-zasadacka-3/
LOCATION:Webex
CATEGORIES:Odbor Pôrodná asistencia,PA - 1. ročník Bc.
END:VEVENT
BEGIN:VEVENT
DTSTART;TZID=Europe/Bratislava:20260409T170000
DTEND;TZID=Europe/Bratislava:20260409T170000
DTSTAMP:20260425T161240
CREATED:20260316T070249Z
LAST-MODIFIED:20260316T070249Z
UID:49795-1775754000-1775754000@fsvladislava.sk
SUMMARY:SP 1.r. Mgr. - SK Politika zamestnanosti - Zasadačka
DESCRIPTION:SP 1.r. Mgr. – Skúśka: Politika zamestnanosti – doc. Mgr. Ludvigh Cintulová\, PhD. univ. prof. – Zasadačka
URL:https://fsvladislava.sk/rozvrh/sp-1-r-mgr-sk-politika-zamestnanosti-zasadacka-3/
LOCATION:FNsP NZ – Zasadačka
CATEGORIES:Odbor Sociálna práca,SP - 1. ročník Mgr.
END:VEVENT
BEGIN:VEVENT
DTSTART;TZID=Europe/Bratislava:20260410T071500
DTEND;TZID=Europe/Bratislava:20260410T110000
DTSTAMP:20260425T161240
CREATED:20260410T075406Z
LAST-MODIFIED:20260410T092941Z
UID:50002-1775805300-1775818800@fsvladislava.sk
SUMMARY:OŠE 4.r. Bc. - SK Ošetrovateľstvo v onkológii  - Seminárna miestnosť II.
DESCRIPTION:OŠE 4.r. Bc. – Skúška: Ošetrovateľstvo v onkológii – Mgr. Samuelová – Seminárna miestnosť II.
URL:https://fsvladislava.sk/rozvrh/ose-4-r-bc-sk-onkologia-a-osetrovatelstvo-seminarna-miestnost-ii/
LOCATION:Seminárna miestnosť II.
CATEGORIES:Odbor Ošetrovateľstvo,OŠE - 4. ročník Bc.
END:VEVENT
BEGIN:VEVENT
DTSTART;TZID=Europe/Bratislava:20260410T090000
DTEND;TZID=Europe/Bratislava:20260410T120000
DTSTAMP:20260425T161240
CREATED:20260317T102930Z
LAST-MODIFIED:20260317T102930Z
UID:49811-1775811600-1775822400@fsvladislava.sk
SUMMARY:FNsP NZ - Referát projektového manažérstva (školenie - VIOLET) - Zasadačka
DESCRIPTION:FNsP NZ – Referát projektového manažérstva (školenie – VIOLET) – Zasadačka
URL:https://fsvladislava.sk/rozvrh/fnsp-nz-referat-projektoveho-manazerstva-skolenie-violet-zasadacka/
LOCATION:FNsP NZ – Zasadačka
CATEGORIES:FNsP NZ
END:VEVENT
BEGIN:VEVENT
DTSTART;TZID=Europe/Bratislava:20260410T090000
DTEND;TZID=Europe/Bratislava:20260410T150000
DTSTAMP:20260425T161240
CREATED:20260317T103005Z
LAST-MODIFIED:20260317T103005Z
UID:49813-1775811600-1775833200@fsvladislava.sk
SUMMARY:FNsP NZ - Referát projektového manažérstva (školenie - VIOLET) - Kinosála
DESCRIPTION:FNsP NZ – Referát projektového manažérstva (školenie – VIOLET) – Kinosála
URL:https://fsvladislava.sk/rozvrh/fnsp-nz-referat-projektoveho-manazerstva-skolenie-violet-kinosala/
LOCATION:FNsP NZ  – Kinosála
CATEGORIES:FNsP NZ
END:VEVENT
BEGIN:VEVENT
DTSTART;TZID=Europe/Bratislava:20260410T120000
DTEND;TZID=Europe/Bratislava:20260410T140000
DTSTAMP:20260425T161240
CREATED:20260202T142525Z
LAST-MODIFIED:20260202T142525Z
UID:49482-1775822400-1775829600@fsvladislava.sk
SUMMARY:SP 1.r. Mgr. - Odborná prax - práca s klientom pod supervíziou - Zasadačka
DESCRIPTION:SP 1.r. Mgr. – Odborná prax – práca s klientom pod supervíziou – PhDr. Buzalová\, PhD.\, univ. doc. – Zasadačka
URL:https://fsvladislava.sk/rozvrh/sp-1-r-mgr-odborna-prax-praca-s-klientom-pod-superviziou-zasadacka/
LOCATION:FNsP NZ – Zasadačka
CATEGORIES:Odbor Sociálna práca,SP - 1. ročník Mgr.
END:VEVENT
BEGIN:VEVENT
DTSTART;TZID=Europe/Bratislava:20260410T140000
DTEND;TZID=Europe/Bratislava:20260410T183000
DTSTAMP:20260425T161240
CREATED:20260202T142626Z
LAST-MODIFIED:20260202T142626Z
UID:49484-1775829600-1775845800@fsvladislava.sk
SUMMARY:SP 1.r. Mgr. - SP v paliatívnej starostlivosti 1. časť - Zasadačka
DESCRIPTION:SP 1.r. Mgr. – SP v paliatívnej starostlivosti 1. časť – PhDr. Nagy Gažová\, PhD. – Zasadačka
URL:https://fsvladislava.sk/rozvrh/sp-1-r-mgr-sp-v-paliativnej-starostlivosti-1-cast-zasadacka/
LOCATION:FNsP NZ – Zasadačka
CATEGORIES:Odbor Sociálna práca,SP - 1. ročník Mgr.
END:VEVENT
BEGIN:VEVENT
DTSTART;TZID=Europe/Bratislava:20260410T140000
DTEND;TZID=Europe/Bratislava:20260410T190000
DTSTAMP:20260425T161240
CREATED:20260316T071134Z
LAST-MODIFIED:20260316T071134Z
UID:49799-1775829600-1775847600@fsvladislava.sk
SUMMARY:SP 2.r. Bc. - SP s marginalizovanými rómskymi komunitami - Zoom
DESCRIPTION:SP 2.r. Bc. –  SP s marginalizovanými rómskymi komunitami – doc. Mgr. Ludvigh Cintulová\, PhD.\, univ. doc. – Zoom
URL:https://fsvladislava.sk/rozvrh/sp-2-r-bc-sp-s-marginalizovanymi-romskymi-komunitami-zoom/
LOCATION:Online – Zoom
CATEGORIES:Odbor Sociálna práca,SP - 2. ročník Bc.
END:VEVENT
BEGIN:VEVENT
DTSTART;TZID=Europe/Bratislava:20260410T200000
DTEND;TZID=Europe/Bratislava:20260410T200000
DTSTAMP:20260425T161240
CREATED:20260202T141359Z
LAST-MODIFIED:20260408T052459Z
UID:49466-1775851200-1775851200@fsvladislava.sk
SUMMARY:SP 3.r. Bc. - SK SP vo verejnej správe - Elix
DESCRIPTION:SP 3.r. Bc. – Skúška: SP vo verejnej správe – PhDr. Demčák\, PhD. – Elix
URL:https://fsvladislava.sk/rozvrh/sp-3-r-bc-sp-vo-verejnej-sprave-kinosala-2/
LOCATION:Online – Elix
CATEGORIES:Odbor Sociálna práca,SP - 3. ročník Bc.
END:VEVENT
BEGIN:VEVENT
DTSTART;TZID=Europe/Bratislava:20260411T080000
DTEND;TZID=Europe/Bratislava:20260411T103000
DTSTAMP:20260425T161240
CREATED:20260202T142741Z
LAST-MODIFIED:20260318T094552Z
UID:49486-1775894400-1775903400@fsvladislava.sk
SUMMARY:SP 1.r. Mgr. - SP v paliatívnej starostlivosti 2. časť - Online
DESCRIPTION:SP 1.r. Mgr. – SP v paliatívnej starostlivosti 2. časť – prof. MUDR. Bartkovjak\, PhD. – Online
URL:https://fsvladislava.sk/rozvrh/sp-1-r-mgr-sp-v-paliativnej-starostlivosti-2-cast-online/
LOCATION:Online
CATEGORIES:Odbor Sociálna práca,SP - 1. ročník Mgr.
END:VEVENT
END:VCALENDAR