BEGIN:VCALENDAR
VERSION:2.0
PRODID:-//Fakulta zdravotníctva a sociálnej práce sv. Ladislava, Nové Zámky - ECPv6.15.17//NONSGML v1.0//EN
CALSCALE:GREGORIAN
METHOD:PUBLISH
X-WR-CALNAME:Fakulta zdravotníctva a sociálnej práce sv. Ladislava, Nové Zámky
X-ORIGINAL-URL:https://fsvladislava.sk
X-WR-CALDESC:Udalosti pre Fakulta zdravotníctva a sociálnej práce sv. Ladislava, Nové Zámky
REFRESH-INTERVAL;VALUE=DURATION:PT1H
X-Robots-Tag:noindex
X-PUBLISHED-TTL:PT1H
BEGIN:VTIMEZONE
TZID:Europe/Bratislava
BEGIN:DAYLIGHT
TZOFFSETFROM:+0100
TZOFFSETTO:+0200
TZNAME:CEST
DTSTART:20250330T010000
END:DAYLIGHT
BEGIN:STANDARD
TZOFFSETFROM:+0200
TZOFFSETTO:+0100
TZNAME:CET
DTSTART:20251026T010000
END:STANDARD
BEGIN:DAYLIGHT
TZOFFSETFROM:+0100
TZOFFSETTO:+0200
TZNAME:CEST
DTSTART:20260329T010000
END:DAYLIGHT
BEGIN:STANDARD
TZOFFSETFROM:+0200
TZOFFSETTO:+0100
TZNAME:CET
DTSTART:20261025T010000
END:STANDARD
BEGIN:DAYLIGHT
TZOFFSETFROM:+0100
TZOFFSETTO:+0200
TZNAME:CEST
DTSTART:20270328T010000
END:DAYLIGHT
BEGIN:STANDARD
TZOFFSETFROM:+0200
TZOFFSETTO:+0100
TZNAME:CET
DTSTART:20271031T010000
END:STANDARD
END:VTIMEZONE
BEGIN:VEVENT
DTSTART;TZID=Europe/Bratislava:20260512T083000
DTEND;TZID=Europe/Bratislava:20260512T100000
DTSTAMP:20260425T175614
CREATED:20250903T060915Z
LAST-MODIFIED:20250903T060915Z
UID:47781-1778574600-1778580000@fsvladislava.sk
SUMMARY:FNsP NZ - Operatívna porada vedúcich zamestnancov - Zasadačka
DESCRIPTION:FNsP NZ – Operatívna porada vedúcich zamestnancov – Zasadačka
URL:https://fsvladislava.sk/rozvrh/fnsp-nz-operativna-porada-veducich-zamestnancov-zasadacka-68/
LOCATION:FNsP NZ – Zasadačka
CATEGORIES:FNsP NZ
END:VEVENT
BEGIN:VEVENT
DTSTART;TZID=Europe/Bratislava:20260512T090000
DTEND;TZID=Europe/Bratislava:20260512T113000
DTSTAMP:20260425T175614
CREATED:20260325T104334Z
LAST-MODIFIED:20260325T104334Z
UID:49897-1778576400-1778585400@fsvladislava.sk
SUMMARY:OŠE 1.r. Bc. - SK Hygiena a preventívna medicína - Kinosála
DESCRIPTION:OŠE 1.r. Bc. – Skúška – Hygiena a preventívna medicína  PhDr. P. Hoppan – Kinosála
URL:https://fsvladislava.sk/rozvrh/ose-1-r-bc-sk-hygiena-a-preventivna-medicina-kinosala-2/
LOCATION:FNsP NZ  – Kinosála
CATEGORIES:Odbor Ošetrovateľstvo,OŠE - 1. ročník Bc.
END:VEVENT
BEGIN:VEVENT
DTSTART;TZID=Europe/Bratislava:20260512T130000
DTEND;TZID=Europe/Bratislava:20260512T130000
DTSTAMP:20260425T175614
CREATED:20260423T120235Z
LAST-MODIFIED:20260423T120235Z
UID:50121-1778590800-1778590800@fsvladislava.sk
SUMMARY:FNsP NZ - Primárska porada - Zasadačka
DESCRIPTION:FNsP NZ – Primárska porada – Zasadačka
URL:https://fsvladislava.sk/rozvrh/fnsp-nz-primarska-porada-zasadacka-4/
LOCATION:FNsP NZ – Zasadačka
CATEGORIES:FNsP NZ
END:VEVENT
BEGIN:VEVENT
DTSTART;TZID=Europe/Bratislava:20260513T070000
DTEND;TZID=Europe/Bratislava:20260516T170000
DTSTAMP:20260425T175614
CREATED:20251002T084203Z
LAST-MODIFIED:20260114T113936Z
UID:48294-1778655600-1778950800@fsvladislava.sk
SUMMARY:Fakulta sv. Ladislava - SP Mgr. štátnice - Seminárna miestnosť
DESCRIPTION:Fakulta sv. Ladislava – SP Mgr. štátnice – Seminárna miestnosť
URL:https://fsvladislava.sk/rozvrh/fakulta-sv-ladislava-sp-mgr-statnice-seminarna-miestnost/
LOCATION:FNsP NZ  – Seminárna miestnosť
CATEGORIES:Fakulta
END:VEVENT
BEGIN:VEVENT
DTSTART;TZID=Europe/Bratislava:20260513T070000
DTEND;TZID=Europe/Bratislava:20260516T170000
DTSTAMP:20260425T175614
CREATED:20251002T084210Z
LAST-MODIFIED:20260114T113919Z
UID:48295-1778655600-1778950800@fsvladislava.sk
SUMMARY:Fakulta sv. Ladislava - SP Mgr. štátnice - Zasadačka
DESCRIPTION:Fakulta sv. Ladislava – SP Mgr. štátnice – Zasadačka
URL:https://fsvladislava.sk/rozvrh/fakulta-sv-ladislava-sp-mgr-statnice-zasadacka/
LOCATION:FNsP NZ – Zasadačka
CATEGORIES:Fakulta
END:VEVENT
BEGIN:VEVENT
DTSTART;TZID=Europe/Bratislava:20260513T080000
DTEND;TZID=Europe/Bratislava:20260513T090000
DTSTAMP:20260425T175614
CREATED:20250911T080746Z
LAST-MODIFIED:20250911T080746Z
UID:47965-1778659200-1778662800@fsvladislava.sk
SUMMARY:FNsP NZ - Školenie HER - Zasadačka
DESCRIPTION:FNsP NZ – Školenie HER – Zasadačka
URL:https://fsvladislava.sk/rozvrh/fnsp-nz-skolenie-her-zasadacka-40/
LOCATION:FNsP NZ – Zasadačka
CATEGORIES:FNsP NZ
END:VEVENT
BEGIN:VEVENT
DTSTART;TZID=Europe/Bratislava:20260513T090000
DTEND;TZID=Europe/Bratislava:20260513T103000
DTSTAMP:20260425T175614
CREATED:20260316T080946Z
LAST-MODIFIED:20260316T080946Z
UID:49805-1778662800-1778668200@fsvladislava.sk
SUMMARY:OŠE 3.r. Bc. - SK Ošetrovateľstvo v starostlivosti o mentálne zdravie  v psychiatrii - Kinosála
DESCRIPTION:OŠE 3.r. Bc. – Skúška: Ošetrovateľstvo v starostlivosti o mentálne zdravie v psychiatrii – Kinosála
URL:https://fsvladislava.sk/rozvrh/ose-3-r-bc-sk-osetrovatelstvo-v-starostlivosti-o-mentalne-zdravie-v-psychiatrii-kinosala-2/
LOCATION:FNsP NZ  – Kinosála
CATEGORIES:Odbor Ošetrovateľstvo,OŠE - 3. ročník Bc.
END:VEVENT
BEGIN:VEVENT
DTSTART;TZID=Europe/Bratislava:20260514T080000
DTEND;TZID=Europe/Bratislava:20260514T163000
DTSTAMP:20260425T175614
CREATED:20260416T075508Z
LAST-MODIFIED:20260416T075508Z
UID:50066-1778745600-1778776200@fsvladislava.sk
SUMMARY:OŠE 3.r. Bc. - Ošetrovateľstvo v gynekológii a pôrodníctve I. - Webex
DESCRIPTION:OŠE 3.r. Bc. – Ošetrovateľstvo v gynekológii a pôrodníctve I. – prof. Phdr. Ľ. Libová\, PhD.\, MPH – Webex
URL:https://fsvladislava.sk/rozvrh/ose-3-r-bc-osetrovatelstvo-v-gynekologii-a-porodnictve-i-webex/
LOCATION:Online – Webex
CATEGORIES:Odbor Ošetrovateľstvo,OŠE - 3. ročník Bc.
END:VEVENT
BEGIN:VEVENT
DTSTART;TZID=Europe/Bratislava:20260514T090000
DTEND;TZID=Europe/Bratislava:20260514T153000
DTSTAMP:20260425T175614
CREATED:20260309T173520Z
LAST-MODIFIED:20260309T173520Z
UID:49763-1778749200-1778772600@fsvladislava.sk
SUMMARY:PA 1.r. Bc. - GYO I.  - Kinosála
DESCRIPTION:PA 1.r. Bc. – GYO I.  – doc. Simočková – Kinosála
URL:https://fsvladislava.sk/rozvrh/pa-1-r-bc-gyo-i-kinosala/
LOCATION:FNsP NZ  – Kinosála
CATEGORIES:Odbor Pôrodná asistencia,PA - 1. ročník Bc.
END:VEVENT
BEGIN:VEVENT
DTSTART;TZID=Europe/Bratislava:20260515T090000
DTEND;TZID=Europe/Bratislava:20260515T153000
DTSTAMP:20260425T175614
CREATED:20260309T173534Z
LAST-MODIFIED:20260309T173534Z
UID:49765-1778835600-1778859000@fsvladislava.sk
SUMMARY:PA 1.r. Bc. - GYO I.  - Kinosála
DESCRIPTION:PA 1.r. Bc. – GYO I.  – doc. Simočková – Kinosála
URL:https://fsvladislava.sk/rozvrh/pa-1-r-bc-gyo-i-kinosala-2/
LOCATION:FNsP NZ  – Kinosála
CATEGORIES:Odbor Pôrodná asistencia,PA - 1. ročník Bc.
END:VEVENT
BEGIN:VEVENT
DTSTART;TZID=Europe/Bratislava:20260515T133000
DTEND;TZID=Europe/Bratislava:20260515T133000
DTSTAMP:20260425T175614
CREATED:20260421T100042Z
LAST-MODIFIED:20260421T100042Z
UID:50092-1778851800-1778851800@fsvladislava.sk
SUMMARY:SP 1.r. Mgr. - SK Teória SP - Zasadačka
DESCRIPTION:SP 1.r. Mgr. –  Skúška: Teória SP – prof. Ing. Mgr. Radková\, PhD. – Zasadačka
URL:https://fsvladislava.sk/rozvrh/sp-1-r-mgr-sk-teoria-sp-zasadacka/
LOCATION:FNsP NZ – Zasadačka
CATEGORIES:Odbor Sociálna práca,SP - 1. ročník Mgr.
ORGANIZER;CN="prof. Radkov%C3%A1":MAILTO:libusa.radkova@gmail.com
END:VEVENT
BEGIN:VEVENT
DTSTART;TZID=Europe/Bratislava:20260515T153000
DTEND;TZID=Europe/Bratislava:20260515T153000
DTSTAMP:20260425T175614
CREATED:20260408T125611Z
LAST-MODIFIED:20260408T125611Z
UID:49968-1778859000-1778859000@fsvladislava.sk
SUMMARY:PA 1.r. Bc. - SK Profesijná etika - Kinosála
DESCRIPTION:PA 1.r. Bc. – Skúška: Profesijná etika – MUDr. Urban – Kinosála
URL:https://fsvladislava.sk/rozvrh/pa-1-r-bc-sk-profesijna-etika-kinosala/
LOCATION:FNsP NZ  – Kinosála
CATEGORIES:Odbor Pôrodná asistencia,PA - 1. ročník Bc.
END:VEVENT
BEGIN:VEVENT
DTSTART;TZID=Europe/Bratislava:20260516T080000
DTEND;TZID=Europe/Bratislava:20260516T080000
DTSTAMP:20260425T175614
CREATED:20260202T132431Z
LAST-MODIFIED:20260202T134500Z
UID:49410-1778918400-1778918400@fsvladislava.sk
SUMMARY:SP 1.r. Bc. - SP a projekty sv. Alžbety - Kinosála
DESCRIPTION:SP 1.r. Bc.  – SP a projekty sv. Alžbety – PhDr.Nagy Gažová\, PhD. – Kinosála
URL:https://fsvladislava.sk/rozvrh/ose-1-r-bc-sp-a-projekty-sv-alzbety-kinosala/
LOCATION:FNsP NZ  – Kinosála
CATEGORIES:Odbor Sociálna práca,SP - 1. ročník Bc.
END:VEVENT
BEGIN:VEVENT
DTSTART;TZID=Europe/Bratislava:20260516T080000
DTEND;TZID=Europe/Bratislava:20260516T080000
DTSTAMP:20260425T175614
CREATED:20260408T053823Z
LAST-MODIFIED:20260408T053823Z
UID:49949-1778918400-1778918400@fsvladislava.sk
SUMMARY:SP 2.r. Bc. - SK SP s marginalizovanými rómskymi komunitami - Zoom
DESCRIPTION:SP 2.r. Bc. –  Skúška: SP s marginalizovanými rómskymi komunitami – doc. Mgr. Ludvigh Cintulová\, PhD.\, univ. doc. – Zoom
URL:https://fsvladislava.sk/rozvrh/sp-2-r-bc-sk-sp-s-marginalizovanymi-romskymi-komunitami-zoom/
LOCATION:Online – Zoom
CATEGORIES:Odbor Sociálna práca,SP - 2. ročník Bc.
END:VEVENT
BEGIN:VEVENT
DTSTART;TZID=Europe/Bratislava:20260516T080000
DTEND;TZID=Europe/Bratislava:20260516T080000
DTSTAMP:20260425T175614
CREATED:20260421T093202Z
LAST-MODIFIED:20260421T093202Z
UID:50090-1778918400-1778918400@fsvladislava.sk
SUMMARY:SP 1.r. Bc. - SK Teória a základy SP - Kinosála
DESCRIPTION:SP 1.r. Bc.  –  Skúška: Teória a základy SP – prof. Ing. Mgr. Radková\, PhD. – Kinosála
URL:https://fsvladislava.sk/rozvrh/sp-1-r-bc-sk-teoria-a-zaklady-sp-kinosala/
LOCATION:FNsP NZ  – Kinosála
CATEGORIES:Odbor Sociálna práca,SP - 1. ročník Bc.
ORGANIZER;CN="prof. Radkov%C3%A1":MAILTO:libusa.radkova@gmail.com
END:VEVENT
BEGIN:VEVENT
DTSTART;TZID=Europe/Bratislava:20260516T090000
DTEND;TZID=Europe/Bratislava:20260516T120000
DTSTAMP:20260425T175614
CREATED:20260318T105645Z
LAST-MODIFIED:20260408T054052Z
UID:49834-1778922000-1778932800@fsvladislava.sk
SUMMARY:SP 2.r. Bc. - Ročníková práca - Zasadačka
DESCRIPTION:SP 2.r. Bc.  – Ročníková práca – doc. PhDr. Radi\, PhD. – Zasadačka
URL:https://fsvladislava.sk/rozvrh/sp-2-r-bc-rocnikova-praca-zasadacka-2/
LOCATION:FNsP NZ – Zasadačka
CATEGORIES:Odbor Sociálna práca,SP - 2. ročník Bc.
END:VEVENT
BEGIN:VEVENT
DTSTART;TZID=Europe/Bratislava:20260516T100000
DTEND;TZID=Europe/Bratislava:20260516T100000
DTSTAMP:20260425T175614
CREATED:20260330T130156Z
LAST-MODIFIED:20260330T130156Z
UID:49924-1778925600-1778925600@fsvladislava.sk
SUMMARY:OŠE 1.r. Mgr. - SK Ochrana a podpora zdravia - Elix
DESCRIPTION:OŠE 1.r. Mgr. – Skúška: Ochrana a podpora zdravia – prof. Brodanská – Elix
URL:https://fsvladislava.sk/rozvrh/ose-1-r-mgr-sk-ochrana-a-podpora-zdravia-elix/
LOCATION:Online – Elix
CATEGORIES:Odbor Ošetrovateľstvo,OŠE - 1. ročník Mgr.
END:VEVENT
BEGIN:VEVENT
DTSTART;TZID=Europe/Bratislava:20260518T070000
DTEND;TZID=Europe/Bratislava:20260522T160000
DTSTAMP:20260425T175614
CREATED:20250714T042420Z
LAST-MODIFIED:20250714T042420Z
UID:47572-1779087600-1779465600@fsvladislava.sk
SUMMARY:Fakulta sv. Ladislava - OŠE 2.r. Mgr.- Štátna záverečná ústna skúška - Seminárna miestnosť
DESCRIPTION:Fakulta sv. Ladislava – OŠE 2.r.. Mgr. – Štátna záverečná ústna skúška – Seminárna miestnosť
URL:https://fsvladislava.sk/rozvrh/fakulta-sv-ladislava-ose-2-r-mgr-statna-zaverecna-ustna-skuska-seminarna-miestnost/
LOCATION:FNsP NZ  – Seminárna miestnosť
CATEGORIES:Fakulta
END:VEVENT
BEGIN:VEVENT
DTSTART;TZID=Europe/Bratislava:20260518T070000
DTEND;TZID=Europe/Bratislava:20260522T160000
DTSTAMP:20260425T175614
CREATED:20250714T042448Z
LAST-MODIFIED:20250714T042448Z
UID:47574-1779087600-1779465600@fsvladislava.sk
SUMMARY:Fakulta sv. Ladislava - OŠE 2.r. Mgr.- Štátna záverečná ústna skúška - Zasadačka
DESCRIPTION:Fakulta sv. Ladislava – OŠE 2.r.. Mgr. – Štátna záverečná ústna skúška – Zasadačka
URL:https://fsvladislava.sk/rozvrh/fakulta-sv-ladislava-ose-2-r-mgr-statna-zaverecna-ustna-skuska-zasadacka/
LOCATION:FNsP NZ – Zasadačka
CATEGORIES:Fakulta
END:VEVENT
BEGIN:VEVENT
DTSTART;TZID=Europe/Bratislava:20260518T080000
DTEND;TZID=Europe/Bratislava:20260518T110000
DTSTAMP:20260425T175614
CREATED:20260413T074314Z
LAST-MODIFIED:20260413T074331Z
UID:50017-1779091200-1779102000@fsvladislava.sk
SUMMARY:Fakulta sv. Ladislava - SZŠ - Kinosála
DESCRIPTION:Fakulta sv. Ladislava – SZŠ – Kinosála
URL:https://fsvladislava.sk/rozvrh/fakulta-sv-ladislava-szs-kinosala-9/
LOCATION:FNsP NZ  – Kinosála
CATEGORIES:Fakulta
END:VEVENT
BEGIN:VEVENT
DTSTART;TZID=Europe/Bratislava:20260518T190000
DTEND;TZID=Europe/Bratislava:20260518T190000
DTSTAMP:20260425T175614
CREATED:20260330T130229Z
LAST-MODIFIED:20260330T130229Z
UID:49926-1779130800-1779130800@fsvladislava.sk
SUMMARY:OŠE 1.r. Mgr. - SK Ochrana a podpora zdravia - Elix
DESCRIPTION:OŠE 1.r. Mgr. – Skúška: Ochrana a podpora zdravia – prof. Brodanská – Elix
URL:https://fsvladislava.sk/rozvrh/ose-1-r-mgr-sk-ochrana-a-podpora-zdravia-elix-2/
LOCATION:Online – Elix
CATEGORIES:Odbor Ošetrovateľstvo,OŠE - 1. ročník Mgr.
END:VEVENT
BEGIN:VEVENT
DTSTART;TZID=Europe/Bratislava:20260519T090000
DTEND;TZID=Europe/Bratislava:20260519T113000
DTSTAMP:20260425T175614
CREATED:20260325T104403Z
LAST-MODIFIED:20260325T104403Z
UID:49899-1779181200-1779190200@fsvladislava.sk
SUMMARY:OŠE 1.r. Bc. - SK Hygiena a preventívna medicína - Kinosála
DESCRIPTION:OŠE 1.r. Bc. – Skúška – Hygiena a preventívna medicína  PhDr. P. Hoppan – Kinosála
URL:https://fsvladislava.sk/rozvrh/ose-1-r-bc-sk-hygiena-a-preventivna-medicina-kinosala-3/
LOCATION:FNsP NZ  – Kinosála
CATEGORIES:Odbor Ošetrovateľstvo,OŠE - 1. ročník Bc.
END:VEVENT
BEGIN:VEVENT
DTSTART;TZID=Europe/Bratislava:20260520T083000
DTEND;TZID=Europe/Bratislava:20260520T110000
DTSTAMP:20260425T175614
CREATED:20260317T141109Z
LAST-MODIFIED:20260317T141109Z
UID:49824-1779265800-1779274800@fsvladislava.sk
SUMMARY:OŠE 3.r. Bc. - SK Komunitné ošetrovateľstvo - Kinosála
DESCRIPTION:OŠE 3.r. Bc.  – Skúška: Komunitné ošetrovateľstvo – PhDr. Nagyová\, PhD. – Kinosála
URL:https://fsvladislava.sk/rozvrh/ose-3-r-bc-sk-komunitne-osetrovatelstvo-kinosala/
LOCATION:FNsP NZ  – Kinosála
CATEGORIES:Odbor Ošetrovateľstvo,OŠE - 3. ročník Bc.
END:VEVENT
BEGIN:VEVENT
DTSTART;TZID=Europe/Bratislava:20260520T113000
DTEND;TZID=Europe/Bratislava:20260520T170000
DTSTAMP:20260425T175614
CREATED:20260416T053346Z
LAST-MODIFIED:20260420T052631Z
UID:50060-1779276600-1779296400@fsvladislava.sk
SUMMARY:OŠE 2.r. Bc. - Chirurgia a OŠE v chirurgii I. - Kinosála
DESCRIPTION:OŠE 2.r. Bc. – Chirurgia a OŠE v chirurgii I. – MUDr. Danczi – Kinosála
URL:https://fsvladislava.sk/rozvrh/ose-2-r-bc-chirurgia-a-ose-v-chirurgii-i-kinosala/
LOCATION:FNsP NZ  – Kinosála
CATEGORIES:Odbor Ošetrovateľstvo,OŠE - 2. ročník Bc.
END:VEVENT
BEGIN:VEVENT
DTSTART;TZID=Europe/Bratislava:20260521T130000
DTEND;TZID=Europe/Bratislava:20260521T140000
DTSTAMP:20260425T175614
CREATED:20260416T052348Z
LAST-MODIFIED:20260416T052348Z
UID:50058-1779368400-1779372000@fsvladislava.sk
SUMMARY:OŠE 2.r. Bc. - SK Interná medicína a ošetrovateľstvo v internej medicíne I. - Kinosála
DESCRIPTION:OŠE 2.r. Bc. – Skúška: Interná medicína a ošetrovateľstvo v internej medicíne I. – MUDr. Borbély\, PhD. – Kinosála
URL:https://fsvladislava.sk/rozvrh/ose-2-r-bc-sk-interna-medicina-a-osetrovatelstvo-v-internej-medicine-i-kinosala/
LOCATION:FNsP NZ  – Kinosála
CATEGORIES:Odbor Ošetrovateľstvo,OŠE - 2. ročník Bc.
END:VEVENT
BEGIN:VEVENT
DTSTART;TZID=Europe/Bratislava:20260523T090000
DTEND;TZID=Europe/Bratislava:20260523T170000
DTSTAMP:20260425T175614
CREATED:20260202T132311Z
LAST-MODIFIED:20260206T064903Z
UID:49408-1779526800-1779555600@fsvladislava.sk
SUMMARY:SP 1.r. Bc. - Základy prvej pomoci - Kinosála
DESCRIPTION:SP 1.r. Bc.  – Základy prvej pomoci – PhDr. Sebesztyénová\, PhD. – Kinosála
URL:https://fsvladislava.sk/rozvrh/ose-1-r-bc-zaklady-prvej-pomoci-kinosala/
LOCATION:FNsP NZ  – Kinosála
CATEGORIES:Odbor Sociálna práca,SP - 1. ročník Bc.
END:VEVENT
BEGIN:VEVENT
DTSTART;TZID=Europe/Bratislava:20260523T180000
DTEND;TZID=Europe/Bratislava:20260523T180000
DTSTAMP:20260425T175614
CREATED:20260420T054030Z
LAST-MODIFIED:20260420T054230Z
UID:50083-1779559200-1779559200@fsvladislava.sk
SUMMARY:SP 3.r. Bc. - SK Sociálne zabezpečenie - Online
DESCRIPTION:SP 3.r. Bc. – Skúška: Sociálne zabezpečenie – doc. Mgr. Ludvigh Cintulová\, PhD.\, univ. doc. – Online
URL:https://fsvladislava.sk/rozvrh/sp-2-r-bc-sk-socialne-zabezpecenie-online/
LOCATION:Online
CATEGORIES:Odbor Sociálna práca,SP - 3. ročník Bc.
END:VEVENT
BEGIN:VEVENT
DTSTART;TZID=Europe/Bratislava:20260525T070000
DTEND;TZID=Europe/Bratislava:20260525T180000
DTSTAMP:20260425T175614
CREATED:20260114T093433Z
LAST-MODIFIED:20260114T093433Z
UID:49151-1779692400-1779732000@fsvladislava.sk
SUMMARY:Fakulta sv. Ladislava - UZS Bc. Ústna ŠS - Seminárna miestnosť
DESCRIPTION:Fakulta sv. Ladislava – UZS Bc. Ústna ŠS – Seminárna miestnosť
URL:https://fsvladislava.sk/rozvrh/fakulta-sv-ladislava-uzs-bc-ustna-ss-seminarna-miestnost/
LOCATION:FNsP NZ  – Seminárna miestnosť
CATEGORIES:Fakulta
END:VEVENT
BEGIN:VEVENT
DTSTART;TZID=Europe/Bratislava:20260525T083000
DTEND;TZID=Europe/Bratislava:20260525T100000
DTSTAMP:20260425T175614
CREATED:20260114T115755Z
LAST-MODIFIED:20260114T115810Z
UID:49162-1779697800-1779703200@fsvladislava.sk
SUMMARY:FNsP NZ - Rezervované nemocnica - Zasadačka
DESCRIPTION:FNsP NZ – Rezervované nemocnica – Zasadačka
URL:https://fsvladislava.sk/rozvrh/fnsp-nz-rezervovane-nemocnica-zasadacka-2/
LOCATION:FNsP NZ – Zasadačka
CATEGORIES:FNsP NZ
END:VEVENT
BEGIN:VEVENT
DTSTART;TZID=Europe/Bratislava:20260525T090000
DTEND;TZID=Europe/Bratislava:20260525T100000
DTSTAMP:20260425T175614
CREATED:20260416T075609Z
LAST-MODIFIED:20260416T075609Z
UID:50068-1779699600-1779703200@fsvladislava.sk
SUMMARY:OŠE 3.r. Bc. - SK Ošetrovateľstvo v gynekológii a pôrodníctve I. - Kinosála
DESCRIPTION:OŠE 3.r. Bc. – Skúška: Ošetrovateľstvo v gynekológii a pôrodníctve I. – prof. Phdr. Ľ. Libová\, PhD.\, MPH – Kinosála
URL:https://fsvladislava.sk/rozvrh/ose-3-r-bc-sk-osetrovatelstvo-v-gynekologii-a-porodnictve-i-kinosala/
LOCATION:FNsP NZ  – Kinosála
CATEGORIES:Odbor Ošetrovateľstvo,OŠE - 3. ročník Bc.
END:VEVENT
END:VCALENDAR