BEGIN:VCALENDAR
VERSION:2.0
PRODID:-//Fakulta zdravotníctva a sociálnej práce sv. Ladislava, Nové Zámky - ECPv6.15.17//NONSGML v1.0//EN
CALSCALE:GREGORIAN
METHOD:PUBLISH
X-ORIGINAL-URL:https://fsvladislava.sk
X-WR-CALDESC:Udalosti pre Fakulta zdravotníctva a sociálnej práce sv. Ladislava, Nové Zámky
REFRESH-INTERVAL;VALUE=DURATION:PT1H
X-Robots-Tag:noindex
X-PUBLISHED-TTL:PT1H
BEGIN:VTIMEZONE
TZID:Europe/Bratislava
BEGIN:DAYLIGHT
TZOFFSETFROM:+0100
TZOFFSETTO:+0200
TZNAME:CEST
DTSTART:20250330T010000
END:DAYLIGHT
BEGIN:STANDARD
TZOFFSETFROM:+0200
TZOFFSETTO:+0100
TZNAME:CET
DTSTART:20251026T010000
END:STANDARD
BEGIN:DAYLIGHT
TZOFFSETFROM:+0100
TZOFFSETTO:+0200
TZNAME:CEST
DTSTART:20260329T010000
END:DAYLIGHT
BEGIN:STANDARD
TZOFFSETFROM:+0200
TZOFFSETTO:+0100
TZNAME:CET
DTSTART:20261025T010000
END:STANDARD
BEGIN:DAYLIGHT
TZOFFSETFROM:+0100
TZOFFSETTO:+0200
TZNAME:CEST
DTSTART:20270328T010000
END:DAYLIGHT
BEGIN:STANDARD
TZOFFSETFROM:+0200
TZOFFSETTO:+0100
TZNAME:CET
DTSTART:20271031T010000
END:STANDARD
END:VTIMEZONE
BEGIN:VEVENT
DTSTART;TZID=Europe/Bratislava:20260316T090000
DTEND;TZID=Europe/Bratislava:20260316T100000
DTSTAMP:20260425T173520
CREATED:20260224T134414Z
LAST-MODIFIED:20260224T134414Z
UID:49645-1773651600-1773655200@fsvladislava.sk
SUMMARY:OŠE 4.r. Bc. - OŠE vo vybraných med. odboroch - Predtermín - Kinosála
DESCRIPTION:OŠE 4.r. Bc. – OŠE vo vybraných med. odboroch – Predtermín – Dr. Vadkertiová – Kinosála
URL:https://fsvladislava.sk/rozvrh/ose-4-r-bc-ose-vo-vybranych-med-odboroch-predtermin-kinosala/
LOCATION:FNsP NZ  – Kinosála
CATEGORIES:Odbor Ošetrovateľstvo,OŠE - 4. ročník Bc.
END:VEVENT
BEGIN:VEVENT
DTSTART;TZID=Europe/Bratislava:20260316T090000
DTEND;TZID=Europe/Bratislava:20260316T140000
DTSTAMP:20260425T173520
CREATED:20240124T064437Z
LAST-MODIFIED:20260109T072923Z
UID:42703-1773651600-1773669600@fsvladislava.sk
SUMMARY:PA 1.r. Bc. - Gynekológia I. - Zasadačka
DESCRIPTION:PA 1.r. Bc. – Gynekológia I. – Zasadačka
URL:https://fsvladislava.sk/rozvrh/pa-1-r-bc-gynekologia-i-urogynekologia-zasadacka/
LOCATION:FNsP NZ – Zasadačka
CATEGORIES:Odbor Pôrodná asistencia,PA - 1. ročník Bc.
END:VEVENT
BEGIN:VEVENT
DTSTART;TZID=Europe/Bratislava:20260316T100000
DTEND;TZID=Europe/Bratislava:20260316T160000
DTSTAMP:20260425T173520
CREATED:20260226T062458Z
LAST-MODIFIED:20260226T062458Z
UID:49669-1773655200-1773676800@fsvladislava.sk
SUMMARY:OŠE 2.r. Bc. -  Komunikácia v ošetrovateľstve - Kinosála
DESCRIPTION:OŠE 2.r. Bc. – Komunikácia v ošetrovateľstve – PhDr. E. Molnárová – Kinosála
URL:https://fsvladislava.sk/rozvrh/ose-2-r-bc-komunikacia-v-osetrovatelstve-kinosala/
LOCATION:FNsP NZ  – Kinosála
CATEGORIES:Odbor Ošetrovateľstvo,OŠE - 2. ročník Bc.
END:VEVENT
BEGIN:VEVENT
DTSTART;TZID=Europe/Bratislava:20260316T140000
DTEND;TZID=Europe/Bratislava:20260316T183000
DTSTAMP:20260425T173520
CREATED:20260108T064308Z
LAST-MODIFIED:20260108T064308Z
UID:48951-1773669600-1773685800@fsvladislava.sk
SUMMARY:PA 1.r. Bc. - Pôrodníctvo I. - Zasadačka
DESCRIPTION:PA 1.r. Bc. – Pôrodníctvo I. – prof. Bartkovjak – Zasadačka
URL:https://fsvladislava.sk/rozvrh/pa-1-r-bc-porodnictvo-i-zasadacka-13/
LOCATION:FNsP NZ – Zasadačka
CATEGORIES:Odbor Pôrodná asistencia,PA - 1. ročník Bc.
END:VEVENT
BEGIN:VEVENT
DTSTART;TZID=Europe/Bratislava:20260317T083000
DTEND;TZID=Europe/Bratislava:20260317T100000
DTSTAMP:20260425T173520
CREATED:20250903T060420Z
LAST-MODIFIED:20250903T060420Z
UID:47767-1773736200-1773741600@fsvladislava.sk
SUMMARY:FNsP NZ - Operatívna porada vedúcich zamestnancov - Zasadačka
DESCRIPTION:FNsP NZ – Operatívna porada vedúcich zamestnancov – Zasadačka
URL:https://fsvladislava.sk/rozvrh/fnsp-nz-operativna-porada-veducich-zamestnancov-zasadacka-61/
LOCATION:FNsP NZ – Zasadačka
CATEGORIES:FNsP NZ
END:VEVENT
BEGIN:VEVENT
DTSTART;TZID=Europe/Bratislava:20260317T090000
DTEND;TZID=Europe/Bratislava:20260317T153000
DTSTAMP:20260425T173520
CREATED:20250123T064032Z
LAST-MODIFIED:20260202T054607Z
UID:46807-1773738000-1773761400@fsvladislava.sk
SUMMARY:OŠE 2.r. Bc. - Dietetika  - Kinosála
DESCRIPTION:OŠE 2.r. Bc. – Prednáška: Dietetika – PhDr. Bystrická\, PhD. – Kinosála
URL:https://fsvladislava.sk/rozvrh/ose-2-r-bc-prednaska-kinosala/
LOCATION:FNsP NZ  – Kinosála
CATEGORIES:Odbor Ošetrovateľstvo,OŠE - 2. ročník Bc.
END:VEVENT
BEGIN:VEVENT
DTSTART;TZID=Europe/Bratislava:20260317T100000
DTEND;TZID=Europe/Bratislava:20260317T150000
DTSTAMP:20260425T173520
CREATED:20260310T090738Z
LAST-MODIFIED:20260310T090738Z
UID:49778-1773741600-1773759600@fsvladislava.sk
SUMMARY:FNsP NZ - DRG - Zasadačka
DESCRIPTION:FNsP NZ – DRG – Zasadačka
URL:https://fsvladislava.sk/rozvrh/fnsp-nz-drg-zasadacka-9/
LOCATION:FNsP NZ – Zasadačka
CATEGORIES:FNsP NZ
END:VEVENT
BEGIN:VEVENT
DTSTART;TZID=Europe/Bratislava:20260317T150000
DTEND;TZID=Europe/Bratislava:20260317T150000
DTSTAMP:20260425T173520
CREATED:20260227T071733Z
LAST-MODIFIED:20260227T071733Z
UID:49695-1773759600-1773759600@fsvladislava.sk
SUMMARY:OŠE 1.r. Bc. - SK ANF a Zdravotnícka terminológia  - Modrý dom SZŠ
DESCRIPTION:OŠE 1.r. Bc. – Skúška: ANF a Zdravotnícka terminológia – Dr. Kocsis – Modrý dom SZŠ
URL:https://fsvladislava.sk/rozvrh/ose-1-r-bc-sk-anf-a-zdravotnicka-terminologia-modry-dom-szs-23/
LOCATION:SZŠ EK – Modrý dom
CATEGORIES:Odbor Ošetrovateľstvo,OŠE - 1. ročník Bc.
END:VEVENT
BEGIN:VEVENT
DTSTART;TZID=Europe/Bratislava:20260318T090000
DTEND;TZID=Europe/Bratislava:20260318T150000
DTSTAMP:20260425T173520
CREATED:20260121T064708Z
LAST-MODIFIED:20260121T064708Z
UID:49286-1773824400-1773846000@fsvladislava.sk
SUMMARY:OŠE 2.r. Bc. - Interná medicína a ošetrovateľstvo v internej medicíne I. - Kinosála
DESCRIPTION:OŠE 2.r. Bc. – Interná medicína a ošetrovateľstvo v internej medicíne I. – MUDr. Borbély\, PhD. – Kinosála
URL:https://fsvladislava.sk/rozvrh/ose-2-r-bc-interna-medicina-a-osetrovatelstvo-v-internej-medicine-i-kinosala/
LOCATION:FNsP NZ  – Kinosála
CATEGORIES:Odbor Ošetrovateľstvo,OŠE - 2. ročník Bc.
END:VEVENT
BEGIN:VEVENT
DTSTART;TZID=Europe/Bratislava:20260318T093000
DTEND;TZID=Europe/Bratislava:20260318T130000
DTSTAMP:20260425T173520
CREATED:20260311T083524Z
LAST-MODIFIED:20260317T074221Z
UID:49781-1773826200-1773838800@fsvladislava.sk
SUMMARY:Fakulta sv. Ladislava - SZŠ - Zasadačka
DESCRIPTION:Fakulta sv. Ladislava – SZŠ – Zasadačka
URL:https://fsvladislava.sk/rozvrh/fakulta-sv-ladislava-szs-zasadacka/
LOCATION:FNsP NZ – Zasadačka
CATEGORIES:Fakulta
END:VEVENT
BEGIN:VEVENT
DTSTART;TZID=Europe/Bratislava:20260318T150000
DTEND;TZID=Europe/Bratislava:20260318T150000
DTSTAMP:20260425T173520
CREATED:20260227T071811Z
LAST-MODIFIED:20260227T071811Z
UID:49697-1773846000-1773846000@fsvladislava.sk
SUMMARY:OŠE 1.r. Bc. - SK ANF a Zdravotnícka terminológia  - Modrý dom SZŠ
DESCRIPTION:OŠE 1.r. Bc. – Skúška: ANF a Zdravotnícka terminológia – Dr. Kocsis – Modrý dom SZŠ
URL:https://fsvladislava.sk/rozvrh/ose-1-r-bc-sk-anf-a-zdravotnicka-terminologia-modry-dom-szs-24/
LOCATION:SZŠ EK – Modrý dom
CATEGORIES:Odbor Ošetrovateľstvo,OŠE - 1. ročník Bc.
END:VEVENT
BEGIN:VEVENT
DTSTART;TZID=Europe/Bratislava:20260319T090000
DTEND;TZID=Europe/Bratislava:20260319T090000
DTSTAMP:20260425T173520
CREATED:20260113T132801Z
LAST-MODIFIED:20260113T132801Z
UID:49139-1773910800-1773910800@fsvladislava.sk
SUMMARY:OŠE 2.r. Bc. - Ošetrovateľstvo vo fyzioterapii - Kinosála
DESCRIPTION:OŠE 2.r. Bc. – Ošetrovateľstvo vo fyzioterapii – PhDr. M. Vavro\, PhD. – Kinosála
URL:https://fsvladislava.sk/rozvrh/ose-2-r-bc-osetrovatelstvo-vo-fyzioterapii-kinosala/
LOCATION:FNsP NZ  – Kinosála
CATEGORIES:Odbor Ošetrovateľstvo,OŠE - 2. ročník Bc.
END:VEVENT
BEGIN:VEVENT
DTSTART;TZID=Europe/Bratislava:20260319T090000
DTEND;TZID=Europe/Bratislava:20260319T153000
DTSTAMP:20260425T173520
CREATED:20250402T052253Z
LAST-MODIFIED:20260128T130018Z
UID:47209-1773910800-1773934200@fsvladislava.sk
SUMMARY:PA 3.r. Bc. – Analgézia\, anestézia a resuscitácia - Zasadačka
DESCRIPTION:PA 3.r. Bc. – Analgézia\, anestézia a resuscitácia – MUDr. Hajnovič – Zasadačka
URL:https://fsvladislava.sk/rozvrh/pa-3-r-bc-sk-analgezia-anestezia-a-resuscitacia-seminarna-miestnost/
LOCATION:FNsP NZ – Zasadačka
CATEGORIES:Odbor Pôrodná asistencia,PA - 3. ročník Bc.
END:VEVENT
BEGIN:VEVENT
DTSTART;TZID=Europe/Bratislava:20260320T083000
DTEND;TZID=Europe/Bratislava:20260320T150000
DTSTAMP:20260425T173520
CREATED:20260212T100020Z
LAST-MODIFIED:20260212T100020Z
UID:49591-1773995400-1774018800@fsvladislava.sk
SUMMARY:FNsP NZ - Kurz respirácie – Novorodenecká Klinika - Zasadačka
DESCRIPTION:FNsP NZ – Kurz respirácie – Novorodenecká Klinika – Zasadačka
URL:https://fsvladislava.sk/rozvrh/fnsp-nz-kurz-respiracie-novorodenecka-klinika-zasadacka/
LOCATION:FNsP NZ – Zasadačka
CATEGORIES:FNsP NZ
END:VEVENT
BEGIN:VEVENT
DTSTART;TZID=Europe/Bratislava:20260320T110000
DTEND;TZID=Europe/Bratislava:20260320T110000
DTSTAMP:20260425T173520
CREATED:20260216T124020Z
LAST-MODIFIED:20260216T124020Z
UID:49612-1774004400-1774004400@fsvladislava.sk
SUMMARY:PA 3.r. Bc. – OT SK Starostlivosť o novorodenca a dojča II. - Seminárna miestnosť
DESCRIPTION:PA 3.r. Bc. – OT Skúška: Starostlivosť o novorodenca a dojča II. – Mgr. Galková – Seminárna miestnosť
URL:https://fsvladislava.sk/rozvrh/pa-3-r-bc-ot-sk-starostlivost-o-novorodenca-a-dojca-ii-seminarna-miestnost/
LOCATION:FNsP NZ  – Seminárna miestnosť
CATEGORIES:Odbor Pôrodná asistencia,PA - 3. ročník Bc.
END:VEVENT
BEGIN:VEVENT
DTSTART;TZID=Europe/Bratislava:20260320T120000
DTEND;TZID=Europe/Bratislava:20260320T183000
DTSTAMP:20260425T173520
CREATED:20260202T135929Z
LAST-MODIFIED:20260202T135929Z
UID:49446-1774008000-1774031400@fsvladislava.sk
SUMMARY:SP 2.r. Bc. - SP ochrana  a sociálna kuratela - Kinosála
DESCRIPTION:SP 2.r. Bc. –  SP ochrana a sociálna kuratela – doc. Mgr. Ludvigh Cintulová\, PhD.\, univ. doc. – Kinosála
URL:https://fsvladislava.sk/rozvrh/sp-2-r-bc-sp-ochrana-a-socialna-kuratela-kinosala/
LOCATION:FNsP NZ  – Kinosála
CATEGORIES:Odbor Sociálna práca,SP - 2. ročník Bc.
END:VEVENT
BEGIN:VEVENT
DTSTART;TZID=Europe/Bratislava:20260320T180000
DTEND;TZID=Europe/Bratislava:20260320T183000
DTSTAMP:20260425T173520
CREATED:20260304T113625Z
LAST-MODIFIED:20260304T113625Z
UID:49727-1774029600-1774031400@fsvladislava.sk
SUMMARY:SP 3.r. Bc. -SK - SP s osobami s ťažkým zdravotným postihnutím - Elix
DESCRIPTION:SP 3.r. Bc. – Skúśka: SP s osobami s ťažkým zdravotným postihnutím – doc. Bundzelová – Online Elix
URL:https://fsvladislava.sk/rozvrh/sp-3-r-bc-sk-sp-s-osobami-s-tazkym-zdravotnym-postihnutim-elix-5/
LOCATION:Online – Elix
CATEGORIES:Odbor Sociálna práca,SP - 3. ročník Bc.
END:VEVENT
BEGIN:VEVENT
DTSTART;TZID=Europe/Bratislava:20260321T080000
DTEND;TZID=Europe/Bratislava:20260321T143000
DTSTAMP:20260425T173520
CREATED:20260202T142411Z
LAST-MODIFIED:20260202T142411Z
UID:49480-1774080000-1774103400@fsvladislava.sk
SUMMARY:SP 1.r. Mgr. - Sociálne poradenstvo - Zasadačka
DESCRIPTION:SP 1.r. Mgr. – Sociálne poradenstvo – doc. Mgr. Ludvigh Cintulová\, PhD. univ. prof. – Zasadačka
URL:https://fsvladislava.sk/rozvrh/sp-1-r-mgr-socialne-poradenstvo-zasadacka/
LOCATION:FNsP NZ – Zasadačka
CATEGORIES:Odbor Sociálna práca,SP - 1. ročník Mgr.
END:VEVENT
BEGIN:VEVENT
DTSTART;TZID=Europe/Bratislava:20260321T090000
DTEND;TZID=Europe/Bratislava:20260321T093000
DTSTAMP:20260425T173520
CREATED:20260304T113649Z
LAST-MODIFIED:20260304T113649Z
UID:49729-1774083600-1774085400@fsvladislava.sk
SUMMARY:SP 3.r. Bc. -SK - SP s osobami s ťažkým zdravotným postihnutím - Elix
DESCRIPTION:SP 3.r. Bc. – Skúśka: SP s osobami s ťažkým zdravotným postihnutím – doc. Bundzelová – Online Elix
URL:https://fsvladislava.sk/rozvrh/sp-3-r-bc-sk-sp-s-osobami-s-tazkym-zdravotnym-postihnutim-elix-6/
LOCATION:Online – Elix
CATEGORIES:Odbor Sociálna práca,SP - 3. ročník Bc.
END:VEVENT
BEGIN:VEVENT
DTSTART;TZID=Europe/Bratislava:20260321T090000
DTEND;TZID=Europe/Bratislava:20260321T150000
DTSTAMP:20260425T173520
CREATED:20240116T113219Z
LAST-MODIFIED:20260211T133520Z
UID:42473-1774083600-1774105200@fsvladislava.sk
SUMMARY:OŠE 1.r. Bc. - Patológia - Kinosála
DESCRIPTION:OŠE 1.r. Bc. – Patológia – MUDr. Alexandra Budayová – Kinosála
URL:https://fsvladislava.sk/rozvrh/ose-1-r-bc-patologia-kinosala/
LOCATION:FNsP NZ  – Kinosála
CATEGORIES:Odbor Ošetrovateľstvo,OŠE - 1. ročník Bc.
END:VEVENT
BEGIN:VEVENT
DTSTART;TZID=Europe/Bratislava:20260321T090000
DTEND;TZID=Europe/Bratislava:20260321T150000
DTSTAMP:20260425T173520
CREATED:20260211T133741Z
LAST-MODIFIED:20260212T141457Z
UID:49585-1774083600-1774105200@fsvladislava.sk
SUMMARY:PA 1.r. Bc. - Patol.ant. a patol. fyziolog - Kinosála
DESCRIPTION:PA 1.r. Bc. – Patol.ant. a patol. fyziolog – MUDr. Alexandra Budayová – Kinosála
URL:https://fsvladislava.sk/rozvrh/pa-1-r-bc-patologia-kinosala/
LOCATION:FNsP NZ  – Kinosála
CATEGORIES:Odbor Pôrodná asistencia,PA - 1. ročník Bc.
END:VEVENT
BEGIN:VEVENT
DTSTART;TZID=Europe/Bratislava:20260323T090000
DTEND;TZID=Europe/Bratislava:20260323T140000
DTSTAMP:20260425T173520
CREATED:20250916T093630Z
LAST-MODIFIED:20260108T064548Z
UID:48043-1774256400-1774274400@fsvladislava.sk
SUMMARY:PA 2.r. Bc. - Gynekológia III. - Seminárna miestnosť
DESCRIPTION:PA 2.r. Bc. – Gynekológia III. – Dr. Resutíková – Seminárna miestnosť
URL:https://fsvladislava.sk/rozvrh/pa-2-r-bc-gynekologia-ii-zasadacka-11/
LOCATION:FNsP NZ  – Seminárna miestnosť
CATEGORIES:Odbor Pôrodná asistencia,PA - 2. ročník Bc.
END:VEVENT
BEGIN:VEVENT
DTSTART;TZID=Europe/Bratislava:20260323T140000
DTEND;TZID=Europe/Bratislava:20260323T183000
DTSTAMP:20260425T173520
CREATED:20250916T094316Z
LAST-MODIFIED:20260108T065142Z
UID:48055-1774274400-1774290600@fsvladislava.sk
SUMMARY:PA 2.r. Bc. - Pôrodníctvo III. - Seminárna miestnosť
DESCRIPTION:PA 2.r. Bc. – Pôrodníctvo III. – prof. Bartkovjak – Seminárna miestnosť
URL:https://fsvladislava.sk/rozvrh/pa-2-r-bc-porodnictvo-ii-zasadacka-13/
LOCATION:FNsP NZ  – Seminárna miestnosť
CATEGORIES:Odbor Pôrodná asistencia,PA - 2. ročník Bc.
END:VEVENT
BEGIN:VEVENT
DTSTART;TZID=Europe/Bratislava:20260323T150000
DTEND;TZID=Europe/Bratislava:20260323T150000
DTSTAMP:20260425T173520
CREATED:20260227T071832Z
LAST-MODIFIED:20260227T071832Z
UID:49699-1774278000-1774278000@fsvladislava.sk
SUMMARY:OŠE 1.r. Bc. - SK ANF a Zdravotnícka terminológia  - Modrý dom SZŠ
DESCRIPTION:OŠE 1.r. Bc. – Skúška: ANF a Zdravotnícka terminológia – Dr. Kocsis – Modrý dom SZŠ
URL:https://fsvladislava.sk/rozvrh/ose-1-r-bc-sk-anf-a-zdravotnicka-terminologia-modry-dom-szs-25/
LOCATION:SZŠ EK – Modrý dom
CATEGORIES:Odbor Ošetrovateľstvo,OŠE - 1. ročník Bc.
END:VEVENT
BEGIN:VEVENT
DTSTART;TZID=Europe/Bratislava:20260323T190000
DTEND;TZID=Europe/Bratislava:20260323T190000
DTSTAMP:20260425T173520
CREATED:20260319T062929Z
LAST-MODIFIED:20260319T062929Z
UID:49837-1774292400-1774292400@fsvladislava.sk
SUMMARY:OŠE 2.r. Mgr. - SK Manažment ošetrovateľstva II.  - Elix
DESCRIPTION:OŠE 2.r. Mgr. – Skúška: Manažment ošetrovateľstva II.  – doc. Koňošová – Online-Elix
URL:https://fsvladislava.sk/rozvrh/ose-2-r-mgr-sk-manazment-osetrovatelstva-ii-elix-2/
LOCATION:Online – Elix
CATEGORIES:Odbor Ošetrovateľstvo,OŠE - 2. ročník Mgr.
END:VEVENT
BEGIN:VEVENT
DTSTART;TZID=Europe/Bratislava:20260324T083000
DTEND;TZID=Europe/Bratislava:20260324T100000
DTSTAMP:20260425T173520
CREATED:20250903T060447Z
LAST-MODIFIED:20250903T060447Z
UID:47769-1774341000-1774346400@fsvladislava.sk
SUMMARY:FNsP NZ - Operatívna porada vedúcich zamestnancov - Zasadačka
DESCRIPTION:FNsP NZ – Operatívna porada vedúcich zamestnancov – Zasadačka
URL:https://fsvladislava.sk/rozvrh/fnsp-nz-operativna-porada-veducich-zamestnancov-zasadacka-62/
LOCATION:FNsP NZ – Zasadačka
CATEGORIES:FNsP NZ
END:VEVENT
BEGIN:VEVENT
DTSTART;TZID=Europe/Bratislava:20260324T090000
DTEND;TZID=Europe/Bratislava:20260324T090000
DTSTAMP:20260425T173520
CREATED:20231026T065455Z
LAST-MODIFIED:20260113T110045Z
UID:41757-1774342800-1774342800@fsvladislava.sk
SUMMARY:OŠE 1.r. Bc. - Hygiena a preventívna medicína - Kinosála
DESCRIPTION:OŠE 1.r. Bc. – Prednáška – Hygiena a preventívna medicína  PhDr. P. Hoppan – Kinosála
URL:https://fsvladislava.sk/rozvrh/ose-1-r-bc-sk-prva-pomoc-kinosala-2/
LOCATION:FNsP NZ  – Kinosála
CATEGORIES:Odbor Ošetrovateľstvo,OŠE - 1. ročník Bc.
END:VEVENT
BEGIN:VEVENT
DTSTART;TZID=Europe/Bratislava:20260324T090000
DTEND;TZID=Europe/Bratislava:20260324T140000
DTSTAMP:20260425T173520
CREATED:20260108T064605Z
LAST-MODIFIED:20260108T064605Z
UID:48954-1774342800-1774360800@fsvladislava.sk
SUMMARY:PA 2.r. Bc. - Gynekológia III. - Seminárna miestnosť
DESCRIPTION:PA 2.r. Bc. – Gynekológia III. – Dr. Resutíková – Seminárna miestnosť
URL:https://fsvladislava.sk/rozvrh/pa-2-r-bc-gynekologia-iii-seminarna-miestnost/
LOCATION:FNsP NZ  – Seminárna miestnosť
CATEGORIES:Odbor Pôrodná asistencia,PA - 2. ročník Bc.
END:VEVENT
BEGIN:VEVENT
DTSTART;TZID=Europe/Bratislava:20260324T130000
DTEND;TZID=Europe/Bratislava:20260324T130000
DTSTAMP:20260425T173520
CREATED:20260203T141855Z
LAST-MODIFIED:20260203T142429Z
UID:49526-1774357200-1774357200@fsvladislava.sk
SUMMARY:OŠE 1.r. Bc. - SK Ošetrovateľské postupy a techniky I. - Suterén FNsP NZ
DESCRIPTION:OŠE 1.r. Bc. – Skúśka: Ošetrovateľské postupy a techniky I. – Dr. Nagyová – Suterén FNsP NZ
URL:https://fsvladislava.sk/rozvrh/ose-1-r-bc-sk-osetrovatelske-postupy-a-techniky-i-suteren-fnsp-nz/
LOCATION:suterén FNsP NZ
CATEGORIES:Odbor Ošetrovateľstvo,OŠE - 1. ročník Bc.
END:VEVENT
BEGIN:VEVENT
DTSTART;TZID=Europe/Bratislava:20260324T140000
DTEND;TZID=Europe/Bratislava:20260324T183000
DTSTAMP:20260425T173520
CREATED:20260108T065204Z
LAST-MODIFIED:20260108T065204Z
UID:48963-1774360800-1774377000@fsvladislava.sk
SUMMARY:PA 2.r. Bc. - Pôrodníctvo III. - Seminárna miestnosť
DESCRIPTION:PA 2.r. Bc. – Pôrodníctvo III. – prof. Bartkovjak – Seminárna miestnosť
URL:https://fsvladislava.sk/rozvrh/pa-2-r-bc-porodnictvo-iii-seminarna-miestnost/
LOCATION:FNsP NZ  – Seminárna miestnosť
CATEGORIES:Odbor Pôrodná asistencia,PA - 2. ročník Bc.
END:VEVENT
END:VCALENDAR